Workbook

Sheet タスク一覧
A1: タスク管理表
A3: チーム名 | H3: 基準日 | L3: 判定に使う日 | N3: =IF(J3="",TODAY(),J3)
A4: 知らせる日数 | C4: 3 | D4: 基準日が空欄のときは、今日の日付で判定します。期限まで「知らせる日数」以内のタスクは「まもなく」になります。
A6: 状況別の件数 | C6: 未着手 | D6: =IF(COUNTA($B$10:$B$49)=0,"",COUNTIF($J$10:$J$49,"未着手")+COUNTIFS($B$10:$B$49,"<>",$J$10:$J$49,"")) | E6: 進行中 | F6: =IF(COUNTA($B$10:$B$49)=0,"",COUNTIF($J$10:$J$49,"進行中")) | G6: 確認待ち | H6: =IF(COUNTA($B$10:$B$49)=0,"",COUNTIF($J$10:$J$49,"確認待ち")) | I6: 保留 | J6: =IF(COUNTA($B$10:$B$49)=0,"",COUNTIF($J$10:$J$49,"保留")) | K6: 完了 | L6: =IF(COUNTA($B$10:$B$49)=0,"",COUNTIF($J$10:$J$49,"完了")) | M6: 中止 | N6: =IF(COUNTA($B$10:$B$49)=0,"",COUNTIF($J$10:$J$49,"中止")) | O6: 合計 | P6: =IF(COUNTA($B$10:$B$49)=0,"",COUNTA($B$10:$B$49))
A7: 判定別の件数 | C7: 期限切れ | D7: =IF(COUNTA($B$10:$B$49)=0,"",COUNTIF($M$10:$M$49,"期限切れ")) | E7: まもなく | F7: =IF(COUNTA($B$10:$B$49)=0,"",COUNTIF($M$10:$M$49,"まもなく")) | G7: 期限内 | H7: =IF(COUNTA($B$10:$B$49)=0,"",COUNTIF($M$10:$M$49,"期限内")) | I7: 期限なし | J7: =IF(COUNTA($B$10:$B$49)=0,"",COUNTIF($M$10:$M$49,"期限なし")) | K7: 未完了 | L7: =IF(COUNTA($B$10:$B$49)=0,"",COUNTA($B$10:$B$49)-COUNTIF($J$10:$J$49,"完了")-COUNTIF($J$10:$J$49,"中止")) | M7: 優先度「高」の未完了 | P7: =IF(COUNTA($B$10:$B$49)=0,"",COUNTIFS($B$10:$B$49,"<>",$G$10:$G$49,"高")-COUNTIFS($G$10:$G$49,"高",$J$10:$J$49,"完了")-COUNTIFS($G$10:$G$49,"高",$J$10:$J$49,"中止"))
A9: No. | B9: タスク（何を・どこまで） | F9: 担当 | G9: 優先度 | H9: 登録日 | I9: 期限 | J9: 状況 | K9: 完了日 | L9: 残り日数 | M9: 判定 | N9: メモ
L10: =IF(OR(B10="",I10="",J10="完了",J10="中止"),"",I10-$N$3) | M10: =IF(B10="","",IF(J10="完了","完了",IF(J10="中止","中止",IF(J10="保留","保留",IF(I10="","期限なし",IF(I10<$N$3,"期限切れ",IF(I10-$N$3<=$C$4,"まもなく","期限内")))))))
L11: =IF(OR(B11="",I11="",J11="完了",J11="中止"),"",I11-$N$3) | M11: =IF(B11="","",IF(J11="完了","完了",IF(J11="中止","中止",IF(J11="保留","保留",IF(I11="","期限なし",IF(I11<$N$3,"期限切れ",IF(I11-$N$3<=$C$4,"まもなく","期限内")))))))
L12: =IF(OR(B12="",I12="",J12="完了",J12="中止"),"",I12-$N$3) | M12: =IF(B12="","",IF(J12="完了","完了",IF(J12="中止","中止",IF(J12="保留","保留",IF(I12="","期限なし",IF(I12<$N$3,"期限切れ",IF(I12-$N$3<=$C$4,"まもなく","期限内")))))))
L13: =IF(OR(B13="",I13="",J13="完了",J13="中止"),"",I13-$N$3) | M13: =IF(B13="","",IF(J13="完了","完了",IF(J13="中止","中止",IF(J13="保留","保留",IF(I13="","期限なし",IF(I13<$N$3,"期限切れ",IF(I13-$N$3<=$C$4,"まもなく","期限内")))))))
L14: =IF(OR(B14="",I14="",J14="完了",J14="中止"),"",I14-$N$3) | M14: =IF(B14="","",IF(J14="完了","完了",IF(J14="中止","中止",IF(J14="保留","保留",IF(I14="","期限なし",IF(I14<$N$3,"期限切れ",IF(I14-$N$3<=$C$4,"まもなく","期限内")))))))
L15: =IF(OR(B15="",I15="",J15="完了",J15="中止"),"",I15-$N$3) | M15: =IF(B15="","",IF(J15="完了","完了",IF(J15="中止","中止",IF(J15="保留","保留",IF(I15="","期限なし",IF(I15<$N$3,"期限切れ",IF(I15-$N$3<=$C$4,"まもなく","期限内")))))))
L16: =IF(OR(B16="",I16="",J16="完了",J16="中止"),"",I16-$N$3) | M16: =IF(B16="","",IF(J16="完了","完了",IF(J16="中止","中止",IF(J16="保留","保留",IF(I16="","期限なし",IF(I16<$N$3,"期限切れ",IF(I16-$N$3<=$C$4,"まもなく","期限内")))))))
L17: =IF(OR(B17="",I17="",J17="完了",J17="中止"),"",I17-$N$3) | M17: =IF(B17="","",IF(J17="完了","完了",IF(J17="中止","中止",IF(J17="保留","保留",IF(I17="","期限なし",IF(I17<$N$3,"期限切れ",IF(I17-$N$3<=$C$4,"まもなく","期限内")))))))
L18: =IF(OR(B18="",I18="",J18="完了",J18="中止"),"",I18-$N$3) | M18: =IF(B18="","",IF(J18="完了","完了",IF(J18="中止","中止",IF(J18="保留","保留",IF(I18="","期限なし",IF(I18<$N$3,"期限切れ",IF(I18-$N$3<=$C$4,"まもなく","期限内")))))))
L19: =IF(OR(B19="",I19="",J19="完了",J19="中止"),"",I19-$N$3) | M19: =IF(B19="","",IF(J19="完了","完了",IF(J19="中止","中止",IF(J19="保留","保留",IF(I19="","期限なし",IF(I19<$N$3,"期限切れ",IF(I19-$N$3<=$C$4,"まもなく","期限内")))))))
L20: =IF(OR(B20="",I20="",J20="完了",J20="中止"),"",I20-$N$3) | M20: =IF(B20="","",IF(J20="完了","完了",IF(J20="中止","中止",IF(J20="保留","保留",IF(I20="","期限なし",IF(I20<$N$3,"期限切れ",IF(I20-$N$3<=$C$4,"まもなく","期限内")))))))
L21: =IF(OR(B21="",I21="",J21="完了",J21="中止"),"",I21-$N$3) | M21: =IF(B21="","",IF(J21="完了","完了",IF(J21="中止","中止",IF(J21="保留","保留",IF(I21="","期限なし",IF(I21<$N$3,"期限切れ",IF(I21-$N$3<=$C$4,"まもなく","期限内")))))))
... L49: =IF(OR(B49="",I49="",J49="完了",J49="中止"),"",I49-$N$3) | M49: =IF(B49="","",IF(J49="完了","完了",IF(J49="中止","中止",IF(J49="保留","保留",IF(I49="","期限なし",IF(I49<$N$3,"期限切れ",IF(I49-$N$3<=$C$4,"まもなく","期限内")))))))
A51: 優先度（高・中・低）と状況（未着手・進行中・確認待ち・保留・完了・中止）は一覧から選べます。色の付いた欄は数式で出ます。
A52: 判定：期限切れ＝期限を過ぎて終わっていない。まもなく＝期限まで「知らせる日数」以内。期限内＝それより先。期限なし＝期限が空欄。
A53: 完了にしたら完了日も入れます（毎週の振り返りの数に使います）。終わった行も消さずに残します。状況が空欄のタスクは未着手に数えます。
A54: 行が足りないときは、表の1行を行番号で選んでコピーし、右クリックの「コピーしたセルの挿入」で足すと、数式も一緒に入ります。

Sheet 担当者別・状況別
A1: 担当者別・状況別の件数
A3: チーム名 | C3: =IF('タスク一覧'!$C$3="","",'タスク一覧'!$C$3) | H3: 判定に使う日 | J3: ='タスク一覧'!$N$3 | M3: タスク一覧から数式で数えます。
A5: 1. 担当者別
A6: 担当者 | C6: 未着手 | D6: 進行中 | E6: 確認待ち | F6: 保留 | G6: 完了 | H6: 中止 | I6: 合計 | J6: 未完了 | K6: 期限切れ | L6: まもなく | M6: 「高」の 未完了 | N6: メモ
C7: =IF($A7="","",COUNTIFS('タスク一覧'!$F$10:$F$49,$A7,'タスク一覧'!$J$10:$J$49,"未着手")+COUNTIFS('タスク一覧'!$F$10:$F$49,$A7,'タスク一覧'!$B$10:$B$49,"<>",'タスク一覧'!$J$10:$J$49,"")) | D7: =IF($A7="","",COUNTIFS('タスク一覧'!$F$10:$F$49,$A7,'タスク一覧'!$J$10:$J$49,"進行中")) | E7: =IF($A7="","",COUNTIFS('タスク一覧'!$F$10:$F$49,$A7,'タスク一覧'!$J$10:$J$49,"確認待ち")) | F7: =IF($A7="","",COUNTIFS('タスク一覧'!$F$10:$F$49,$A7,'タスク一覧'!$J$10:$J$49,"保留")) | G7: =IF($A7="","",COUNTIFS('タスク一覧'!$F$10:$F$49,$A7,'タスク一覧'!$J$10:$J$49,"完了")) | H7: =IF($A7="","",COUNTIFS('タスク一覧'!$F$10:$F$49,$A7,'タスク一覧'!$J$10:$J$49,"中止")) | I7: =IF($A7="","",COUNTIFS('タスク一覧'!$F$10:$F$49,$A7,'タスク一覧'!$B$10:$B$49,"<>")) | J7: =IF($A7="","",I7-G7-H7) | K7: =IF($A7="","",COUNTIFS('タスク一覧'!$F$10:$F$49,$A7,'タスク一覧'!$M$10:$M$49,"期限切れ")) | L7: =IF($A7="","",COUNTIFS('タスク一覧'!$F$10:$F$49,$A7,'タスク一覧'!$M$10:$M$49,"まもなく")) | M7: =IF($A7="","",COUNTIFS('タスク一覧'!$F$10:$F$49,$A7,'タスク一覧'!$G$10:$G$49,"高",'タスク一覧'!$B$10:$B$49,"<>")-COUNTIFS('タスク一覧'!$F$10:$F$49,$A7,'タスク一覧'!$G$10:$G$49,"高",'タスク一覧'!$J$10:$J$49,"完了")-COUNTIFS('タスク一覧'!$F$10:$F$49,$A7,'タスク一覧'!$G$10:$G$49,"高",'タスク一覧'!$J$10:$J$49,"中止"))
C8: =IF($A8="","",COUNTIFS('タスク一覧'!$F$10:$F$49,$A8,'タスク一覧'!$J$10:$J$49,"未着手")+COUNTIFS('タスク一覧'!$F$10:$F$49,$A8,'タスク一覧'!$B$10:$B$49,"<>",'タスク一覧'!$J$10:$J$49,"")) | D8: =IF($A8="","",COUNTIFS('タスク一覧'!$F$10:$F$49,$A8,'タスク一覧'!$J$10:$J$49,"進行中")) | E8: =IF($A8="","",COUNTIFS('タスク一覧'!$F$10:$F$49,$A8,'タスク一覧'!$J$10:$J$49,"確認待ち")) | F8: =IF($A8="","",COUNTIFS('タスク一覧'!$F$10:$F$49,$A8,'タスク一覧'!$J$10:$J$49,"保留")) | G8: =IF($A8="","",COUNTIFS('タスク一覧'!$F$10:$F$49,$A8,'タスク一覧'!$J$10:$J$49,"完了")) | H8: =IF($A8="","",COUNTIFS('タスク一覧'!$F$10:$F$49,$A8,'タスク一覧'!$J$10:$J$49,"中止")) | I8: =IF($A8="","",COUNTIFS('タスク一覧'!$F$10:$F$49,$A8,'タスク一覧'!$B$10:$B$49,"<>")) | J8: =IF($A8="","",I8-G8-H8) | K8: =IF($A8="","",COUNTIFS('タスク一覧'!$F$10:$F$49,$A8,'タスク一覧'!$M$10:$M$49,"期限切れ")) | L8: =IF($A8="","",COUNTIFS('タスク一覧'!$F$10:$F$49,$A8,'タスク一覧'!$M$10:$M$49,"まもなく")) | M8: =IF($A8="","",COUNTIFS('タスク一覧'!$F$10:$F$49,$A8,'タスク一覧'!$G$10:$G$49,"高",'タスク一覧'!$B$10:$B$49,"<>")-COUNTIFS('タスク一覧'!$F$10:$F$49,$A8,'タスク一覧'!$G$10:$G$49,"高",'タスク一覧'!$J$10:$J$49,"完了")-COUNTIFS('タスク一覧'!$F$10:$F$49,$A8,'タスク一覧'!$G$10:$G$49,"高",'タスク一覧'!$J$10:$J$49,"中止"))
C9: =IF($A9="","",COUNTIFS('タスク一覧'!$F$10:$F$49,$A9,'タスク一覧'!$J$10:$J$49,"未着手")+COUNTIFS('タスク一覧'!$F$10:$F$49,$A9,'タスク一覧'!$B$10:$B$49,"<>",'タスク一覧'!$J$10:$J$49,"")) | D9: =IF($A9="","",COUNTIFS('タスク一覧'!$F$10:$F$49,$A9,'タスク一覧'!$J$10:$J$49,"進行中")) | E9: =IF($A9="","",COUNTIFS('タスク一覧'!$F$10:$F$49,$A9,'タスク一覧'!$J$10:$J$49,"確認待ち")) | F9: =IF($A9="","",COUNTIFS('タスク一覧'!$F$10:$F$49,$A9,'タスク一覧'!$J$10:$J$49,"保留")) | G9: =IF($A9="","",COUNTIFS('タスク一覧'!$F$10:$F$49,$A9,'タスク一覧'!$J$10:$J$49,"完了")) | H9: =IF($A9="","",COUNTIFS('タスク一覧'!$F$10:$F$49,$A9,'タスク一覧'!$J$10:$J$49,"中止")) | I9: =IF($A9="","",COUNTIFS('タスク一覧'!$F$10:$F$49,$A9,'タスク一覧'!$B$10:$B$49,"<>")) | J9: =IF($A9="","",I9-G9-H9) | K9: =IF($A9="","",COUNTIFS('タスク一覧'!$F$10:$F$49,$A9,'タスク一覧'!$M$10:$M$49,"期限切れ")) | L9: =IF($A9="","",COUNTIFS('タスク一覧'!$F$10:$F$49,$A9,'タスク一覧'!$M$10:$M$49,"まもなく")) | M9: =IF($A9="","",COUNTIFS('タスク一覧'!$F$10:$F$49,$A9,'タスク一覧'!$G$10:$G$49,"高",'タスク一覧'!$B$10:$B$49,"<>")-COUNTIFS('タスク一覧'!$F$10:$F$49,$A9,'タスク一覧'!$G$10:$G$49,"高",'タスク一覧'!$J$10:$J$49,"完了")-COUNTIFS('タスク一覧'!$F$10:$F$49,$A9,'タスク一覧'!$G$10:$G$49,"高",'タスク一覧'!$J$10:$J$49,"中止"))
C10: =IF($A10="","",COUNTIFS('タスク一覧'!$F$10:$F$49,$A10,'タスク一覧'!$J$10:$J$49,"未着手")+COUNTIFS('タスク一覧'!$F$10:$F$49,$A10,'タスク一覧'!$B$10:$B$49,"<>",'タスク一覧'!$J$10:$J$49,"")) | D10: =IF($A10="","",COUNTIFS('タスク一覧'!$F$10:$F$49,$A10,'タスク一覧'!$J$10:$J$49,"進行中")) | E10: =IF($A10="","",COUNTIFS('タスク一覧'!$F$10:$F$49,$A10,'タスク一覧'!$J$10:$J$49,"確認待ち")) | F10: =IF($A10="","",COUNTIFS('タスク一覧'!$F$10:$F$49,$A10,'タスク一覧'!$J$10:$J$49,"保留")) | G10: =IF($A10="","",COUNTIFS('タスク一覧'!$F$10:$F$49,$A10,'タスク一覧'!$J$10:$J$49,"完了")) | H10: =IF($A10="","",COUNTIFS('タスク一覧'!$F$10:$F$49,$A10,'タスク一覧'!$J$10:$J$49,"中止")) | I10: =IF($A10="","",COUNTIFS('タスク一覧'!$F$10:$F$49,$A10,'タスク一覧'!$B$10:$B$49,"<>")) | J10: =IF($A10="","",I10-G10-H10) | K10: =IF($A10="","",COUNTIFS('タスク一覧'!$F$10:$F$49,$A10,'タスク一覧'!$M$10:$M$49,"期限切れ")) | L10: =IF($A10="","",COUNTIFS('タスク一覧'!$F$10:$F$49,$A10,'タスク一覧'!$M$10:$M$49,"まもなく")) | M10: =IF($A10="","",COUNTIFS('タスク一覧'!$F$10:$F$49,$A10,'タスク一覧'!$G$10:$G$49,"高",'タスク一覧'!$B$10:$B$49,"<>")-COUNTIFS('タスク一覧'!$F$10:$F$49,$A10,'タスク一覧'!$G$10:$G$49,"高",'タスク一覧'!$J$10:$J$49,"完了")-COUNTIFS('タスク一覧'!$F$10:$F$49,$A10,'タスク一覧'!$G$10:$G$49,"高",'タスク一覧'!$J$10:$J$49,"中止"))
C11: =IF($A11="","",COUNTIFS('タスク一覧'!$F$10:$F$49,$A11,'タスク一覧'!$J$10:$J$49,"未着手")+COUNTIFS('タスク一覧'!$F$10:$F$49,$A11,'タスク一覧'!$B$10:$B$49,"<>",'タスク一覧'!$J$10:$J$49,"")) | D11: =IF($A11="","",COUNTIFS('タスク一覧'!$F$10:$F$49,$A11,'タスク一覧'!$J$10:$J$49,"進行中")) | E11: =IF($A11="","",COUNTIFS('タスク一覧'!$F$10:$F$49,$A11,'タスク一覧'!$J$10:$J$49,"確認待ち")) | F11: =IF($A11="","",COUNTIFS('タスク一覧'!$F$10:$F$49,$A11,'タスク一覧'!$J$10:$J$49,"保留")) | G11: =IF($A11="","",COUNTIFS('タスク一覧'!$F$10:$F$49,$A11,'タスク一覧'!$J$10:$J$49,"完了")) | H11: =IF($A11="","",COUNTIFS('タスク一覧'!$F$10:$F$49,$A11,'タスク一覧'!$J$10:$J$49,"中止")) | I11: =IF($A11="","",COUNTIFS('タスク一覧'!$F$10:$F$49,$A11,'タスク一覧'!$B$10:$B$49,"<>")) | J11: =IF($A11="","",I11-G11-H11) | K11: =IF($A11="","",COUNTIFS('タスク一覧'!$F$10:$F$49,$A11,'タスク一覧'!$M$10:$M$49,"期限切れ")) | L11: =IF($A11="","",COUNTIFS('タスク一覧'!$F$10:$F$49,$A11,'タスク一覧'!$M$10:$M$49,"まもなく")) | M11: =IF($A11="","",COUNTIFS('タスク一覧'!$F$10:$F$49,$A11,'タスク一覧'!$G$10:$G$49,"高",'タスク一覧'!$B$10:$B$49,"<>")-COUNTIFS('タスク一覧'!$F$10:$F$49,$A11,'タスク一覧'!$G$10:$G$49,"高",'タスク一覧'!$J$10:$J$49,"完了")-COUNTIFS('タスク一覧'!$F$10:$F$49,$A11,'タスク一覧'!$G$10:$G$49,"高",'タスク一覧'!$J$10:$J$49,"中止"))
C12: =IF($A12="","",COUNTIFS('タスク一覧'!$F$10:$F$49,$A12,'タスク一覧'!$J$10:$J$49,"未着手")+COUNTIFS('タスク一覧'!$F$10:$F$49,$A12,'タスク一覧'!$B$10:$B$49,"<>",'タスク一覧'!$J$10:$J$49,"")) | D12: =IF($A12="","",COUNTIFS('タスク一覧'!$F$10:$F$49,$A12,'タスク一覧'!$J$10:$J$49,"進行中")) | E12: =IF($A12="","",COUNTIFS('タスク一覧'!$F$10:$F$49,$A12,'タスク一覧'!$J$10:$J$49,"確認待ち")) | F12: =IF($A12="","",COUNTIFS('タスク一覧'!$F$10:$F$49,$A12,'タスク一覧'!$J$10:$J$49,"保留")) | G12: =IF($A12="","",COUNTIFS('タスク一覧'!$F$10:$F$49,$A12,'タスク一覧'!$J$10:$J$49,"完了")) | H12: =IF($A12="","",COUNTIFS('タスク一覧'!$F$10:$F$49,$A12,'タスク一覧'!$J$10:$J$49,"中止")) | I12: =IF($A12="","",COUNTIFS('タスク一覧'!$F$10:$F$49,$A12,'タスク一覧'!$B$10:$B$49,"<>")) | J12: =IF($A12="","",I12-G12-H12) | K12: =IF($A12="","",COUNTIFS('タスク一覧'!$F$10:$F$49,$A12,'タスク一覧'!$M$10:$M$49,"期限切れ")) | L12: =IF($A12="","",COUNTIFS('タスク一覧'!$F$10:$F$49,$A12,'タスク一覧'!$M$10:$M$49,"まもなく")) | M12: =IF($A12="","",COUNTIFS('タスク一覧'!$F$10:$F$49,$A12,'タスク一覧'!$G$10:$G$49,"高",'タスク一覧'!$B$10:$B$49,"<>")-COUNTIFS('タスク一覧'!$F$10:$F$49,$A12,'タスク一覧'!$G$10:$G$49,"高",'タスク一覧'!$J$10:$J$49,"完了")-COUNTIFS('タスク一覧'!$F$10:$F$49,$A12,'タスク一覧'!$G$10:$G$49,"高",'タスク一覧'!$J$10:$J$49,"中止"))
C13: =IF($A13="","",COUNTIFS('タスク一覧'!$F$10:$F$49,$A13,'タスク一覧'!$J$10:$J$49,"未着手")+COUNTIFS('タスク一覧'!$F$10:$F$49,$A13,'タスク一覧'!$B$10:$B$49,"<>",'タスク一覧'!$J$10:$J$49,"")) | D13: =IF($A13="","",COUNTIFS('タスク一覧'!$F$10:$F$49,$A13,'タスク一覧'!$J$10:$J$49,"進行中")) | E13: =IF($A13="","",COUNTIFS('タスク一覧'!$F$10:$F$49,$A13,'タスク一覧'!$J$10:$J$49,"確認待ち")) | F13: =IF($A13="","",COUNTIFS('タスク一覧'!$F$10:$F$49,$A13,'タスク一覧'!$J$10:$J$49,"保留")) | G13: =IF($A13="","",COUNTIFS('タスク一覧'!$F$10:$F$49,$A13,'タスク一覧'!$J$10:$J$49,"完了")) | H13: =IF($A13="","",COUNTIFS('タスク一覧'!$F$10:$F$49,$A13,'タスク一覧'!$J$10:$J$49,"中止")) | I13: =IF($A13="","",COUNTIFS('タスク一覧'!$F$10:$F$49,$A13,'タスク一覧'!$B$10:$B$49,"<>")) | J13: =IF($A13="","",I13-G13-H13) | K13: =IF($A13="","",COUNTIFS('タスク一覧'!$F$10:$F$49,$A13,'タスク一覧'!$M$10:$M$49,"期限切れ")) | L13: =IF($A13="","",COUNTIFS('タスク一覧'!$F$10:$F$49,$A13,'タスク一覧'!$M$10:$M$49,"まもなく")) | M13: =IF($A13="","",COUNTIFS('タスク一覧'!$F$10:$F$49,$A13,'タスク一覧'!$G$10:$G$49,"高",'タスク一覧'!$B$10:$B$49,"<>")-COUNTIFS('タスク一覧'!$F$10:$F$49,$A13,'タスク一覧'!$G$10:$G$49,"高",'タスク一覧'!$J$10:$J$49,"完了")-COUNTIFS('タスク一覧'!$F$10:$F$49,$A13,'タスク一覧'!$G$10:$G$49,"高",'タスク一覧'!$J$10:$J$49,"中止"))
C14: =IF($A14="","",COUNTIFS('タスク一覧'!$F$10:$F$49,$A14,'タスク一覧'!$J$10:$J$49,"未着手")+COUNTIFS('タスク一覧'!$F$10:$F$49,$A14,'タスク一覧'!$B$10:$B$49,"<>",'タスク一覧'!$J$10:$J$49,"")) | D14: =IF($A14="","",COUNTIFS('タスク一覧'!$F$10:$F$49,$A14,'タスク一覧'!$J$10:$J$49,"進行中")) | E14: =IF($A14="","",COUNTIFS('タスク一覧'!$F$10:$F$49,$A14,'タスク一覧'!$J$10:$J$49,"確認待ち")) | F14: =IF($A14="","",COUNTIFS('タスク一覧'!$F$10:$F$49,$A14,'タスク一覧'!$J$10:$J$49,"保留")) | G14: =IF($A14="","",COUNTIFS('タスク一覧'!$F$10:$F$49,$A14,'タスク一覧'!$J$10:$J$49,"完了")) | H14: =IF($A14="","",COUNTIFS('タスク一覧'!$F$10:$F$49,$A14,'タスク一覧'!$J$10:$J$49,"中止")) | I14: =IF($A14="","",COUNTIFS('タスク一覧'!$F$10:$F$49,$A14,'タスク一覧'!$B$10:$B$49,"<>")) | J14: =IF($A14="","",I14-G14-H14) | K14: =IF($A14="","",COUNTIFS('タスク一覧'!$F$10:$F$49,$A14,'タスク一覧'!$M$10:$M$49,"期限切れ")) | L14: =IF($A14="","",COUNTIFS('タスク一覧'!$F$10:$F$49,$A14,'タスク一覧'!$M$10:$M$49,"まもなく")) | M14: =IF($A14="","",COUNTIFS('タスク一覧'!$F$10:$F$49,$A14,'タスク一覧'!$G$10:$G$49,"高",'タスク一覧'!$B$10:$B$49,"<>")-COUNTIFS('タスク一覧'!$F$10:$F$49,$A14,'タスク一覧'!$G$10:$G$49,"高",'タスク一覧'!$J$10:$J$49,"完了")-COUNTIFS('タスク一覧'!$F$10:$F$49,$A14,'タスク一覧'!$G$10:$G$49,"高",'タスク一覧'!$J$10:$J$49,"中止"))
C15: =IF($A15="","",COUNTIFS('タスク一覧'!$F$10:$F$49,$A15,'タスク一覧'!$J$10:$J$49,"未着手")+COUNTIFS('タスク一覧'!$F$10:$F$49,$A15,'タスク一覧'!$B$10:$B$49,"<>",'タスク一覧'!$J$10:$J$49,"")) | D15: =IF($A15="","",COUNTIFS('タスク一覧'!$F$10:$F$49,$A15,'タスク一覧'!$J$10:$J$49,"進行中")) | E15: =IF($A15="","",COUNTIFS('タスク一覧'!$F$10:$F$49,$A15,'タスク一覧'!$J$10:$J$49,"確認待ち")) | F15: =IF($A15="","",COUNTIFS('タスク一覧'!$F$10:$F$49,$A15,'タスク一覧'!$J$10:$J$49,"保留")) | G15: =IF($A15="","",COUNTIFS('タスク一覧'!$F$10:$F$49,$A15,'タスク一覧'!$J$10:$J$49,"完了")) | H15: =IF($A15="","",COUNTIFS('タスク一覧'!$F$10:$F$49,$A15,'タスク一覧'!$J$10:$J$49,"中止")) | I15: =IF($A15="","",COUNTIFS('タスク一覧'!$F$10:$F$49,$A15,'タスク一覧'!$B$10:$B$49,"<>")) | J15: =IF($A15="","",I15-G15-H15) | K15: =IF($A15="","",COUNTIFS('タスク一覧'!$F$10:$F$49,$A15,'タスク一覧'!$M$10:$M$49,"期限切れ")) | L15: =IF($A15="","",COUNTIFS('タスク一覧'!$F$10:$F$49,$A15,'タスク一覧'!$M$10:$M$49,"まもなく")) | M15: =IF($A15="","",COUNTIFS('タスク一覧'!$F$10:$F$49,$A15,'タスク一覧'!$G$10:$G$49,"高",'タスク一覧'!$B$10:$B$49,"<>")-COUNTIFS('タスク一覧'!$F$10:$F$49,$A15,'タスク一覧'!$G$10:$G$49,"高",'タスク一覧'!$J$10:$J$49,"完了")-COUNTIFS('タスク一覧'!$F$10:$F$49,$A15,'タスク一覧'!$G$10:$G$49,"高",'タスク一覧'!$J$10:$J$49,"中止"))
C16: =IF($A16="","",COUNTIFS('タスク一覧'!$F$10:$F$49,$A16,'タスク一覧'!$J$10:$J$49,"未着手")+COUNTIFS('タスク一覧'!$F$10:$F$49,$A16,'タスク一覧'!$B$10:$B$49,"<>",'タスク一覧'!$J$10:$J$49,"")) | D16: =IF($A16="","",COUNTIFS('タスク一覧'!$F$10:$F$49,$A16,'タスク一覧'!$J$10:$J$49,"進行中")) | E16: =IF($A16="","",COUNTIFS('タスク一覧'!$F$10:$F$49,$A16,'タスク一覧'!$J$10:$J$49,"確認待ち")) | F16: =IF($A16="","",COUNTIFS('タスク一覧'!$F$10:$F$49,$A16,'タスク一覧'!$J$10:$J$49,"保留")) | G16: =IF($A16="","",COUNTIFS('タスク一覧'!$F$10:$F$49,$A16,'タスク一覧'!$J$10:$J$49,"完了")) | H16: =IF($A16="","",COUNTIFS('タスク一覧'!$F$10:$F$49,$A16,'タスク一覧'!$J$10:$J$49,"中止")) | I16: =IF($A16="","",COUNTIFS('タスク一覧'!$F$10:$F$49,$A16,'タスク一覧'!$B$10:$B$49,"<>")) | J16: =IF($A16="","",I16-G16-H16) | K16: =IF($A16="","",COUNTIFS('タスク一覧'!$F$10:$F$49,$A16,'タスク一覧'!$M$10:$M$49,"期限切れ")) | L16: =IF($A16="","",COUNTIFS('タスク一覧'!$F$10:$F$49,$A16,'タスク一覧'!$M$10:$M$49,"まもなく")) | M16: =IF($A16="","",COUNTIFS('タスク一覧'!$F$10:$F$49,$A16,'タスク一覧'!$G$10:$G$49,"高",'タスク一覧'!$B$10:$B$49,"<>")-COUNTIFS('タスク一覧'!$F$10:$F$49,$A16,'タスク一覧'!$G$10:$G$49,"高",'タスク一覧'!$J$10:$J$49,"完了")-COUNTIFS('タスク一覧'!$F$10:$F$49,$A16,'タスク一覧'!$G$10:$G$49,"高",'タスク一覧'!$J$10:$J$49,"中止"))
A17: 一覧にない担当 （空欄・書き方の違い） | C17: =IF(C18="","",C18-SUM(C7:C16)) | D17: =IF(D18="","",D18-SUM(D7:D16)) | E17: =IF(E18="","",E18-SUM(E7:E16)) | F17: =IF(F18="","",F18-SUM(F7:F16)) | G17: =IF(G18="","",G18-SUM(G7:G16)) | H17: =IF(H18="","",H18-SUM(H7:H16)) | I17: =IF(I18="","",I18-SUM(I7:I16)) | J17: =IF(J18="","",J18-SUM(J7:J16)) | ... M17: =IF(M18="","",M18-SUM(M7:M16)) | N17: 0でないときは、タスク一覧の担当の空欄や書き方の違いを直します。
A18: 合計 | C18: =IF(COUNTA('タスク一覧'!$B$10:$B$49)=0,"",COUNTIF('タスク一覧'!$J$10:$J$49,"未着手")+COUNTIFS('タスク一覧'!$B$10:$B$49,"<>",'タスク一覧'!$J$10:$J$49,"")) | D18: =IF(COUNTA('タスク一覧'!$B$10:$B$49)=0,"",COUNTIF('タスク一覧'!$J$10:$J$49,"進行中")) | E18: =IF(COUNTA('タスク一覧'!$B$10:$B$49)=0,"",COUNTIF('タスク一覧'!$J$10:$J$49,"確認待ち")) | F18: =IF(COUNTA('タスク一覧'!$B$10:$B$49)=0,"",COUNTIF('タスク一覧'!$J$10:$J$49,"保留")) | G18: =IF(COUNTA('タスク一覧'!$B$10:$B$49)=0,"",COUNTIF('タスク一覧'!$J$10:$J$49,"完了")) | H18: =IF(COUNTA('タスク一覧'!$B$10:$B$49)=0,"",COUNTIF('タスク一覧'!$J$10:$J$49,"中止")) | I18: =IF(COUNTA('タスク一覧'!$B$10:$B$49)=0,"",COUNTA('タスク一覧'!$B$10:$B$49)) | J18: =IF(COUNTA('タスク一覧'!$B$10:$B$49)=0,"",COUNTA('タスク一覧'!$B$10:$B$49)-COUNTIF('タスク一覧'!$J$10:$J$49,"完了")-COUNTIF('タスク一覧'!$J$10:$J$49,"中止")) | K18: =IF(COUNTA('タスク一覧'!$B$10:$B$49)=0,"",COUNTIF('タスク一覧'!$M$10:$M$49,"期限切れ")) | L18: =IF(COUNTA('タスク一覧'!$B$10:$B$49)=0,"",COUNTIF('タスク一覧'!$M$10:$M$49,"まもなく")) | M18: =IF(COUNTA('タスク一覧'!$B$10:$B$49)=0,"",COUNTIFS('タスク一覧'!$B$10:$B$49,"<>",'タスク一覧'!$G$10:$G$49,"高")-COUNTIFS('タスク一覧'!$G$10:$G$49,"高",'タスク一覧'!$J$10:$J$49,"完了")-COUNTIFS('タスク一覧'!$G$10:$G$49,"高",'タスク一覧'!$J$10:$J$49,"中止"))
A20: 2. 優先度別
A21: 優先度 | C21: 合計 | D21: 未完了 | E21: 期限切れ | F21: まもなく | G21: 完了
A22: 高 | C22: =IF(COUNTA('タスク一覧'!$B$10:$B$49)=0,"",COUNTIFS('タスク一覧'!$B$10:$B$49,"<>",'タスク一覧'!$G$10:$G$49,"高")) | D22: =IF(COUNTA('タスク一覧'!$B$10:$B$49)=0,"",COUNTIFS('タスク一覧'!$B$10:$B$49,"<>",'タスク一覧'!$G$10:$G$49,"高")-COUNTIFS('タスク一覧'!$B$10:$B$49,"<>",'タスク一覧'!$G$10:$G$49,"高",'タスク一覧'!$J$10:$J$49,"完了")-COUNTIFS('タスク一覧'!$B$10:$B$49,"<>",'タスク一覧'!$G$10:$G$49,"高",'タスク一覧'!$J$10:$J$49,"中止")) | E22: =IF(COUNTA('タスク一覧'!$B$10:$B$49)=0,"",COUNTIFS('タスク一覧'!$B$10:$B$49,"<>",'タスク一覧'!$G$10:$G$49,"高",'タスク一覧'!$M$10:$M$49,"期限切れ")) | F22: =IF(COUNTA('タスク一覧'!$B$10:$B$49)=0,"",COUNTIFS('タスク一覧'!$B$10:$B$49,"<>",'タスク一覧'!$G$10:$G$49,"高",'タスク一覧'!$M$10:$M$49,"まもなく")) | G22: =IF(COUNTA('タスク一覧'!$B$10:$B$49)=0,"",COUNTIFS('タスク一覧'!$B$10:$B$49,"<>",'タスク一覧'!$G$10:$G$49,"高",'タスク一覧'!$J$10:$J$49,"完了"))
A23: 中 | C23: =IF(COUNTA('タスク一覧'!$B$10:$B$49)=0,"",COUNTIFS('タスク一覧'!$B$10:$B$49,"<>",'タスク一覧'!$G$10:$G$49,"中")) | D23: =IF(COUNTA('タスク一覧'!$B$10:$B$49)=0,"",COUNTIFS('タスク一覧'!$B$10:$B$49,"<>",'タスク一覧'!$G$10:$G$49,"中")-COUNTIFS('タスク一覧'!$B$10:$B$49,"<>",'タスク一覧'!$G$10:$G$49,"中",'タスク一覧'!$J$10:$J$49,"完了")-COUNTIFS('タスク一覧'!$B$10:$B$49,"<>",'タスク一覧'!$G$10:$G$49,"中",'タスク一覧'!$J$10:$J$49,"中止")) | E23: =IF(COUNTA('タスク一覧'!$B$10:$B$49)=0,"",COUNTIFS('タスク一覧'!$B$10:$B$49,"<>",'タスク一覧'!$G$10:$G$49,"中",'タスク一覧'!$M$10:$M$49,"期限切れ")) | F23: =IF(COUNTA('タスク一覧'!$B$10:$B$49)=0,"",COUNTIFS('タスク一覧'!$B$10:$B$49,"<>",'タスク一覧'!$G$10:$G$49,"中",'タスク一覧'!$M$10:$M$49,"まもなく")) | G23: =IF(COUNTA('タスク一覧'!$B$10:$B$49)=0,"",COUNTIFS('タスク一覧'!$B$10:$B$49,"<>",'タスク一覧'!$G$10:$G$49,"中",'タスク一覧'!$J$10:$J$49,"完了"))
A24: 低 | C24: =IF(COUNTA('タスク一覧'!$B$10:$B$49)=0,"",COUNTIFS('タスク一覧'!$B$10:$B$49,"<>",'タスク一覧'!$G$10:$G$49,"低")) | D24: =IF(COUNTA('タスク一覧'!$B$10:$B$49)=0,"",COUNTIFS('タスク一覧'!$B$10:$B$49,"<>",'タスク一覧'!$G$10:$G$49,"低")-COUNTIFS('タスク一覧'!$B$10:$B$49,"<>",'タスク一覧'!$G$10:$G$49,"低",'タスク一覧'!$J$10:$J$49,"完了")-COUNTIFS('タスク一覧'!$B$10:$B$49,"<>",'タスク一覧'!$G$10:$G$49,"低",'タスク一覧'!$J$10:$J$49,"中止")) | E24: =IF(COUNTA('タスク一覧'!$B$10:$B$49)=0,"",COUNTIFS('タスク一覧'!$B$10:$B$49,"<>",'タスク一覧'!$G$10:$G$49,"低",'タスク一覧'!$M$10:$M$49,"期限切れ")) | F24: =IF(COUNTA('タスク一覧'!$B$10:$B$49)=0,"",COUNTIFS('タスク一覧'!$B$10:$B$49,"<>",'タスク一覧'!$G$10:$G$49,"低",'タスク一覧'!$M$10:$M$49,"まもなく")) | G24: =IF(COUNTA('タスク一覧'!$B$10:$B$49)=0,"",COUNTIFS('タスク一覧'!$B$10:$B$49,"<>",'タスク一覧'!$G$10:$G$49,"低",'タスク一覧'!$J$10:$J$49,"完了"))
A25: 空欄 | C25: =IF(COUNTA('タスク一覧'!$B$10:$B$49)=0,"",COUNTIFS('タスク一覧'!$B$10:$B$49,"<>",'タスク一覧'!$G$10:$G$49,"")) | D25: =IF(COUNTA('タスク一覧'!$B$10:$B$49)=0,"",COUNTIFS('タスク一覧'!$B$10:$B$49,"<>",'タスク一覧'!$G$10:$G$49,"")-COUNTIFS('タスク一覧'!$B$10:$B$49,"<>",'タスク一覧'!$G$10:$G$49,"",'タスク一覧'!$J$10:$J$49,"完了")-COUNTIFS('タスク一覧'!$B$10:$B$49,"<>",'タスク一覧'!$G$10:$G$49,"",'タスク一覧'!$J$10:$J$49,"中止")) | E25: =IF(COUNTA('タスク一覧'!$B$10:$B$49)=0,"",COUNTIFS('タスク一覧'!$B$10:$B$49,"<>",'タスク一覧'!$G$10:$G$49,"",'タスク一覧'!$M$10:$M$49,"期限切れ")) | F25: =IF(COUNTA('タスク一覧'!$B$10:$B$49)=0,"",COUNTIFS('タスク一覧'!$B$10:$B$49,"<>",'タスク一覧'!$G$10:$G$49,"",'タスク一覧'!$M$10:$M$49,"まもなく")) | G25: =IF(COUNTA('タスク一覧'!$B$10:$B$49)=0,"",COUNTIFS('タスク一覧'!$B$10:$B$49,"<>",'タスク一覧'!$G$10:$G$49,"",'タスク一覧'!$J$10:$J$49,"完了"))
A27: 担当者の名前は、タスク一覧の担当の欄と同じ書き方で入れます（「佐藤」と「佐藤さん」は別の人として数えます）。
A28: 未完了＝合計−完了−中止。状況が空欄のタスクは未着手に数えます。期限切れ・まもなくは、タスク一覧の判定の数です。

Sheet 毎週の振り返り
A1: 毎週の振り返り
A3: チーム名 | C3: =IF('タスク一覧'!$C$3="","",'タスク一覧'!$C$3) | H3: 判定に使う日 | J3: ='タスク一覧'!$N$3
A4: 最初の週 | E4: 表の最初の週 | G4: =IF(C4="",IF(COUNT('タスク一覧'!$H$10:$H$49)=0,"",MIN('タスク一覧'!$H$10:$H$49)-MOD(WEEKDAY(MIN('タスク一覧'!$H$10:$H$49))+5,7)),C4-MOD(WEEKDAY(C4)+5,7)) | I4: 最初の週が空欄のときは、登録日のいちばん早い日の週から並べます。週は月曜日から日曜日です。
A6: 週 (月曜日) | B6: 増えた タスク | C6: 終わった タスク | D6: 期限切れ | E6: 残り | F6: よかったこと・進んだこと | I6: 遅れ・困っていること（理由） | M6: 来週やること・決めたこと（担当）
A7: =IF($G$4="","",$G$4) | B7: =IF(OR(A7="",A7>$J$3),"",COUNTIFS('タスク一覧'!$H$10:$H$49,">="&A7,'タスク一覧'!$H$10:$H$49,"<="&(A7+6))) | C7: =IF(OR(A7="",A7>$J$3),"",COUNTIFS('タスク一覧'!$K$10:$K$49,">="&A7,'タスク一覧'!$K$10:$K$49,"<="&(A7+6))) | D7: =IF(OR(A7="",A7>$J$3),"",COUNTIFS('タスク一覧'!$B$10:$B$49,"<>",'タスク一覧'!$I$10:$I$49,"<="&MIN(A7+6,$J$3-1),'タスク一覧'!$K$10:$K$49,"",'タスク一覧'!$J$10:$J$49,"<>完了",'タスク一覧'!$J$10:$J$49,"<>中止",'タスク一覧'!$J$10:$J$49,"<>保留")+COUNTIFS('タスク一覧'!$I$10:$I$49,"<="&MIN(A7+6,$J$3-1),'タスク一覧'!$K$10:$K$49,">"&(A7+6),'タスク一覧'!$J$10:$J$49,"<>中止",'タスク一覧'!$J$10:$J$49,"<>保留")) | E7: =IF(OR(A7="",A7>$J$3),"",COUNTIFS('タスク一覧'!$B$10:$B$49,"<>",'タスク一覧'!$H$10:$H$49,"<="&(A7+6),'タスク一覧'!$K$10:$K$49,"",'タスク一覧'!$J$10:$J$49,"<>完了",'タスク一覧'!$J$10:$J$49,"<>中止")+COUNTIFS('タスク一覧'!$H$10:$H$49,"<="&(A7+6),'タスク一覧'!$K$10:$K$49,">"&(A7+6),'タスク一覧'!$J$10:$J$49,"<>中止"))
A8: =IF(A7="","",A7+7) | B8: =IF(OR(A8="",A8>$J$3),"",COUNTIFS('タスク一覧'!$H$10:$H$49,">="&A8,'タスク一覧'!$H$10:$H$49,"<="&(A8+6))) | C8: =IF(OR(A8="",A8>$J$3),"",COUNTIFS('タスク一覧'!$K$10:$K$49,">="&A8,'タスク一覧'!$K$10:$K$49,"<="&(A8+6))) | D8: =IF(OR(A8="",A8>$J$3),"",COUNTIFS('タスク一覧'!$B$10:$B$49,"<>",'タスク一覧'!$I$10:$I$49,"<="&MIN(A8+6,$J$3-1),'タスク一覧'!$K$10:$K$49,"",'タスク一覧'!$J$10:$J$49,"<>完了",'タスク一覧'!$J$10:$J$49,"<>中止",'タスク一覧'!$J$10:$J$49,"<>保留")+COUNTIFS('タスク一覧'!$I$10:$I$49,"<="&MIN(A8+6,$J$3-1),'タスク一覧'!$K$10:$K$49,">"&(A8+6),'タスク一覧'!$J$10:$J$49,"<>中止",'タスク一覧'!$J$10:$J$49,"<>保留")) | E8: =IF(OR(A8="",A8>$J$3),"",COUNTIFS('タスク一覧'!$B$10:$B$49,"<>",'タスク一覧'!$H$10:$H$49,"<="&(A8+6),'タスク一覧'!$K$10:$K$49,"",'タスク一覧'!$J$10:$J$49,"<>完了",'タスク一覧'!$J$10:$J$49,"<>中止")+COUNTIFS('タスク一覧'!$H$10:$H$49,"<="&(A8+6),'タスク一覧'!$K$10:$K$49,">"&(A8+6),'タスク一覧'!$J$10:$J$49,"<>中止"))
A9: =IF(A8="","",A8+7) | B9: =IF(OR(A9="",A9>$J$3),"",COUNTIFS('タスク一覧'!$H$10:$H$49,">="&A9,'タスク一覧'!$H$10:$H$49,"<="&(A9+6))) | C9: =IF(OR(A9="",A9>$J$3),"",COUNTIFS('タスク一覧'!$K$10:$K$49,">="&A9,'タスク一覧'!$K$10:$K$49,"<="&(A9+6))) | D9: =IF(OR(A9="",A9>$J$3),"",COUNTIFS('タスク一覧'!$B$10:$B$49,"<>",'タスク一覧'!$I$10:$I$49,"<="&MIN(A9+6,$J$3-1),'タスク一覧'!$K$10:$K$49,"",'タスク一覧'!$J$10:$J$49,"<>完了",'タスク一覧'!$J$10:$J$49,"<>中止",'タスク一覧'!$J$10:$J$49,"<>保留")+COUNTIFS('タスク一覧'!$I$10:$I$49,"<="&MIN(A9+6,$J$3-1),'タスク一覧'!$K$10:$K$49,">"&(A9+6),'タスク一覧'!$J$10:$J$49,"<>中止",'タスク一覧'!$J$10:$J$49,"<>保留")) | E9: =IF(OR(A9="",A9>$J$3),"",COUNTIFS('タスク一覧'!$B$10:$B$49,"<>",'タスク一覧'!$H$10:$H$49,"<="&(A9+6),'タスク一覧'!$K$10:$K$49,"",'タスク一覧'!$J$10:$J$49,"<>完了",'タスク一覧'!$J$10:$J$49,"<>中止")+COUNTIFS('タスク一覧'!$H$10:$H$49,"<="&(A9+6),'タスク一覧'!$K$10:$K$49,">"&(A9+6),'タスク一覧'!$J$10:$J$49,"<>中止"))
A10: =IF(A9="","",A9+7) | B10: =IF(OR(A10="",A10>$J$3),"",COUNTIFS('タスク一覧'!$H$10:$H$49,">="&A10,'タスク一覧'!$H$10:$H$49,"<="&(A10+6))) | C10: =IF(OR(A10="",A10>$J$3),"",COUNTIFS('タスク一覧'!$K$10:$K$49,">="&A10,'タスク一覧'!$K$10:$K$49,"<="&(A10+6))) | D10: =IF(OR(A10="",A10>$J$3),"",COUNTIFS('タスク一覧'!$B$10:$B$49,"<>",'タスク一覧'!$I$10:$I$49,"<="&MIN(A10+6,$J$3-1),'タスク一覧'!$K$10:$K$49,"",'タスク一覧'!$J$10:$J$49,"<>完了",'タスク一覧'!$J$10:$J$49,"<>中止",'タスク一覧'!$J$10:$J$49,"<>保留")+COUNTIFS('タスク一覧'!$I$10:$I$49,"<="&MIN(A10+6,$J$3-1),'タスク一覧'!$K$10:$K$49,">"&(A10+6),'タスク一覧'!$J$10:$J$49,"<>中止",'タスク一覧'!$J$10:$J$49,"<>保留")) | E10: =IF(OR(A10="",A10>$J$3),"",COUNTIFS('タスク一覧'!$B$10:$B$49,"<>",'タスク一覧'!$H$10:$H$49,"<="&(A10+6),'タスク一覧'!$K$10:$K$49,"",'タスク一覧'!$J$10:$J$49,"<>完了",'タスク一覧'!$J$10:$J$49,"<>中止")+COUNTIFS('タスク一覧'!$H$10:$H$49,"<="&(A10+6),'タスク一覧'!$K$10:$K$49,">"&(A10+6),'タスク一覧'!$J$10:$J$49,"<>中止"))
A11: =IF(A10="","",A10+7) | B11: =IF(OR(A11="",A11>$J$3),"",COUNTIFS('タスク一覧'!$H$10:$H$49,">="&A11,'タスク一覧'!$H$10:$H$49,"<="&(A11+6))) | C11: =IF(OR(A11="",A11>$J$3),"",COUNTIFS('タスク一覧'!$K$10:$K$49,">="&A11,'タスク一覧'!$K$10:$K$49,"<="&(A11+6))) | D11: =IF(OR(A11="",A11>$J$3),"",COUNTIFS('タスク一覧'!$B$10:$B$49,"<>",'タスク一覧'!$I$10:$I$49,"<="&MIN(A11+6,$J$3-1),'タスク一覧'!$K$10:$K$49,"",'タスク一覧'!$J$10:$J$49,"<>完了",'タスク一覧'!$J$10:$J$49,"<>中止",'タスク一覧'!$J$10:$J$49,"<>保留")+COUNTIFS('タスク一覧'!$I$10:$I$49,"<="&MIN(A11+6,$J$3-1),'タスク一覧'!$K$10:$K$49,">"&(A11+6),'タスク一覧'!$J$10:$J$49,"<>中止",'タスク一覧'!$J$10:$J$49,"<>保留")) | E11: =IF(OR(A11="",A11>$J$3),"",COUNTIFS('タスク一覧'!$B$10:$B$49,"<>",'タスク一覧'!$H$10:$H$49,"<="&(A11+6),'タスク一覧'!$K$10:$K$49,"",'タスク一覧'!$J$10:$J$49,"<>完了",'タスク一覧'!$J$10:$J$49,"<>中止")+COUNTIFS('タスク一覧'!$H$10:$H$49,"<="&(A11+6),'タスク一覧'!$K$10:$K$49,">"&(A11+6),'タスク一覧'!$J$10:$J$49,"<>中止"))
A12: =IF(A11="","",A11+7) | B12: =IF(OR(A12="",A12>$J$3),"",COUNTIFS('タスク一覧'!$H$10:$H$49,">="&A12,'タスク一覧'!$H$10:$H$49,"<="&(A12+6))) | C12: =IF(OR(A12="",A12>$J$3),"",COUNTIFS('タスク一覧'!$K$10:$K$49,">="&A12,'タスク一覧'!$K$10:$K$49,"<="&(A12+6))) | D12: =IF(OR(A12="",A12>$J$3),"",COUNTIFS('タスク一覧'!$B$10:$B$49,"<>",'タスク一覧'!$I$10:$I$49,"<="&MIN(A12+6,$J$3-1),'タスク一覧'!$K$10:$K$49,"",'タスク一覧'!$J$10:$J$49,"<>完了",'タスク一覧'!$J$10:$J$49,"<>中止",'タスク一覧'!$J$10:$J$49,"<>保留")+COUNTIFS('タスク一覧'!$I$10:$I$49,"<="&MIN(A12+6,$J$3-1),'タスク一覧'!$K$10:$K$49,">"&(A12+6),'タスク一覧'!$J$10:$J$49,"<>中止",'タスク一覧'!$J$10:$J$49,"<>保留")) | E12: =IF(OR(A12="",A12>$J$3),"",COUNTIFS('タスク一覧'!$B$10:$B$49,"<>",'タスク一覧'!$H$10:$H$49,"<="&(A12+6),'タスク一覧'!$K$10:$K$49,"",'タスク一覧'!$J$10:$J$49,"<>完了",'タスク一覧'!$J$10:$J$49,"<>中止")+COUNTIFS('タスク一覧'!$H$10:$H$49,"<="&(A12+6),'タスク一覧'!$K$10:$K$49,">"&(A12+6),'タスク一覧'!$J$10:$J$49,"<>中止"))
A13: =IF(A12="","",A12+7) | B13: =IF(OR(A13="",A13>$J$3),"",COUNTIFS('タスク一覧'!$H$10:$H$49,">="&A13,'タスク一覧'!$H$10:$H$49,"<="&(A13+6))) | C13: =IF(OR(A13="",A13>$J$3),"",COUNTIFS('タスク一覧'!$K$10:$K$49,">="&A13,'タスク一覧'!$K$10:$K$49,"<="&(A13+6))) | D13: =IF(OR(A13="",A13>$J$3),"",COUNTIFS('タスク一覧'!$B$10:$B$49,"<>",'タスク一覧'!$I$10:$I$49,"<="&MIN(A13+6,$J$3-1),'タスク一覧'!$K$10:$K$49,"",'タスク一覧'!$J$10:$J$49,"<>完了",'タスク一覧'!$J$10:$J$49,"<>中止",'タスク一覧'!$J$10:$J$49,"<>保留")+COUNTIFS('タスク一覧'!$I$10:$I$49,"<="&MIN(A13+6,$J$3-1),'タスク一覧'!$K$10:$K$49,">"&(A13+6),'タスク一覧'!$J$10:$J$49,"<>中止",'タスク一覧'!$J$10:$J$49,"<>保留")) | E13: =IF(OR(A13="",A13>$J$3),"",COUNTIFS('タスク一覧'!$B$10:$B$49,"<>",'タスク一覧'!$H$10:$H$49,"<="&(A13+6),'タスク一覧'!$K$10:$K$49,"",'タスク一覧'!$J$10:$J$49,"<>完了",'タスク一覧'!$J$10:$J$49,"<>中止")+COUNTIFS('タスク一覧'!$H$10:$H$49,"<="&(A13+6),'タスク一覧'!$K$10:$K$49,">"&(A13+6),'タスク一覧'!$J$10:$J$49,"<>中止"))
A14: =IF(A13="","",A13+7) | B14: =IF(OR(A14="",A14>$J$3),"",COUNTIFS('タスク一覧'!$H$10:$H$49,">="&A14,'タスク一覧'!$H$10:$H$49,"<="&(A14+6))) | C14: =IF(OR(A14="",A14>$J$3),"",COUNTIFS('タスク一覧'!$K$10:$K$49,">="&A14,'タスク一覧'!$K$10:$K$49,"<="&(A14+6))) | D14: =IF(OR(A14="",A14>$J$3),"",COUNTIFS('タスク一覧'!$B$10:$B$49,"<>",'タスク一覧'!$I$10:$I$49,"<="&MIN(A14+6,$J$3-1),'タスク一覧'!$K$10:$K$49,"",'タスク一覧'!$J$10:$J$49,"<>完了",'タスク一覧'!$J$10:$J$49,"<>中止",'タスク一覧'!$J$10:$J$49,"<>保留")+COUNTIFS('タスク一覧'!$I$10:$I$49,"<="&MIN(A14+6,$J$3-1),'タスク一覧'!$K$10:$K$49,">"&(A14+6),'タスク一覧'!$J$10:$J$49,"<>中止",'タスク一覧'!$J$10:$J$49,"<>保留")) | E14: =IF(OR(A14="",A14>$J$3),"",COUNTIFS('タスク一覧'!$B$10:$B$49,"<>",'タスク一覧'!$H$10:$H$49,"<="&(A14+6),'タスク一覧'!$K$10:$K$49,"",'タスク一覧'!$J$10:$J$49,"<>完了",'タスク一覧'!$J$10:$J$49,"<>中止")+COUNTIFS('タスク一覧'!$H$10:$H$49,"<="&(A14+6),'タスク一覧'!$K$10:$K$49,">"&(A14+6),'タスク一覧'!$J$10:$J$49,"<>中止"))
A15: =IF(A14="","",A14+7) | B15: =IF(OR(A15="",A15>$J$3),"",COUNTIFS('タスク一覧'!$H$10:$H$49,">="&A15,'タスク一覧'!$H$10:$H$49,"<="&(A15+6))) | C15: =IF(OR(A15="",A15>$J$3),"",COUNTIFS('タスク一覧'!$K$10:$K$49,">="&A15,'タスク一覧'!$K$10:$K$49,"<="&(A15+6))) | D15: =IF(OR(A15="",A15>$J$3),"",COUNTIFS('タスク一覧'!$B$10:$B$49,"<>",'タスク一覧'!$I$10:$I$49,"<="&MIN(A15+6,$J$3-1),'タスク一覧'!$K$10:$K$49,"",'タスク一覧'!$J$10:$J$49,"<>完了",'タスク一覧'!$J$10:$J$49,"<>中止",'タスク一覧'!$J$10:$J$49,"<>保留")+COUNTIFS('タスク一覧'!$I$10:$I$49,"<="&MIN(A15+6,$J$3-1),'タスク一覧'!$K$10:$K$49,">"&(A15+6),'タスク一覧'!$J$10:$J$49,"<>中止",'タスク一覧'!$J$10:$J$49,"<>保留")) | E15: =IF(OR(A15="",A15>$J$3),"",COUNTIFS('タスク一覧'!$B$10:$B$49,"<>",'タスク一覧'!$H$10:$H$49,"<="&(A15+6),'タスク一覧'!$K$10:$K$49,"",'タスク一覧'!$J$10:$J$49,"<>完了",'タスク一覧'!$J$10:$J$49,"<>中止")+COUNTIFS('タスク一覧'!$H$10:$H$49,"<="&(A15+6),'タスク一覧'!$K$10:$K$49,">"&(A15+6),'タスク一覧'!$J$10:$J$49,"<>中止"))
A16: =IF(A15="","",A15+7) | B16: =IF(OR(A16="",A16>$J$3),"",COUNTIFS('タスク一覧'!$H$10:$H$49,">="&A16,'タスク一覧'!$H$10:$H$49,"<="&(A16+6))) | C16: =IF(OR(A16="",A16>$J$3),"",COUNTIFS('タスク一覧'!$K$10:$K$49,">="&A16,'タスク一覧'!$K$10:$K$49,"<="&(A16+6))) | D16: =IF(OR(A16="",A16>$J$3),"",COUNTIFS('タスク一覧'!$B$10:$B$49,"<>",'タスク一覧'!$I$10:$I$49,"<="&MIN(A16+6,$J$3-1),'タスク一覧'!$K$10:$K$49,"",'タスク一覧'!$J$10:$J$49,"<>完了",'タスク一覧'!$J$10:$J$49,"<>中止",'タスク一覧'!$J$10:$J$49,"<>保留")+COUNTIFS('タスク一覧'!$I$10:$I$49,"<="&MIN(A16+6,$J$3-1),'タスク一覧'!$K$10:$K$49,">"&(A16+6),'タスク一覧'!$J$10:$J$49,"<>中止",'タスク一覧'!$J$10:$J$49,"<>保留")) | E16: =IF(OR(A16="",A16>$J$3),"",COUNTIFS('タスク一覧'!$B$10:$B$49,"<>",'タスク一覧'!$H$10:$H$49,"<="&(A16+6),'タスク一覧'!$K$10:$K$49,"",'タスク一覧'!$J$10:$J$49,"<>完了",'タスク一覧'!$J$10:$J$49,"<>中止")+COUNTIFS('タスク一覧'!$H$10:$H$49,"<="&(A16+6),'タスク一覧'!$K$10:$K$49,">"&(A16+6),'タスク一覧'!$J$10:$J$49,"<>中止"))
A17: =IF(A16="","",A16+7) | B17: =IF(OR(A17="",A17>$J$3),"",COUNTIFS('タスク一覧'!$H$10:$H$49,">="&A17,'タスク一覧'!$H$10:$H$49,"<="&(A17+6))) | C17: =IF(OR(A17="",A17>$J$3),"",COUNTIFS('タスク一覧'!$K$10:$K$49,">="&A17,'タスク一覧'!$K$10:$K$49,"<="&(A17+6))) | D17: =IF(OR(A17="",A17>$J$3),"",COUNTIFS('タスク一覧'!$B$10:$B$49,"<>",'タスク一覧'!$I$10:$I$49,"<="&MIN(A17+6,$J$3-1),'タスク一覧'!$K$10:$K$49,"",'タスク一覧'!$J$10:$J$49,"<>完了",'タスク一覧'!$J$10:$J$49,"<>中止",'タスク一覧'!$J$10:$J$49,"<>保留")+COUNTIFS('タスク一覧'!$I$10:$I$49,"<="&MIN(A17+6,$J$3-1),'タスク一覧'!$K$10:$K$49,">"&(A17+6),'タスク一覧'!$J$10:$J$49,"<>中止",'タスク一覧'!$J$10:$J$49,"<>保留")) | E17: =IF(OR(A17="",A17>$J$3),"",COUNTIFS('タスク一覧'!$B$10:$B$49,"<>",'タスク一覧'!$H$10:$H$49,"<="&(A17+6),'タスク一覧'!$K$10:$K$49,"",'タスク一覧'!$J$10:$J$49,"<>完了",'タスク一覧'!$J$10:$J$49,"<>中止")+COUNTIFS('タスク一覧'!$H$10:$H$49,"<="&(A17+6),'タスク一覧'!$K$10:$K$49,">"&(A17+6),'タスク一覧'!$J$10:$J$49,"<>中止"))
A18: =IF(A17="","",A17+7) | B18: =IF(OR(A18="",A18>$J$3),"",COUNTIFS('タスク一覧'!$H$10:$H$49,">="&A18,'タスク一覧'!$H$10:$H$49,"<="&(A18+6))) | C18: =IF(OR(A18="",A18>$J$3),"",COUNTIFS('タスク一覧'!$K$10:$K$49,">="&A18,'タスク一覧'!$K$10:$K$49,"<="&(A18+6))) | D18: =IF(OR(A18="",A18>$J$3),"",COUNTIFS('タスク一覧'!$B$10:$B$49,"<>",'タスク一覧'!$I$10:$I$49,"<="&MIN(A18+6,$J$3-1),'タスク一覧'!$K$10:$K$49,"",'タスク一覧'!$J$10:$J$49,"<>完了",'タスク一覧'!$J$10:$J$49,"<>中止",'タスク一覧'!$J$10:$J$49,"<>保留")+COUNTIFS('タスク一覧'!$I$10:$I$49,"<="&MIN(A18+6,$J$3-1),'タスク一覧'!$K$10:$K$49,">"&(A18+6),'タスク一覧'!$J$10:$J$49,"<>中止",'タスク一覧'!$J$10:$J$49,"<>保留")) | E18: =IF(OR(A18="",A18>$J$3),"",COUNTIFS('タスク一覧'!$B$10:$B$49,"<>",'タスク一覧'!$H$10:$H$49,"<="&(A18+6),'タスク一覧'!$K$10:$K$49,"",'タスク一覧'!$J$10:$J$49,"<>完了",'タスク一覧'!$J$10:$J$49,"<>中止")+COUNTIFS('タスク一覧'!$H$10:$H$49,"<="&(A18+6),'タスク一覧'!$K$10:$K$49,">"&(A18+6),'タスク一覧'!$J$10:$J$49,"<>中止"))
A19: =IF(A18="","",A18+7) | B19: =IF(OR(A19="",A19>$J$3),"",COUNTIFS('タスク一覧'!$H$10:$H$49,">="&A19,'タスク一覧'!$H$10:$H$49,"<="&(A19+6))) | C19: =IF(OR(A19="",A19>$J$3),"",COUNTIFS('タスク一覧'!$K$10:$K$49,">="&A19,'タスク一覧'!$K$10:$K$49,"<="&(A19+6))) | D19: =IF(OR(A19="",A19>$J$3),"",COUNTIFS('タスク一覧'!$B$10:$B$49,"<>",'タスク一覧'!$I$10:$I$49,"<="&MIN(A19+6,$J$3-1),'タスク一覧'!$K$10:$K$49,"",'タスク一覧'!$J$10:$J$49,"<>完了",'タスク一覧'!$J$10:$J$49,"<>中止",'タスク一覧'!$J$10:$J$49,"<>保留")+COUNTIFS('タスク一覧'!$I$10:$I$49,"<="&MIN(A19+6,$J$3-1),'タスク一覧'!$K$10:$K$49,">"&(A19+6),'タスク一覧'!$J$10:$J$49,"<>中止",'タスク一覧'!$J$10:$J$49,"<>保留")) | E19: =IF(OR(A19="",A19>$J$3),"",COUNTIFS('タスク一覧'!$B$10:$B$49,"<>",'タスク一覧'!$H$10:$H$49,"<="&(A19+6),'タスク一覧'!$K$10:$K$49,"",'タスク一覧'!$J$10:$J$49,"<>完了",'タスク一覧'!$J$10:$J$49,"<>中止")+COUNTIFS('タスク一覧'!$H$10:$H$49,"<="&(A19+6),'タスク一覧'!$K$10:$K$49,">"&(A19+6),'タスク一覧'!$J$10:$J$49,"<>中止"))
A21: 数はタスク一覧から数式で出ます。増えた＝登録日がその週、終わった＝完了日がその週。中止のタスクは数えません。
A22: 期限切れ・残りは、その週の終わり（日曜日）の時点の数です。今週の行は、判定に使う日の時点の数で、タスク一覧の件数と同じになります。
A23: 登録日が空欄のタスクは、増えた・残りに入りません。判定に使う日より後の週は空欄のままです。
