Workbook

Sheet 進捗報告
A1: 進捗報告書 | I1: 週次・第5週
A3: 報告先 | C3: 株式会社つばめ運輸 総務部 中村様
A4: 報告者 | C4: 株式会社ことのは制作 ディレクター 西田
A5: 案件名 | C5: コーポレートサイトのリニューアル（全20ページ）
A6: 報告日 | C6: 2026年10月30日 | G6: 区分 | I6: 週次
A7: 対象期間 | C7: 2026年10月26日〜30日 | G7: 基準日 | I7: 46325
A8: 全体の期間 | C8: 2026年9月28日〜12月10日 | G8: 次回の報告 | I8: 2026年11月6日
A10: 1. 全体の状況
A11: 予定の進捗率 | C11: =IF('タスクの進捗'!$L$17="","",'タスクの進捗'!$L$17) | E11: 実績の進捗率 | G11: =IF('タスクの進捗'!$M$17="","",'タスクの進捗'!$M$17) | I11: 差 | K11: =IF('タスクの進捗'!$N$17="","",'タスクの進捗'!$N$17)
A12: 判定 | C12: =IF('タスクの進捗'!$O$17="","",'タスクの進捗'!$O$17) | E12: 遅れ・やや遅れ | G12: =IF(COUNT('タスクの進捗'!$O$18,'タスクの進捗'!$L$18)=0,"",'タスクの進捗'!$O$18+'タスクの進捗'!$L$18) | I12: 完了したタスク | K12: =IF('タスクの進捗'!$F$18="","",'タスクの進捗'!$F$18)
A13: 全体の進捗率は、タスクごとの進捗率を重み（人日）で平均したものです。色の付いた欄は数式で、「タスクの進捗」のシートから出します。
A15: 2. 結論（3行で）
A16: ・全体の進捗は46.1%で、予定の48.8%より2.7pt遅れています（判定：やや遅れ）。 ・遅れの主な原因は、原稿・写真のご提供が20ページのうち9ページ（予定は15ページ）であることです。デザインとページの制作は予定どおりです。 ・残り11ページの原稿を11月6日（金）までにいただければ、12月10日の公開に間に合います。
A21: 3. 今週の実施内容
A22: 実施した内容 | I22: 結果・累計
A23: デザインの作成：会社案内・サービス紹介の4ページ | I23: 累計14ページ（予定どおり）
A24: （貴社）デザインのご確認：3ページ | I24: 累計9ページ（予定は10ページ）
A25: ページの制作：トップページ・会社概要など5ページ | I25: 累計5ページ（予定は4ページ）
A26: 10月28日（水）の定例会議（オンライン・30分） | I26: フォームの項目（8つ）が決まった
A28: 4. 遅れ・課題と対応
A29: 内容 | D29: 影響 | G29: 対応 | K29: 期限 | L29: 状況
A30: 原稿・写真のご提供が9ページ（予定は15ページ） | D30: 11月6日を過ぎると、ご確認と制作がずれ、公開日に響く | G30: 10月29日に、残り11ページの一覧と要る写真をお送りした。採用情報の3ページは当社が原稿の案を作る | K30: 11/6 | L30: 対応中
A31: 旧サイトのお知らせ記事（約180件）の移し方が未定 | D31: 移す件数で、制作の日数が2〜5日変わる | G31: 全部移す案と直近2年分の案の工数を、11月4日の定例でお出しする | K31: 11/4 | L31: 未着手
A33: 5. 来週（次回まで）の予定
A34: 予定 | H34: 期日 | J34: 担当
A35: デザインの作成：残りの6ページ（採用情報・お知らせなど） | H35: 11月6日（金） | J35: 当社
A36: ページの制作：会社案内・サービス紹介の5ページ | H36: 11月6日（金） | J36: 当社
A37: お知らせ記事の移し方の2案と工数をまとめる | H37: 11月4日（水） | J37: 当社
A39: 6. ご確認・お願い
A40: お願いしたいこと | J40: 期限
A41: 残り11ページの原稿と写真をお送りください。採用情報の3ページは、当社がお作りする案に赤字を入れていただく形でもかまいません。 | J41: 11月6日（金）
A42: ご確認待ちのデザイン1ページ（サービス紹介）のご確認をお願いします。 | J42: 11月4日（水）
A43: お知らせ記事を移す範囲のご判断をお願いします（11月4日の定例で2案をお出しします）。 | J43: 11月11日（水）
A44: 区分と状況は一覧から選べます（状況：済・対応中・未着手）。タスクごとの予定と実績は、2枚目の「タスクの進捗」に書きます。

Sheet タスクの進捗
A1: タスクの進捗（別紙） | O1: =IF('進捗報告'!$C$5="","",'進捗報告'!$C$5)
A3: 基準日 | C3: =IF('進捗報告'!$I$7="","",'進捗報告'!$I$7) | F3: 遅れと判定する差 | I3: 10 | J3: 差がこの値以上に遅れたタスクは「遅れ」、それより小さい遅れは「やや遅れ」になります。
A5: タスク（数える単位） | E5: 担当 | F5: 開始 予定 | G5: 終了 予定 | H5: 重み (人日) | I5: 量（数える単位で） | L5: 進捗率 | N5: 差 | O5: 判定 | Q5: メモ
I6: 全体 | J6: 予定 | K6: 終えた | L6: 予定 | M6: 実績
A7: 要件の整理（決める項目） | E7: 当社 | F7: 46293 | G7: 46304 | H7: 4 | I7: 12 | J7: 12 | K7: 12 | L7: =IF(OR(I7="",J7=""),"",IF(I7<=0,"",MIN(1,J7/I7))) | M7: =IF(OR(I7="",K7=""),"",IF(I7<=0,"",MIN(1,K7/I7))) | N7: =IF(COUNT(L7,M7)<2,"",ROUND(M7*100,1)-ROUND(L7*100,1)) | O7: =IF(M7="","",IF(M7>=1,"完了",IF(L7="","",IF(AND(G7<>"",$C$3<>"",G7<$C$3),"遅れ",IF(AND(L7=0,M7=0),"着手前",IF(N7<=-$I$3,"遅れ",IF(N7<0,"やや遅れ","予定どおり")))))))
A8: ワイヤーフレーム（ページ） | E8: 当社 | F8: 46300 | G8: 46311 | H8: 5 | I8: 20 | J8: 20 | K8: 20 | L8: =IF(OR(I8="",J8=""),"",IF(I8<=0,"",MIN(1,J8/I8))) | M8: =IF(OR(I8="",K8=""),"",IF(I8<=0,"",MIN(1,K8/I8))) | N8: =IF(COUNT(L8,M8)<2,"",ROUND(M8*100,1)-ROUND(L8*100,1)) | O8: =IF(M8="","",IF(M8>=1,"完了",IF(L8="","",IF(AND(G8<>"",$C$3<>"",G8<$C$3),"遅れ",IF(AND(L8=0,M8=0),"着手前",IF(N8<=-$I$3,"遅れ",IF(N8<0,"やや遅れ","予定どおり")))))))
A9: デザインの作成（ページ） | E9: 当社 | F9: 46307 | G9: 46332 | H9: 10 | I9: 20 | J9: 14 | K9: 14 | L9: =IF(OR(I9="",J9=""),"",IF(I9<=0,"",MIN(1,J9/I9))) | M9: =IF(OR(I9="",K9=""),"",IF(I9<=0,"",MIN(1,K9/I9))) | N9: =IF(COUNT(L9,M9)<2,"",ROUND(M9*100,1)-ROUND(L9*100,1)) | O9: =IF(M9="","",IF(M9>=1,"完了",IF(L9="","",IF(AND(G9<>"",$C$3<>"",G9<$C$3),"遅れ",IF(AND(L9=0,M9=0),"着手前",IF(N9<=-$I$3,"遅れ",IF(N9<0,"やや遅れ","予定どおり"))))))) | Q9: 今週4ページ
A10: 原稿・写真のご提供（ページ） | E10: 貴社 | F10: 46307 | G10: 46332 | H10: 6 | I10: 20 | J10: 15 | K10: 9 | L10: =IF(OR(I10="",J10=""),"",IF(I10<=0,"",MIN(1,J10/I10))) | M10: =IF(OR(I10="",K10=""),"",IF(I10<=0,"",MIN(1,K10/I10))) | N10: =IF(COUNT(L10,M10)<2,"",ROUND(M10*100,1)-ROUND(L10*100,1)) | O10: =IF(M10="","",IF(M10>=1,"完了",IF(L10="","",IF(AND(G10<>"",$C$3<>"",G10<$C$3),"遅れ",IF(AND(L10=0,M10=0),"着手前",IF(N10<=-$I$3,"遅れ",IF(N10<0,"やや遅れ","予定どおり"))))))) | Q10: 残り11ページ
A11: デザインのご確認（ページ） | E11: 貴社 | F11: 46314 | G11: 46339 | H11: 3 | I11: 20 | J11: 10 | K11: 9 | L11: =IF(OR(I11="",J11=""),"",IF(I11<=0,"",MIN(1,J11/I11))) | M11: =IF(OR(I11="",K11=""),"",IF(I11<=0,"",MIN(1,K11/I11))) | N11: =IF(COUNT(L11,M11)<2,"",ROUND(M11*100,1)-ROUND(L11*100,1)) | O11: =IF(M11="","",IF(M11>=1,"完了",IF(L11="","",IF(AND(G11<>"",$C$3<>"",G11<$C$3),"遅れ",IF(AND(L11=0,M11=0),"着手前",IF(N11<=-$I$3,"遅れ",IF(N11<0,"やや遅れ","予定どおり"))))))) | Q11: 1ページ確認待ち
A12: ページの制作（ページ） | E12: 当社 | F12: 46321 | G12: 46346 | H12: 12 | I12: 20 | J12: 4 | K12: 5 | L12: =IF(OR(I12="",J12=""),"",IF(I12<=0,"",MIN(1,J12/I12))) | M12: =IF(OR(I12="",K12=""),"",IF(I12<=0,"",MIN(1,K12/I12))) | N12: =IF(COUNT(L12,M12)<2,"",ROUND(M12*100,1)-ROUND(L12*100,1)) | O12: =IF(M12="","",IF(M12>=1,"完了",IF(L12="","",IF(AND(G12<>"",$C$3<>"",G12<$C$3),"遅れ",IF(AND(L12=0,M12=0),"着手前",IF(N12<=-$I$3,"遅れ",IF(N12<0,"やや遅れ","予定どおり"))))))) | Q12: 今週5ページ
A13: お問い合わせフォームの設定（項目） | E13: 当社 | F13: 46335 | G13: 46346 | H13: 3 | I13: 8 | J13: 0 | K13: 0 | L13: =IF(OR(I13="",J13=""),"",IF(I13<=0,"",MIN(1,J13/I13))) | M13: =IF(OR(I13="",K13=""),"",IF(I13<=0,"",MIN(1,K13/I13))) | N13: =IF(COUNT(L13,M13)<2,"",ROUND(M13*100,1)-ROUND(L13*100,1)) | O13: =IF(M13="","",IF(M13>=1,"完了",IF(L13="","",IF(AND(G13<>"",$C$3<>"",G13<$C$3),"遅れ",IF(AND(L13=0,M13=0),"着手前",IF(N13<=-$I$3,"遅れ",IF(N13<0,"やや遅れ","予定どおり"))))))) | Q13: 項目は10/28に決定
A14: 表示・動作の確認（確認項目） | E14: 当社 | F14: 46342 | G14: 46360 | H14: 5 | I14: 120 | J14: 0 | K14: 0 | L14: =IF(OR(I14="",J14=""),"",IF(I14<=0,"",MIN(1,J14/I14))) | M14: =IF(OR(I14="",K14=""),"",IF(I14<=0,"",MIN(1,K14/I14))) | N14: =IF(COUNT(L14,M14)<2,"",ROUND(M14*100,1)-ROUND(L14*100,1)) | O14: =IF(M14="","",IF(M14>=1,"完了",IF(L14="","",IF(AND(G14<>"",$C$3<>"",G14<$C$3),"遅れ",IF(AND(L14=0,M14=0),"着手前",IF(N14<=-$I$3,"遅れ",IF(N14<0,"やや遅れ","予定どおり")))))))
A15: 公開の準備・公開（作業） | E15: 当社・貴社 | F15: 46363 | G15: 46366 | H15: 2 | I15: 6 | J15: 0 | K15: 0 | L15: =IF(OR(I15="",J15=""),"",IF(I15<=0,"",MIN(1,J15/I15))) | M15: =IF(OR(I15="",K15=""),"",IF(I15<=0,"",MIN(1,K15/I15))) | N15: =IF(COUNT(L15,M15)<2,"",ROUND(M15*100,1)-ROUND(L15*100,1)) | O15: =IF(M15="","",IF(M15>=1,"完了",IF(L15="","",IF(AND(G15<>"",$C$3<>"",G15<$C$3),"遅れ",IF(AND(L15=0,M15=0),"着手前",IF(N15<=-$I$3,"遅れ",IF(N15<0,"やや遅れ","予定どおり"))))))) | Q15: 公開は12/10
L16: =IF(OR(I16="",J16=""),"",IF(I16<=0,"",MIN(1,J16/I16))) | M16: =IF(OR(I16="",K16=""),"",IF(I16<=0,"",MIN(1,K16/I16))) | N16: =IF(COUNT(L16,M16)<2,"",ROUND(M16*100,1)-ROUND(L16*100,1)) | O16: =IF(M16="","",IF(M16>=1,"完了",IF(L16="","",IF(AND(G16<>"",$C$3<>"",G16<$C$3),"遅れ",IF(AND(L16=0,M16=0),"着手前",IF(N16<=-$I$3,"遅れ",IF(N16<0,"やや遅れ","予定どおり")))))))
A17: 全体（重みで平均） | H17: =IF(COUNT(H7:H16)=0,"",SUM(H7:H16)) | L17: =IF(SUMIF(I7:I16,">0",H7:H16)=0,"",SUMPRODUCT(H7:H16,L7:L16)/SUMIF(I7:I16,">0",H7:H16)) | M17: =IF(SUMIF(I7:I16,">0",H7:H16)=0,"",SUMPRODUCT(H7:H16,M7:M16)/SUMIF(I7:I16,">0",H7:H16)) | N17: =IF(COUNT(L17,M17)<2,"",ROUND(M17*100,1)-ROUND(L17*100,1)) | O17: =IF(M17="","",IF(M17>=1,"完了",IF(N17<=-$I$3,"遅れ",IF(N17<0,"やや遅れ","予定どおり"))))
A18: 判定ごとのタスクの数 | D18: 完了 | F18: =IF(COUNTA(A7:A16)=0,"",COUNTIF(O7:O16,"完了")) | G18: 予定どおり | I18: =IF(COUNTA(A7:A16)=0,"",COUNTIF(O7:O16,"予定どおり")) | J18: やや遅れ | L18: =IF(COUNTA(A7:A16)=0,"",COUNTIF(O7:O16,"やや遅れ")) | M18: 遅れ | O18: =IF(COUNTA(A7:A16)=0,"",COUNTIF(O7:O16,"遅れ")) | P18: 着手前 | R18: =IF(COUNTA(A7:A16)=0,"",COUNTIF(O7:O16,"着手前"))
A20: 予定の量＝基準日までに終える予定だった量、終えた量＝基準日までに終えた量。進捗率＝量÷全体の量。数えられるもの（ページ・項目・件）で入れます。
A21: 差＝実績の進捗率−予定の進捗率（pt）。判定：終えた量が全体に届けば「完了」、終了予定を過ぎて終わっていなければ「遅れ」、予定も実績も0なら「着手前」。
A22: 全体の進捗率は、タスクごとの進捗率を重み（人日）で平均したものです。重みがわからないときは、すべて1を入れるとタスクの数での平均になります。色の付いた欄は数式で計算します。

Sheet 線表
A1: 線表（予定の期間） | M1: =IF('進捗報告'!$C$5="","",'進捗報告'!$C$5)
A3: 最初の週 | C3: =IF(COUNT('タスクの進捗'!F7:F16)=0,"",MIN('タスクの進捗'!F7:F16)-MOD(WEEKDAY(MIN('タスクの進捗'!F7:F16))+5,7)) | E3: 基準日 | G3: =IF('タスクの進捗'!$C$3="","",'タスクの進捗'!$C$3) | I3: ■は開始予定から終了予定までの週、▼は基準日の週です。
A5: タスク | E5: 担当 | F5: =IF($C$3="","",$C$3) | G5: =IF(F5="","",F5+7) | H5: =IF(G5="","",G5+7) | I5: =IF(H5="","",H5+7) | J5: =IF(I5="","",I5+7) | K5: =IF(J5="","",J5+7) | L5: =IF(K5="","",K5+7) | M5: =IF(L5="","",L5+7) | N5: =IF(M5="","",M5+7) | ... P5: =IF(O5="","",O5+7)
F6: =IF(OR($G$3="",F$5=""),"",IF(AND($G$3>=F$5,$G$3<=F$5+6),"▼","")) | G6: =IF(OR($G$3="",G$5=""),"",IF(AND($G$3>=G$5,$G$3<=G$5+6),"▼","")) | H6: =IF(OR($G$3="",H$5=""),"",IF(AND($G$3>=H$5,$G$3<=H$5+6),"▼","")) | I6: =IF(OR($G$3="",I$5=""),"",IF(AND($G$3>=I$5,$G$3<=I$5+6),"▼","")) | J6: =IF(OR($G$3="",J$5=""),"",IF(AND($G$3>=J$5,$G$3<=J$5+6),"▼","")) | K6: =IF(OR($G$3="",K$5=""),"",IF(AND($G$3>=K$5,$G$3<=K$5+6),"▼","")) | L6: =IF(OR($G$3="",L$5=""),"",IF(AND($G$3>=L$5,$G$3<=L$5+6),"▼","")) | M6: =IF(OR($G$3="",M$5=""),"",IF(AND($G$3>=M$5,$G$3<=M$5+6),"▼","")) | ... P6: =IF(OR($G$3="",P$5=""),"",IF(AND($G$3>=P$5,$G$3<=P$5+6),"▼",""))
A7: =IF('タスクの進捗'!$A$7="","",'タスクの進捗'!$A$7) | E7: =IF('タスクの進捗'!$E$7="","",'タスクの進捗'!$E$7) | F7: =IF(OR('タスクの進捗'!$F$7="",'タスクの進捗'!$G$7="",F$5=""),"",IF(AND('タスクの進捗'!$F$7<=F$5+6,'タスクの進捗'!$G$7>=F$5),"■■■","")) | G7: =IF(OR('タスクの進捗'!$F$7="",'タスクの進捗'!$G$7="",G$5=""),"",IF(AND('タスクの進捗'!$F$7<=G$5+6,'タスクの進捗'!$G$7>=G$5),"■■■","")) | H7: =IF(OR('タスクの進捗'!$F$7="",'タスクの進捗'!$G$7="",H$5=""),"",IF(AND('タスクの進捗'!$F$7<=H$5+6,'タスクの進捗'!$G$7>=H$5),"■■■","")) | I7: =IF(OR('タスクの進捗'!$F$7="",'タスクの進捗'!$G$7="",I$5=""),"",IF(AND('タスクの進捗'!$F$7<=I$5+6,'タスクの進捗'!$G$7>=I$5),"■■■","")) | J7: =IF(OR('タスクの進捗'!$F$7="",'タスクの進捗'!$G$7="",J$5=""),"",IF(AND('タスクの進捗'!$F$7<=J$5+6,'タスクの進捗'!$G$7>=J$5),"■■■","")) | K7: =IF(OR('タスクの進捗'!$F$7="",'タスクの進捗'!$G$7="",K$5=""),"",IF(AND('タスクの進捗'!$F$7<=K$5+6,'タスクの進捗'!$G$7>=K$5),"■■■","")) | L7: =IF(OR('タスクの進捗'!$F$7="",'タスクの進捗'!$G$7="",L$5=""),"",IF(AND('タスクの進捗'!$F$7<=L$5+6,'タスクの進捗'!$G$7>=L$5),"■■■","")) | M7: =IF(OR('タスクの進捗'!$F$7="",'タスクの進捗'!$G$7="",M$5=""),"",IF(AND('タスクの進捗'!$F$7<=M$5+6,'タスクの進捗'!$G$7>=M$5),"■■■","")) | ... P7: =IF(OR('タスクの進捗'!$F$7="",'タスクの進捗'!$G$7="",P$5=""),"",IF(AND('タスクの進捗'!$F$7<=P$5+6,'タスクの進捗'!$G$7>=P$5),"■■■",""))
A8: =IF('タスクの進捗'!$A$8="","",'タスクの進捗'!$A$8) | E8: =IF('タスクの進捗'!$E$8="","",'タスクの進捗'!$E$8) | F8: =IF(OR('タスクの進捗'!$F$8="",'タスクの進捗'!$G$8="",F$5=""),"",IF(AND('タスクの進捗'!$F$8<=F$5+6,'タスクの進捗'!$G$8>=F$5),"■■■","")) | G8: =IF(OR('タスクの進捗'!$F$8="",'タスクの進捗'!$G$8="",G$5=""),"",IF(AND('タスクの進捗'!$F$8<=G$5+6,'タスクの進捗'!$G$8>=G$5),"■■■","")) | H8: =IF(OR('タスクの進捗'!$F$8="",'タスクの進捗'!$G$8="",H$5=""),"",IF(AND('タスクの進捗'!$F$8<=H$5+6,'タスクの進捗'!$G$8>=H$5),"■■■","")) | I8: =IF(OR('タスクの進捗'!$F$8="",'タスクの進捗'!$G$8="",I$5=""),"",IF(AND('タスクの進捗'!$F$8<=I$5+6,'タスクの進捗'!$G$8>=I$5),"■■■","")) | J8: =IF(OR('タスクの進捗'!$F$8="",'タスクの進捗'!$G$8="",J$5=""),"",IF(AND('タスクの進捗'!$F$8<=J$5+6,'タスクの進捗'!$G$8>=J$5),"■■■","")) | K8: =IF(OR('タスクの進捗'!$F$8="",'タスクの進捗'!$G$8="",K$5=""),"",IF(AND('タスクの進捗'!$F$8<=K$5+6,'タスクの進捗'!$G$8>=K$5),"■■■","")) | L8: =IF(OR('タスクの進捗'!$F$8="",'タスクの進捗'!$G$8="",L$5=""),"",IF(AND('タスクの進捗'!$F$8<=L$5+6,'タスクの進捗'!$G$8>=L$5),"■■■","")) | M8: =IF(OR('タスクの進捗'!$F$8="",'タスクの進捗'!$G$8="",M$5=""),"",IF(AND('タスクの進捗'!$F$8<=M$5+6,'タスクの進捗'!$G$8>=M$5),"■■■","")) | ... P8: =IF(OR('タスクの進捗'!$F$8="",'タスクの進捗'!$G$8="",P$5=""),"",IF(AND('タスクの進捗'!$F$8<=P$5+6,'タスクの進捗'!$G$8>=P$5),"■■■",""))
A9: =IF('タスクの進捗'!$A$9="","",'タスクの進捗'!$A$9) | E9: =IF('タスクの進捗'!$E$9="","",'タスクの進捗'!$E$9) | F9: =IF(OR('タスクの進捗'!$F$9="",'タスクの進捗'!$G$9="",F$5=""),"",IF(AND('タスクの進捗'!$F$9<=F$5+6,'タスクの進捗'!$G$9>=F$5),"■■■","")) | G9: =IF(OR('タスクの進捗'!$F$9="",'タスクの進捗'!$G$9="",G$5=""),"",IF(AND('タスクの進捗'!$F$9<=G$5+6,'タスクの進捗'!$G$9>=G$5),"■■■","")) | H9: =IF(OR('タスクの進捗'!$F$9="",'タスクの進捗'!$G$9="",H$5=""),"",IF(AND('タスクの進捗'!$F$9<=H$5+6,'タスクの進捗'!$G$9>=H$5),"■■■","")) | I9: =IF(OR('タスクの進捗'!$F$9="",'タスクの進捗'!$G$9="",I$5=""),"",IF(AND('タスクの進捗'!$F$9<=I$5+6,'タスクの進捗'!$G$9>=I$5),"■■■","")) | J9: =IF(OR('タスクの進捗'!$F$9="",'タスクの進捗'!$G$9="",J$5=""),"",IF(AND('タスクの進捗'!$F$9<=J$5+6,'タスクの進捗'!$G$9>=J$5),"■■■","")) | K9: =IF(OR('タスクの進捗'!$F$9="",'タスクの進捗'!$G$9="",K$5=""),"",IF(AND('タスクの進捗'!$F$9<=K$5+6,'タスクの進捗'!$G$9>=K$5),"■■■","")) | L9: =IF(OR('タスクの進捗'!$F$9="",'タスクの進捗'!$G$9="",L$5=""),"",IF(AND('タスクの進捗'!$F$9<=L$5+6,'タスクの進捗'!$G$9>=L$5),"■■■","")) | M9: =IF(OR('タスクの進捗'!$F$9="",'タスクの進捗'!$G$9="",M$5=""),"",IF(AND('タスクの進捗'!$F$9<=M$5+6,'タスクの進捗'!$G$9>=M$5),"■■■","")) | ... P9: =IF(OR('タスクの進捗'!$F$9="",'タスクの進捗'!$G$9="",P$5=""),"",IF(AND('タスクの進捗'!$F$9<=P$5+6,'タスクの進捗'!$G$9>=P$5),"■■■",""))
A10: =IF('タスクの進捗'!$A$10="","",'タスクの進捗'!$A$10) | E10: =IF('タスクの進捗'!$E$10="","",'タスクの進捗'!$E$10) | F10: =IF(OR('タスクの進捗'!$F$10="",'タスクの進捗'!$G$10="",F$5=""),"",IF(AND('タスクの進捗'!$F$10<=F$5+6,'タスクの進捗'!$G$10>=F$5),"■■■","")) | G10: =IF(OR('タスクの進捗'!$F$10="",'タスクの進捗'!$G$10="",G$5=""),"",IF(AND('タスクの進捗'!$F$10<=G$5+6,'タスクの進捗'!$G$10>=G$5),"■■■","")) | H10: =IF(OR('タスクの進捗'!$F$10="",'タスクの進捗'!$G$10="",H$5=""),"",IF(AND('タスクの進捗'!$F$10<=H$5+6,'タスクの進捗'!$G$10>=H$5),"■■■","")) | I10: =IF(OR('タスクの進捗'!$F$10="",'タスクの進捗'!$G$10="",I$5=""),"",IF(AND('タスクの進捗'!$F$10<=I$5+6,'タスクの進捗'!$G$10>=I$5),"■■■","")) | J10: =IF(OR('タスクの進捗'!$F$10="",'タスクの進捗'!$G$10="",J$5=""),"",IF(AND('タスクの進捗'!$F$10<=J$5+6,'タスクの進捗'!$G$10>=J$5),"■■■","")) | K10: =IF(OR('タスクの進捗'!$F$10="",'タスクの進捗'!$G$10="",K$5=""),"",IF(AND('タスクの進捗'!$F$10<=K$5+6,'タスクの進捗'!$G$10>=K$5),"■■■","")) | L10: =IF(OR('タスクの進捗'!$F$10="",'タスクの進捗'!$G$10="",L$5=""),"",IF(AND('タスクの進捗'!$F$10<=L$5+6,'タスクの進捗'!$G$10>=L$5),"■■■","")) | M10: =IF(OR('タスクの進捗'!$F$10="",'タスクの進捗'!$G$10="",M$5=""),"",IF(AND('タスクの進捗'!$F$10<=M$5+6,'タスクの進捗'!$G$10>=M$5),"■■■","")) | ... P10: =IF(OR('タスクの進捗'!$F$10="",'タスクの進捗'!$G$10="",P$5=""),"",IF(AND('タスクの進捗'!$F$10<=P$5+6,'タスクの進捗'!$G$10>=P$5),"■■■",""))
A11: =IF('タスクの進捗'!$A$11="","",'タスクの進捗'!$A$11) | E11: =IF('タスクの進捗'!$E$11="","",'タスクの進捗'!$E$11) | F11: =IF(OR('タスクの進捗'!$F$11="",'タスクの進捗'!$G$11="",F$5=""),"",IF(AND('タスクの進捗'!$F$11<=F$5+6,'タスクの進捗'!$G$11>=F$5),"■■■","")) | G11: =IF(OR('タスクの進捗'!$F$11="",'タスクの進捗'!$G$11="",G$5=""),"",IF(AND('タスクの進捗'!$F$11<=G$5+6,'タスクの進捗'!$G$11>=G$5),"■■■","")) | H11: =IF(OR('タスクの進捗'!$F$11="",'タスクの進捗'!$G$11="",H$5=""),"",IF(AND('タスクの進捗'!$F$11<=H$5+6,'タスクの進捗'!$G$11>=H$5),"■■■","")) | I11: =IF(OR('タスクの進捗'!$F$11="",'タスクの進捗'!$G$11="",I$5=""),"",IF(AND('タスクの進捗'!$F$11<=I$5+6,'タスクの進捗'!$G$11>=I$5),"■■■","")) | J11: =IF(OR('タスクの進捗'!$F$11="",'タスクの進捗'!$G$11="",J$5=""),"",IF(AND('タスクの進捗'!$F$11<=J$5+6,'タスクの進捗'!$G$11>=J$5),"■■■","")) | K11: =IF(OR('タスクの進捗'!$F$11="",'タスクの進捗'!$G$11="",K$5=""),"",IF(AND('タスクの進捗'!$F$11<=K$5+6,'タスクの進捗'!$G$11>=K$5),"■■■","")) | L11: =IF(OR('タスクの進捗'!$F$11="",'タスクの進捗'!$G$11="",L$5=""),"",IF(AND('タスクの進捗'!$F$11<=L$5+6,'タスクの進捗'!$G$11>=L$5),"■■■","")) | M11: =IF(OR('タスクの進捗'!$F$11="",'タスクの進捗'!$G$11="",M$5=""),"",IF(AND('タスクの進捗'!$F$11<=M$5+6,'タスクの進捗'!$G$11>=M$5),"■■■","")) | ... P11: =IF(OR('タスクの進捗'!$F$11="",'タスクの進捗'!$G$11="",P$5=""),"",IF(AND('タスクの進捗'!$F$11<=P$5+6,'タスクの進捗'!$G$11>=P$5),"■■■",""))
A12: =IF('タスクの進捗'!$A$12="","",'タスクの進捗'!$A$12) | E12: =IF('タスクの進捗'!$E$12="","",'タスクの進捗'!$E$12) | F12: =IF(OR('タスクの進捗'!$F$12="",'タスクの進捗'!$G$12="",F$5=""),"",IF(AND('タスクの進捗'!$F$12<=F$5+6,'タスクの進捗'!$G$12>=F$5),"■■■","")) | G12: =IF(OR('タスクの進捗'!$F$12="",'タスクの進捗'!$G$12="",G$5=""),"",IF(AND('タスクの進捗'!$F$12<=G$5+6,'タスクの進捗'!$G$12>=G$5),"■■■","")) | H12: =IF(OR('タスクの進捗'!$F$12="",'タスクの進捗'!$G$12="",H$5=""),"",IF(AND('タスクの進捗'!$F$12<=H$5+6,'タスクの進捗'!$G$12>=H$5),"■■■","")) | I12: =IF(OR('タスクの進捗'!$F$12="",'タスクの進捗'!$G$12="",I$5=""),"",IF(AND('タスクの進捗'!$F$12<=I$5+6,'タスクの進捗'!$G$12>=I$5),"■■■","")) | J12: =IF(OR('タスクの進捗'!$F$12="",'タスクの進捗'!$G$12="",J$5=""),"",IF(AND('タスクの進捗'!$F$12<=J$5+6,'タスクの進捗'!$G$12>=J$5),"■■■","")) | K12: =IF(OR('タスクの進捗'!$F$12="",'タスクの進捗'!$G$12="",K$5=""),"",IF(AND('タスクの進捗'!$F$12<=K$5+6,'タスクの進捗'!$G$12>=K$5),"■■■","")) | L12: =IF(OR('タスクの進捗'!$F$12="",'タスクの進捗'!$G$12="",L$5=""),"",IF(AND('タスクの進捗'!$F$12<=L$5+6,'タスクの進捗'!$G$12>=L$5),"■■■","")) | M12: =IF(OR('タスクの進捗'!$F$12="",'タスクの進捗'!$G$12="",M$5=""),"",IF(AND('タスクの進捗'!$F$12<=M$5+6,'タスクの進捗'!$G$12>=M$5),"■■■","")) | ... P12: =IF(OR('タスクの進捗'!$F$12="",'タスクの進捗'!$G$12="",P$5=""),"",IF(AND('タスクの進捗'!$F$12<=P$5+6,'タスクの進捗'!$G$12>=P$5),"■■■",""))
A13: =IF('タスクの進捗'!$A$13="","",'タスクの進捗'!$A$13) | E13: =IF('タスクの進捗'!$E$13="","",'タスクの進捗'!$E$13) | F13: =IF(OR('タスクの進捗'!$F$13="",'タスクの進捗'!$G$13="",F$5=""),"",IF(AND('タスクの進捗'!$F$13<=F$5+6,'タスクの進捗'!$G$13>=F$5),"■■■","")) | G13: =IF(OR('タスクの進捗'!$F$13="",'タスクの進捗'!$G$13="",G$5=""),"",IF(AND('タスクの進捗'!$F$13<=G$5+6,'タスクの進捗'!$G$13>=G$5),"■■■","")) | H13: =IF(OR('タスクの進捗'!$F$13="",'タスクの進捗'!$G$13="",H$5=""),"",IF(AND('タスクの進捗'!$F$13<=H$5+6,'タスクの進捗'!$G$13>=H$5),"■■■","")) | I13: =IF(OR('タスクの進捗'!$F$13="",'タスクの進捗'!$G$13="",I$5=""),"",IF(AND('タスクの進捗'!$F$13<=I$5+6,'タスクの進捗'!$G$13>=I$5),"■■■","")) | J13: =IF(OR('タスクの進捗'!$F$13="",'タスクの進捗'!$G$13="",J$5=""),"",IF(AND('タスクの進捗'!$F$13<=J$5+6,'タスクの進捗'!$G$13>=J$5),"■■■","")) | K13: =IF(OR('タスクの進捗'!$F$13="",'タスクの進捗'!$G$13="",K$5=""),"",IF(AND('タスクの進捗'!$F$13<=K$5+6,'タスクの進捗'!$G$13>=K$5),"■■■","")) | L13: =IF(OR('タスクの進捗'!$F$13="",'タスクの進捗'!$G$13="",L$5=""),"",IF(AND('タスクの進捗'!$F$13<=L$5+6,'タスクの進捗'!$G$13>=L$5),"■■■","")) | M13: =IF(OR('タスクの進捗'!$F$13="",'タスクの進捗'!$G$13="",M$5=""),"",IF(AND('タスクの進捗'!$F$13<=M$5+6,'タスクの進捗'!$G$13>=M$5),"■■■","")) | ... P13: =IF(OR('タスクの進捗'!$F$13="",'タスクの進捗'!$G$13="",P$5=""),"",IF(AND('タスクの進捗'!$F$13<=P$5+6,'タスクの進捗'!$G$13>=P$5),"■■■",""))
A14: =IF('タスクの進捗'!$A$14="","",'タスクの進捗'!$A$14) | E14: =IF('タスクの進捗'!$E$14="","",'タスクの進捗'!$E$14) | F14: =IF(OR('タスクの進捗'!$F$14="",'タスクの進捗'!$G$14="",F$5=""),"",IF(AND('タスクの進捗'!$F$14<=F$5+6,'タスクの進捗'!$G$14>=F$5),"■■■","")) | G14: =IF(OR('タスクの進捗'!$F$14="",'タスクの進捗'!$G$14="",G$5=""),"",IF(AND('タスクの進捗'!$F$14<=G$5+6,'タスクの進捗'!$G$14>=G$5),"■■■","")) | H14: =IF(OR('タスクの進捗'!$F$14="",'タスクの進捗'!$G$14="",H$5=""),"",IF(AND('タスクの進捗'!$F$14<=H$5+6,'タスクの進捗'!$G$14>=H$5),"■■■","")) | I14: =IF(OR('タスクの進捗'!$F$14="",'タスクの進捗'!$G$14="",I$5=""),"",IF(AND('タスクの進捗'!$F$14<=I$5+6,'タスクの進捗'!$G$14>=I$5),"■■■","")) | J14: =IF(OR('タスクの進捗'!$F$14="",'タスクの進捗'!$G$14="",J$5=""),"",IF(AND('タスクの進捗'!$F$14<=J$5+6,'タスクの進捗'!$G$14>=J$5),"■■■","")) | K14: =IF(OR('タスクの進捗'!$F$14="",'タスクの進捗'!$G$14="",K$5=""),"",IF(AND('タスクの進捗'!$F$14<=K$5+6,'タスクの進捗'!$G$14>=K$5),"■■■","")) | L14: =IF(OR('タスクの進捗'!$F$14="",'タスクの進捗'!$G$14="",L$5=""),"",IF(AND('タスクの進捗'!$F$14<=L$5+6,'タスクの進捗'!$G$14>=L$5),"■■■","")) | M14: =IF(OR('タスクの進捗'!$F$14="",'タスクの進捗'!$G$14="",M$5=""),"",IF(AND('タスクの進捗'!$F$14<=M$5+6,'タスクの進捗'!$G$14>=M$5),"■■■","")) | ... P14: =IF(OR('タスクの進捗'!$F$14="",'タスクの進捗'!$G$14="",P$5=""),"",IF(AND('タスクの進捗'!$F$14<=P$5+6,'タスクの進捗'!$G$14>=P$5),"■■■",""))
A15: =IF('タスクの進捗'!$A$15="","",'タスクの進捗'!$A$15) | E15: =IF('タスクの進捗'!$E$15="","",'タスクの進捗'!$E$15) | F15: =IF(OR('タスクの進捗'!$F$15="",'タスクの進捗'!$G$15="",F$5=""),"",IF(AND('タスクの進捗'!$F$15<=F$5+6,'タスクの進捗'!$G$15>=F$5),"■■■","")) | G15: =IF(OR('タスクの進捗'!$F$15="",'タスクの進捗'!$G$15="",G$5=""),"",IF(AND('タスクの進捗'!$F$15<=G$5+6,'タスクの進捗'!$G$15>=G$5),"■■■","")) | H15: =IF(OR('タスクの進捗'!$F$15="",'タスクの進捗'!$G$15="",H$5=""),"",IF(AND('タスクの進捗'!$F$15<=H$5+6,'タスクの進捗'!$G$15>=H$5),"■■■","")) | I15: =IF(OR('タスクの進捗'!$F$15="",'タスクの進捗'!$G$15="",I$5=""),"",IF(AND('タスクの進捗'!$F$15<=I$5+6,'タスクの進捗'!$G$15>=I$5),"■■■","")) | J15: =IF(OR('タスクの進捗'!$F$15="",'タスクの進捗'!$G$15="",J$5=""),"",IF(AND('タスクの進捗'!$F$15<=J$5+6,'タスクの進捗'!$G$15>=J$5),"■■■","")) | K15: =IF(OR('タスクの進捗'!$F$15="",'タスクの進捗'!$G$15="",K$5=""),"",IF(AND('タスクの進捗'!$F$15<=K$5+6,'タスクの進捗'!$G$15>=K$5),"■■■","")) | L15: =IF(OR('タスクの進捗'!$F$15="",'タスクの進捗'!$G$15="",L$5=""),"",IF(AND('タスクの進捗'!$F$15<=L$5+6,'タスクの進捗'!$G$15>=L$5),"■■■","")) | M15: =IF(OR('タスクの進捗'!$F$15="",'タスクの進捗'!$G$15="",M$5=""),"",IF(AND('タスクの進捗'!$F$15<=M$5+6,'タスクの進捗'!$G$15>=M$5),"■■■","")) | ... P15: =IF(OR('タスクの進捗'!$F$15="",'タスクの進捗'!$G$15="",P$5=""),"",IF(AND('タスクの進捗'!$F$15<=P$5+6,'タスクの進捗'!$G$15>=P$5),"■■■",""))
A16: =IF('タスクの進捗'!$A$16="","",'タスクの進捗'!$A$16) | E16: =IF('タスクの進捗'!$E$16="","",'タスクの進捗'!$E$16) | F16: =IF(OR('タスクの進捗'!$F$16="",'タスクの進捗'!$G$16="",F$5=""),"",IF(AND('タスクの進捗'!$F$16<=F$5+6,'タスクの進捗'!$G$16>=F$5),"■■■","")) | G16: =IF(OR('タスクの進捗'!$F$16="",'タスクの進捗'!$G$16="",G$5=""),"",IF(AND('タスクの進捗'!$F$16<=G$5+6,'タスクの進捗'!$G$16>=G$5),"■■■","")) | H16: =IF(OR('タスクの進捗'!$F$16="",'タスクの進捗'!$G$16="",H$5=""),"",IF(AND('タスクの進捗'!$F$16<=H$5+6,'タスクの進捗'!$G$16>=H$5),"■■■","")) | I16: =IF(OR('タスクの進捗'!$F$16="",'タスクの進捗'!$G$16="",I$5=""),"",IF(AND('タスクの進捗'!$F$16<=I$5+6,'タスクの進捗'!$G$16>=I$5),"■■■","")) | J16: =IF(OR('タスクの進捗'!$F$16="",'タスクの進捗'!$G$16="",J$5=""),"",IF(AND('タスクの進捗'!$F$16<=J$5+6,'タスクの進捗'!$G$16>=J$5),"■■■","")) | K16: =IF(OR('タスクの進捗'!$F$16="",'タスクの進捗'!$G$16="",K$5=""),"",IF(AND('タスクの進捗'!$F$16<=K$5+6,'タスクの進捗'!$G$16>=K$5),"■■■","")) | L16: =IF(OR('タスクの進捗'!$F$16="",'タスクの進捗'!$G$16="",L$5=""),"",IF(AND('タスクの進捗'!$F$16<=L$5+6,'タスクの進捗'!$G$16>=L$5),"■■■","")) | M16: =IF(OR('タスクの進捗'!$F$16="",'タスクの進捗'!$G$16="",M$5=""),"",IF(AND('タスクの進捗'!$F$16<=M$5+6,'タスクの進捗'!$G$16>=M$5),"■■■","")) | ... P16: =IF(OR('タスクの進捗'!$F$16="",'タスクの進捗'!$G$16="",P$5=""),"",IF(AND('タスクの進捗'!$F$16<=P$5+6,'タスクの進捗'!$G$16>=P$5),"■■■",""))
A18: この表は、2枚目の「タスクの進捗」のタスク・担当・開始予定・終了予定から、数式で出します。色の付いた欄に書き込む必要はありません。
A19: 最初の週には、開始予定のいちばん早い日の週（月曜日）が入ります。後ろの期間を見たいときは、その欄に月曜日の日付を書き込みます。
