Workbook

Sheet 日単位
A1: ガントチャート（日単位）
A3: 案件名 | D3: 展示会の出展準備（会期：11月11日〜13日） | T3: 基準日 | W3: 46330 | AB3: 判定に使う日 | AG3: =IF(W3="",TODAY(),W3) | AL3: 遅れと判定する差 | AR3: 10
A4: 表の開始日 | D4: 46314 | I4: 表の最初の日 | N4: =IF(D4="",IF(COUNT($K$11:$K$23)=0,"",MIN($K$11:$K$23)),D4) | S4: 基準日が空欄のときは、今日の日付で判定します。表の開始日が空欄のときは、開始のいちばん早い日から日付を並べます。
A5: 判定ごとのタスクの数 | I5: 完了 | L5: =IF(COUNTA($B$11:$B$23)=0,"",COUNTIF($U$11:$U$23,"完了")) | N5: 予定どおり | R5: =IF(COUNTA($B$11:$B$23)=0,"",COUNTIF($U$11:$U$23,"予定どおり")) | T5: やや遅れ | X5: =IF(COUNTA($B$11:$B$23)=0,"",COUNTIF($U$11:$U$23,"やや遅れ")) | Z5: 遅れ | AC5: =IF(COUNTA($B$11:$B$23)=0,"",COUNTIF($U$11:$U$23,"遅れ")) | AE5: 着手前 | AH5: =IF(COUNTA($B$11:$B$23)=0,"",COUNTIF($U$11:$U$23,"着手前"))
A7: ■ 予定の期間のうち終わった分 □ まだの分 ・ 休みの日 ▼ 基準日 | X7: =IF(OR(X9="",$AG$3=""),"",IF(X9=$AG$3,"▼","")) | Y7: =IF(OR(Y9="",$AG$3=""),"",IF(Y9=$AG$3,"▼","")) | Z7: =IF(OR(Z9="",$AG$3=""),"",IF(Z9=$AG$3,"▼","")) | AA7: =IF(OR(AA9="",$AG$3=""),"",IF(AA9=$AG$3,"▼","")) | AB7: =IF(OR(AB9="",$AG$3=""),"",IF(AB9=$AG$3,"▼","")) | AC7: =IF(OR(AC9="",$AG$3=""),"",IF(AC9=$AG$3,"▼","")) | AD7: =IF(OR(AD9="",$AG$3=""),"",IF(AD9=$AG$3,"▼","")) | AE7: =IF(OR(AE9="",$AG$3=""),"",IF(AE9=$AG$3,"▼","")) | ... BB7: =IF(OR(BB9="",$AG$3=""),"",IF(BB9=$AG$3,"▼",""))
A8: No. | B8: タスク | I8: 担当 | K8: 開始 | M8: 終了 | O8: 作業 日数 | Q8: 進捗率 (実績) | S8: 進捗率 (予定) | U8: 判定 | X8: =IF(X9="","",MONTH(X9)&"月") | Y8: =IF(Y9="","",IF(DAY(Y9)=1,MONTH(Y9)&"月","")) | Z8: =IF(Z9="","",IF(DAY(Z9)=1,MONTH(Z9)&"月","")) | AA8: =IF(AA9="","",IF(DAY(AA9)=1,MONTH(AA9)&"月","")) | AB8: =IF(AB9="","",IF(DAY(AB9)=1,MONTH(AB9)&"月","")) | AC8: =IF(AC9="","",IF(DAY(AC9)=1,MONTH(AC9)&"月","")) | AD8: =IF(AD9="","",IF(DAY(AD9)=1,MONTH(AD9)&"月","")) | AE8: =IF(AE9="","",IF(DAY(AE9)=1,MONTH(AE9)&"月","")) | AF8: =IF(AF9="","",IF(DAY(AF9)=1,MONTH(AF9)&"月","")) | ... BB8: =IF(BB9="","",IF(DAY(BB9)=1,MONTH(BB9)&"月",""))
X9: =IF($N$4="","",$N$4) | Y9: =IF(X9="","",X9+1) | Z9: =IF(Y9="","",Y9+1) | AA9: =IF(Z9="","",Z9+1) | AB9: =IF(AA9="","",AA9+1) | AC9: =IF(AB9="","",AB9+1) | AD9: =IF(AC9="","",AC9+1) | AE9: =IF(AD9="","",AD9+1) | AF9: =IF(AE9="","",AE9+1) | ... BB9: =IF(BA9="","",BA9+1)
X10: =IF(X9="","",IF(COUNTIF('休みの日'!$B$7:$B$56,X9)>0,"休",MID("日月火水木金土",WEEKDAY(X9),1))) | Y10: =IF(Y9="","",IF(COUNTIF('休みの日'!$B$7:$B$56,Y9)>0,"休",MID("日月火水木金土",WEEKDAY(Y9),1))) | Z10: =IF(Z9="","",IF(COUNTIF('休みの日'!$B$7:$B$56,Z9)>0,"休",MID("日月火水木金土",WEEKDAY(Z9),1))) | AA10: =IF(AA9="","",IF(COUNTIF('休みの日'!$B$7:$B$56,AA9)>0,"休",MID("日月火水木金土",WEEKDAY(AA9),1))) | AB10: =IF(AB9="","",IF(COUNTIF('休みの日'!$B$7:$B$56,AB9)>0,"休",MID("日月火水木金土",WEEKDAY(AB9),1))) | AC10: =IF(AC9="","",IF(COUNTIF('休みの日'!$B$7:$B$56,AC9)>0,"休",MID("日月火水木金土",WEEKDAY(AC9),1))) | AD10: =IF(AD9="","",IF(COUNTIF('休みの日'!$B$7:$B$56,AD9)>0,"休",MID("日月火水木金土",WEEKDAY(AD9),1))) | AE10: =IF(AE9="","",IF(COUNTIF('休みの日'!$B$7:$B$56,AE9)>0,"休",MID("日月火水木金土",WEEKDAY(AE9),1))) | ... BB10: =IF(BB9="","",IF(COUNTIF('休みの日'!$B$7:$B$56,BB9)>0,"休",MID("日月火水木金土",WEEKDAY(BB9),1)))
A11: 1 | B11: 展示する製品と説明の決定 | I11: 北川 | K11: 46314 | M11: 46318 | O11: =IF(OR($K11="",$M11=""),"",_xlfn.NETWORKDAYS.INTL($K11,$M11,'休みの日'!$D$4,'休みの日'!$B$7:$B$56)) | Q11: 1 | S11: =IF(OR($O11="",$AG$3=""),"",IF($O11<=0,"",IF($AG$3<$K11,0,IF($AG$3>=$M11,1,_xlfn.NETWORKDAYS.INTL($K11,$AG$3,'休みの日'!$D$4,'休みの日'!$B$7:$B$56)/$O11)))) | U11: =IF(OR($B11="",$K11="",$M11=""),"",IF(N($Q11)>=1,"完了",IF($AG$3>$M11,"遅れ",IF($AG$3<$K11,IF(N($Q11)>0,"予定どおり","着手前"),IF($S11="","",IF(ROUND(N($Q11)*100,1)-ROUND($S11*100,1)<=-$AR$3,"遅れ",IF(N($Q11)<$S11,"やや遅れ","予定どおり"))))))) | X11: =IF(OR($K11="",$M11="",X$9=""),"",IF(AND(X$9>=$K11,X$9<=$M11),IF(_xlfn.NETWORKDAYS.INTL(X$9,X$9,'休みの日'!$D$4,'休みの日'!$B$7:$B$56)=0,"・",IF(_xlfn.NETWORKDAYS.INTL($K11,X$9,'休みの日'!$D$4,'休みの日'!$B$7:$B$56)<=ROUND(N($O11)*N($Q11),0),"■","□")),"")) | Y11: =IF(OR($K11="",$M11="",Y$9=""),"",IF(AND(Y$9>=$K11,Y$9<=$M11),IF(_xlfn.NETWORKDAYS.INTL(Y$9,Y$9,'休みの日'!$D$4,'休みの日'!$B$7:$B$56)=0,"・",IF(_xlfn.NETWORKDAYS.INTL($K11,Y$9,'休みの日'!$D$4,'休みの日'!$B$7:$B$56)<=ROUND(N($O11)*N($Q11),0),"■","□")),"")) | Z11: =IF(OR($K11="",$M11="",Z$9=""),"",IF(AND(Z$9>=$K11,Z$9<=$M11),IF(_xlfn.NETWORKDAYS.INTL(Z$9,Z$9,'休みの日'!$D$4,'休みの日'!$B$7:$B$56)=0,"・",IF(_xlfn.NETWORKDAYS.INTL($K11,Z$9,'休みの日'!$D$4,'休みの日'!$B$7:$B$56)<=ROUND(N($O11)*N($Q11),0),"■","□")),"")) | AA11: =IF(OR($K11="",$M11="",AA$9=""),"",IF(AND(AA$9>=$K11,AA$9<=$M11),IF(_xlfn.NETWORKDAYS.INTL(AA$9,AA$9,'休みの日'!$D$4,'休みの日'!$B$7:$B$56)=0,"・",IF(_xlfn.NETWORKDAYS.INTL($K11,AA$9,'休みの日'!$D$4,'休みの日'!$B$7:$B$56)<=ROUND(N($O11)*N($Q11),0),"■","□")),"")) | AB11: =IF(OR($K11="",$M11="",AB$9=""),"",IF(AND(AB$9>=$K11,AB$9<=$M11),IF(_xlfn.NETWORKDAYS.INTL(AB$9,AB$9,'休みの日'!$D$4,'休みの日'!$B$7:$B$56)=0,"・",IF(_xlfn.NETWORKDAYS.INTL($K11,AB$9,'休みの日'!$D$4,'休みの日'!$B$7:$B$56)<=ROUND(N($O11)*N($Q11),0),"■","□")),"")) | AC11: =IF(OR($K11="",$M11="",AC$9=""),"",IF(AND(AC$9>=$K11,AC$9<=$M11),IF(_xlfn.NETWORKDAYS.INTL(AC$9,AC$9,'休みの日'!$D$4,'休みの日'!$B$7:$B$56)=0,"・",IF(_xlfn.NETWORKDAYS.INTL($K11,AC$9,'休みの日'!$D$4,'休みの日'!$B$7:$B$56)<=ROUND(N($O11)*N($Q11),0),"■","□")),"")) | AD11: =IF(OR($K11="",$M11="",AD$9=""),"",IF(AND(AD$9>=$K11,AD$9<=$M11),IF(_xlfn.NETWORKDAYS.INTL(AD$9,AD$9,'休みの日'!$D$4,'休みの日'!$B$7:$B$56)=0,"・",IF(_xlfn.NETWORKDAYS.INTL($K11,AD$9,'休みの日'!$D$4,'休みの日'!$B$7:$B$56)<=ROUND(N($O11)*N($Q11),0),"■","□")),"")) | AE11: =IF(OR($K11="",$M11="",AE$9=""),"",IF(AND(AE$9>=$K11,AE$9<=$M11),IF(_xlfn.NETWORKDAYS.INTL(AE$9,AE$9,'休みの日'!$D$4,'休みの日'!$B$7:$B$56)=0,"・",IF(_xlfn.NETWORKDAYS.INTL($K11,AE$9,'休みの日'!$D$4,'休みの日'!$B$7:$B$56)<=ROUND(N($O11)*N($Q11),0),"■","□")),"")) | ... BB11: =IF(OR($K11="",$M11="",BB$9=""),"",IF(AND(BB$9>=$K11,BB$9<=$M11),IF(_xlfn.NETWORKDAYS.INTL(BB$9,BB$9,'休みの日'!$D$4,'休みの日'!$B$7:$B$56)=0,"・",IF(_xlfn.NETWORKDAYS.INTL($K11,BB$9,'休みの日'!$D$4,'休みの日'!$B$7:$B$56)<=ROUND(N($O11)*N($Q11),0),"■","□")),""))
A12: 2 | B12: パネル・チラシの原稿づくり | I12: 小林 | K12: 46317 | M12: 46325 | O12: =IF(OR($K12="",$M12=""),"",_xlfn.NETWORKDAYS.INTL($K12,$M12,'休みの日'!$D$4,'休みの日'!$B$7:$B$56)) | Q12: 1 | S12: =IF(OR($O12="",$AG$3=""),"",IF($O12<=0,"",IF($AG$3<$K12,0,IF($AG$3>=$M12,1,_xlfn.NETWORKDAYS.INTL($K12,$AG$3,'休みの日'!$D$4,'休みの日'!$B$7:$B$56)/$O12)))) | U12: =IF(OR($B12="",$K12="",$M12=""),"",IF(N($Q12)>=1,"完了",IF($AG$3>$M12,"遅れ",IF($AG$3<$K12,IF(N($Q12)>0,"予定どおり","着手前"),IF($S12="","",IF(ROUND(N($Q12)*100,1)-ROUND($S12*100,1)<=-$AR$3,"遅れ",IF(N($Q12)<$S12,"やや遅れ","予定どおり"))))))) | X12: =IF(OR($K12="",$M12="",X$9=""),"",IF(AND(X$9>=$K12,X$9<=$M12),IF(_xlfn.NETWORKDAYS.INTL(X$9,X$9,'休みの日'!$D$4,'休みの日'!$B$7:$B$56)=0,"・",IF(_xlfn.NETWORKDAYS.INTL($K12,X$9,'休みの日'!$D$4,'休みの日'!$B$7:$B$56)<=ROUND(N($O12)*N($Q12),0),"■","□")),"")) | Y12: =IF(OR($K12="",$M12="",Y$9=""),"",IF(AND(Y$9>=$K12,Y$9<=$M12),IF(_xlfn.NETWORKDAYS.INTL(Y$9,Y$9,'休みの日'!$D$4,'休みの日'!$B$7:$B$56)=0,"・",IF(_xlfn.NETWORKDAYS.INTL($K12,Y$9,'休みの日'!$D$4,'休みの日'!$B$7:$B$56)<=ROUND(N($O12)*N($Q12),0),"■","□")),"")) | Z12: =IF(OR($K12="",$M12="",Z$9=""),"",IF(AND(Z$9>=$K12,Z$9<=$M12),IF(_xlfn.NETWORKDAYS.INTL(Z$9,Z$9,'休みの日'!$D$4,'休みの日'!$B$7:$B$56)=0,"・",IF(_xlfn.NETWORKDAYS.INTL($K12,Z$9,'休みの日'!$D$4,'休みの日'!$B$7:$B$56)<=ROUND(N($O12)*N($Q12),0),"■","□")),"")) | AA12: =IF(OR($K12="",$M12="",AA$9=""),"",IF(AND(AA$9>=$K12,AA$9<=$M12),IF(_xlfn.NETWORKDAYS.INTL(AA$9,AA$9,'休みの日'!$D$4,'休みの日'!$B$7:$B$56)=0,"・",IF(_xlfn.NETWORKDAYS.INTL($K12,AA$9,'休みの日'!$D$4,'休みの日'!$B$7:$B$56)<=ROUND(N($O12)*N($Q12),0),"■","□")),"")) | AB12: =IF(OR($K12="",$M12="",AB$9=""),"",IF(AND(AB$9>=$K12,AB$9<=$M12),IF(_xlfn.NETWORKDAYS.INTL(AB$9,AB$9,'休みの日'!$D$4,'休みの日'!$B$7:$B$56)=0,"・",IF(_xlfn.NETWORKDAYS.INTL($K12,AB$9,'休みの日'!$D$4,'休みの日'!$B$7:$B$56)<=ROUND(N($O12)*N($Q12),0),"■","□")),"")) | AC12: =IF(OR($K12="",$M12="",AC$9=""),"",IF(AND(AC$9>=$K12,AC$9<=$M12),IF(_xlfn.NETWORKDAYS.INTL(AC$9,AC$9,'休みの日'!$D$4,'休みの日'!$B$7:$B$56)=0,"・",IF(_xlfn.NETWORKDAYS.INTL($K12,AC$9,'休みの日'!$D$4,'休みの日'!$B$7:$B$56)<=ROUND(N($O12)*N($Q12),0),"■","□")),"")) | AD12: =IF(OR($K12="",$M12="",AD$9=""),"",IF(AND(AD$9>=$K12,AD$9<=$M12),IF(_xlfn.NETWORKDAYS.INTL(AD$9,AD$9,'休みの日'!$D$4,'休みの日'!$B$7:$B$56)=0,"・",IF(_xlfn.NETWORKDAYS.INTL($K12,AD$9,'休みの日'!$D$4,'休みの日'!$B$7:$B$56)<=ROUND(N($O12)*N($Q12),0),"■","□")),"")) | AE12: =IF(OR($K12="",$M12="",AE$9=""),"",IF(AND(AE$9>=$K12,AE$9<=$M12),IF(_xlfn.NETWORKDAYS.INTL(AE$9,AE$9,'休みの日'!$D$4,'休みの日'!$B$7:$B$56)=0,"・",IF(_xlfn.NETWORKDAYS.INTL($K12,AE$9,'休みの日'!$D$4,'休みの日'!$B$7:$B$56)<=ROUND(N($O12)*N($Q12),0),"■","□")),"")) | ... BB12: =IF(OR($K12="",$M12="",BB$9=""),"",IF(AND(BB$9>=$K12,BB$9<=$M12),IF(_xlfn.NETWORKDAYS.INTL(BB$9,BB$9,'休みの日'!$D$4,'休みの日'!$B$7:$B$56)=0,"・",IF(_xlfn.NETWORKDAYS.INTL($K12,BB$9,'休みの日'!$D$4,'休みの日'!$B$7:$B$56)<=ROUND(N($O12)*N($Q12),0),"■","□")),""))
A13: 3 | B13: パネル・チラシのデザインの確認 | I13: 北川 | K13: 46324 | M13: 46331 | O13: =IF(OR($K13="",$M13=""),"",_xlfn.NETWORKDAYS.INTL($K13,$M13,'休みの日'!$D$4,'休みの日'!$B$7:$B$56)) | Q13: 0.5 | S13: =IF(OR($O13="",$AG$3=""),"",IF($O13<=0,"",IF($AG$3<$K13,0,IF($AG$3>=$M13,1,_xlfn.NETWORKDAYS.INTL($K13,$AG$3,'休みの日'!$D$4,'休みの日'!$B$7:$B$56)/$O13)))) | U13: =IF(OR($B13="",$K13="",$M13=""),"",IF(N($Q13)>=1,"完了",IF($AG$3>$M13,"遅れ",IF($AG$3<$K13,IF(N($Q13)>0,"予定どおり","着手前"),IF($S13="","",IF(ROUND(N($Q13)*100,1)-ROUND($S13*100,1)<=-$AR$3,"遅れ",IF(N($Q13)<$S13,"やや遅れ","予定どおり"))))))) | X13: =IF(OR($K13="",$M13="",X$9=""),"",IF(AND(X$9>=$K13,X$9<=$M13),IF(_xlfn.NETWORKDAYS.INTL(X$9,X$9,'休みの日'!$D$4,'休みの日'!$B$7:$B$56)=0,"・",IF(_xlfn.NETWORKDAYS.INTL($K13,X$9,'休みの日'!$D$4,'休みの日'!$B$7:$B$56)<=ROUND(N($O13)*N($Q13),0),"■","□")),"")) | Y13: =IF(OR($K13="",$M13="",Y$9=""),"",IF(AND(Y$9>=$K13,Y$9<=$M13),IF(_xlfn.NETWORKDAYS.INTL(Y$9,Y$9,'休みの日'!$D$4,'休みの日'!$B$7:$B$56)=0,"・",IF(_xlfn.NETWORKDAYS.INTL($K13,Y$9,'休みの日'!$D$4,'休みの日'!$B$7:$B$56)<=ROUND(N($O13)*N($Q13),0),"■","□")),"")) | Z13: =IF(OR($K13="",$M13="",Z$9=""),"",IF(AND(Z$9>=$K13,Z$9<=$M13),IF(_xlfn.NETWORKDAYS.INTL(Z$9,Z$9,'休みの日'!$D$4,'休みの日'!$B$7:$B$56)=0,"・",IF(_xlfn.NETWORKDAYS.INTL($K13,Z$9,'休みの日'!$D$4,'休みの日'!$B$7:$B$56)<=ROUND(N($O13)*N($Q13),0),"■","□")),"")) | AA13: =IF(OR($K13="",$M13="",AA$9=""),"",IF(AND(AA$9>=$K13,AA$9<=$M13),IF(_xlfn.NETWORKDAYS.INTL(AA$9,AA$9,'休みの日'!$D$4,'休みの日'!$B$7:$B$56)=0,"・",IF(_xlfn.NETWORKDAYS.INTL($K13,AA$9,'休みの日'!$D$4,'休みの日'!$B$7:$B$56)<=ROUND(N($O13)*N($Q13),0),"■","□")),"")) | AB13: =IF(OR($K13="",$M13="",AB$9=""),"",IF(AND(AB$9>=$K13,AB$9<=$M13),IF(_xlfn.NETWORKDAYS.INTL(AB$9,AB$9,'休みの日'!$D$4,'休みの日'!$B$7:$B$56)=0,"・",IF(_xlfn.NETWORKDAYS.INTL($K13,AB$9,'休みの日'!$D$4,'休みの日'!$B$7:$B$56)<=ROUND(N($O13)*N($Q13),0),"■","□")),"")) | AC13: =IF(OR($K13="",$M13="",AC$9=""),"",IF(AND(AC$9>=$K13,AC$9<=$M13),IF(_xlfn.NETWORKDAYS.INTL(AC$9,AC$9,'休みの日'!$D$4,'休みの日'!$B$7:$B$56)=0,"・",IF(_xlfn.NETWORKDAYS.INTL($K13,AC$9,'休みの日'!$D$4,'休みの日'!$B$7:$B$56)<=ROUND(N($O13)*N($Q13),0),"■","□")),"")) | AD13: =IF(OR($K13="",$M13="",AD$9=""),"",IF(AND(AD$9>=$K13,AD$9<=$M13),IF(_xlfn.NETWORKDAYS.INTL(AD$9,AD$9,'休みの日'!$D$4,'休みの日'!$B$7:$B$56)=0,"・",IF(_xlfn.NETWORKDAYS.INTL($K13,AD$9,'休みの日'!$D$4,'休みの日'!$B$7:$B$56)<=ROUND(N($O13)*N($Q13),0),"■","□")),"")) | AE13: =IF(OR($K13="",$M13="",AE$9=""),"",IF(AND(AE$9>=$K13,AE$9<=$M13),IF(_xlfn.NETWORKDAYS.INTL(AE$9,AE$9,'休みの日'!$D$4,'休みの日'!$B$7:$B$56)=0,"・",IF(_xlfn.NETWORKDAYS.INTL($K13,AE$9,'休みの日'!$D$4,'休みの日'!$B$7:$B$56)<=ROUND(N($O13)*N($Q13),0),"■","□")),"")) | ... BB13: =IF(OR($K13="",$M13="",BB$9=""),"",IF(AND(BB$9>=$K13,BB$9<=$M13),IF(_xlfn.NETWORKDAYS.INTL(BB$9,BB$9,'休みの日'!$D$4,'休みの日'!$B$7:$B$56)=0,"・",IF(_xlfn.NETWORKDAYS.INTL($K13,BB$9,'休みの日'!$D$4,'休みの日'!$B$7:$B$56)<=ROUND(N($O13)*N($Q13),0),"■","□")),""))
A14: 4 | B14: ノベルティの発注と受け取り | I14: 石田 | K14: 46321 | M14: 46332 | O14: =IF(OR($K14="",$M14=""),"",_xlfn.NETWORKDAYS.INTL($K14,$M14,'休みの日'!$D$4,'休みの日'!$B$7:$B$56)) | Q14: 0.7 | S14: =IF(OR($O14="",$AG$3=""),"",IF($O14<=0,"",IF($AG$3<$K14,0,IF($AG$3>=$M14,1,_xlfn.NETWORKDAYS.INTL($K14,$AG$3,'休みの日'!$D$4,'休みの日'!$B$7:$B$56)/$O14)))) | U14: =IF(OR($B14="",$K14="",$M14=""),"",IF(N($Q14)>=1,"完了",IF($AG$3>$M14,"遅れ",IF($AG$3<$K14,IF(N($Q14)>0,"予定どおり","着手前"),IF($S14="","",IF(ROUND(N($Q14)*100,1)-ROUND($S14*100,1)<=-$AR$3,"遅れ",IF(N($Q14)<$S14,"やや遅れ","予定どおり"))))))) | X14: =IF(OR($K14="",$M14="",X$9=""),"",IF(AND(X$9>=$K14,X$9<=$M14),IF(_xlfn.NETWORKDAYS.INTL(X$9,X$9,'休みの日'!$D$4,'休みの日'!$B$7:$B$56)=0,"・",IF(_xlfn.NETWORKDAYS.INTL($K14,X$9,'休みの日'!$D$4,'休みの日'!$B$7:$B$56)<=ROUND(N($O14)*N($Q14),0),"■","□")),"")) | Y14: =IF(OR($K14="",$M14="",Y$9=""),"",IF(AND(Y$9>=$K14,Y$9<=$M14),IF(_xlfn.NETWORKDAYS.INTL(Y$9,Y$9,'休みの日'!$D$4,'休みの日'!$B$7:$B$56)=0,"・",IF(_xlfn.NETWORKDAYS.INTL($K14,Y$9,'休みの日'!$D$4,'休みの日'!$B$7:$B$56)<=ROUND(N($O14)*N($Q14),0),"■","□")),"")) | Z14: =IF(OR($K14="",$M14="",Z$9=""),"",IF(AND(Z$9>=$K14,Z$9<=$M14),IF(_xlfn.NETWORKDAYS.INTL(Z$9,Z$9,'休みの日'!$D$4,'休みの日'!$B$7:$B$56)=0,"・",IF(_xlfn.NETWORKDAYS.INTL($K14,Z$9,'休みの日'!$D$4,'休みの日'!$B$7:$B$56)<=ROUND(N($O14)*N($Q14),0),"■","□")),"")) | AA14: =IF(OR($K14="",$M14="",AA$9=""),"",IF(AND(AA$9>=$K14,AA$9<=$M14),IF(_xlfn.NETWORKDAYS.INTL(AA$9,AA$9,'休みの日'!$D$4,'休みの日'!$B$7:$B$56)=0,"・",IF(_xlfn.NETWORKDAYS.INTL($K14,AA$9,'休みの日'!$D$4,'休みの日'!$B$7:$B$56)<=ROUND(N($O14)*N($Q14),0),"■","□")),"")) | AB14: =IF(OR($K14="",$M14="",AB$9=""),"",IF(AND(AB$9>=$K14,AB$9<=$M14),IF(_xlfn.NETWORKDAYS.INTL(AB$9,AB$9,'休みの日'!$D$4,'休みの日'!$B$7:$B$56)=0,"・",IF(_xlfn.NETWORKDAYS.INTL($K14,AB$9,'休みの日'!$D$4,'休みの日'!$B$7:$B$56)<=ROUND(N($O14)*N($Q14),0),"■","□")),"")) | AC14: =IF(OR($K14="",$M14="",AC$9=""),"",IF(AND(AC$9>=$K14,AC$9<=$M14),IF(_xlfn.NETWORKDAYS.INTL(AC$9,AC$9,'休みの日'!$D$4,'休みの日'!$B$7:$B$56)=0,"・",IF(_xlfn.NETWORKDAYS.INTL($K14,AC$9,'休みの日'!$D$4,'休みの日'!$B$7:$B$56)<=ROUND(N($O14)*N($Q14),0),"■","□")),"")) | AD14: =IF(OR($K14="",$M14="",AD$9=""),"",IF(AND(AD$9>=$K14,AD$9<=$M14),IF(_xlfn.NETWORKDAYS.INTL(AD$9,AD$9,'休みの日'!$D$4,'休みの日'!$B$7:$B$56)=0,"・",IF(_xlfn.NETWORKDAYS.INTL($K14,AD$9,'休みの日'!$D$4,'休みの日'!$B$7:$B$56)<=ROUND(N($O14)*N($Q14),0),"■","□")),"")) | AE14: =IF(OR($K14="",$M14="",AE$9=""),"",IF(AND(AE$9>=$K14,AE$9<=$M14),IF(_xlfn.NETWORKDAYS.INTL(AE$9,AE$9,'休みの日'!$D$4,'休みの日'!$B$7:$B$56)=0,"・",IF(_xlfn.NETWORKDAYS.INTL($K14,AE$9,'休みの日'!$D$4,'休みの日'!$B$7:$B$56)<=ROUND(N($O14)*N($Q14),0),"■","□")),"")) | ... BB14: =IF(OR($K14="",$M14="",BB$9=""),"",IF(AND(BB$9>=$K14,BB$9<=$M14),IF(_xlfn.NETWORKDAYS.INTL(BB$9,BB$9,'休みの日'!$D$4,'休みの日'!$B$7:$B$56)=0,"・",IF(_xlfn.NETWORKDAYS.INTL($K14,BB$9,'休みの日'!$D$4,'休みの日'!$B$7:$B$56)<=ROUND(N($O14)*N($Q14),0),"■","□")),""))
A15: 5 | B15: 説明用の動画の編集 | I15: 小林 | K15: 46328 | M15: 46336 | O15: =IF(OR($K15="",$M15=""),"",_xlfn.NETWORKDAYS.INTL($K15,$M15,'休みの日'!$D$4,'休みの日'!$B$7:$B$56)) | Q15: 0.4 | S15: =IF(OR($O15="",$AG$3=""),"",IF($O15<=0,"",IF($AG$3<$K15,0,IF($AG$3>=$M15,1,_xlfn.NETWORKDAYS.INTL($K15,$AG$3,'休みの日'!$D$4,'休みの日'!$B$7:$B$56)/$O15)))) | U15: =IF(OR($B15="",$K15="",$M15=""),"",IF(N($Q15)>=1,"完了",IF($AG$3>$M15,"遅れ",IF($AG$3<$K15,IF(N($Q15)>0,"予定どおり","着手前"),IF($S15="","",IF(ROUND(N($Q15)*100,1)-ROUND($S15*100,1)<=-$AR$3,"遅れ",IF(N($Q15)<$S15,"やや遅れ","予定どおり"))))))) | X15: =IF(OR($K15="",$M15="",X$9=""),"",IF(AND(X$9>=$K15,X$9<=$M15),IF(_xlfn.NETWORKDAYS.INTL(X$9,X$9,'休みの日'!$D$4,'休みの日'!$B$7:$B$56)=0,"・",IF(_xlfn.NETWORKDAYS.INTL($K15,X$9,'休みの日'!$D$4,'休みの日'!$B$7:$B$56)<=ROUND(N($O15)*N($Q15),0),"■","□")),"")) | Y15: =IF(OR($K15="",$M15="",Y$9=""),"",IF(AND(Y$9>=$K15,Y$9<=$M15),IF(_xlfn.NETWORKDAYS.INTL(Y$9,Y$9,'休みの日'!$D$4,'休みの日'!$B$7:$B$56)=0,"・",IF(_xlfn.NETWORKDAYS.INTL($K15,Y$9,'休みの日'!$D$4,'休みの日'!$B$7:$B$56)<=ROUND(N($O15)*N($Q15),0),"■","□")),"")) | Z15: =IF(OR($K15="",$M15="",Z$9=""),"",IF(AND(Z$9>=$K15,Z$9<=$M15),IF(_xlfn.NETWORKDAYS.INTL(Z$9,Z$9,'休みの日'!$D$4,'休みの日'!$B$7:$B$56)=0,"・",IF(_xlfn.NETWORKDAYS.INTL($K15,Z$9,'休みの日'!$D$4,'休みの日'!$B$7:$B$56)<=ROUND(N($O15)*N($Q15),0),"■","□")),"")) | AA15: =IF(OR($K15="",$M15="",AA$9=""),"",IF(AND(AA$9>=$K15,AA$9<=$M15),IF(_xlfn.NETWORKDAYS.INTL(AA$9,AA$9,'休みの日'!$D$4,'休みの日'!$B$7:$B$56)=0,"・",IF(_xlfn.NETWORKDAYS.INTL($K15,AA$9,'休みの日'!$D$4,'休みの日'!$B$7:$B$56)<=ROUND(N($O15)*N($Q15),0),"■","□")),"")) | AB15: =IF(OR($K15="",$M15="",AB$9=""),"",IF(AND(AB$9>=$K15,AB$9<=$M15),IF(_xlfn.NETWORKDAYS.INTL(AB$9,AB$9,'休みの日'!$D$4,'休みの日'!$B$7:$B$56)=0,"・",IF(_xlfn.NETWORKDAYS.INTL($K15,AB$9,'休みの日'!$D$4,'休みの日'!$B$7:$B$56)<=ROUND(N($O15)*N($Q15),0),"■","□")),"")) | AC15: =IF(OR($K15="",$M15="",AC$9=""),"",IF(AND(AC$9>=$K15,AC$9<=$M15),IF(_xlfn.NETWORKDAYS.INTL(AC$9,AC$9,'休みの日'!$D$4,'休みの日'!$B$7:$B$56)=0,"・",IF(_xlfn.NETWORKDAYS.INTL($K15,AC$9,'休みの日'!$D$4,'休みの日'!$B$7:$B$56)<=ROUND(N($O15)*N($Q15),0),"■","□")),"")) | AD15: =IF(OR($K15="",$M15="",AD$9=""),"",IF(AND(AD$9>=$K15,AD$9<=$M15),IF(_xlfn.NETWORKDAYS.INTL(AD$9,AD$9,'休みの日'!$D$4,'休みの日'!$B$7:$B$56)=0,"・",IF(_xlfn.NETWORKDAYS.INTL($K15,AD$9,'休みの日'!$D$4,'休みの日'!$B$7:$B$56)<=ROUND(N($O15)*N($Q15),0),"■","□")),"")) | AE15: =IF(OR($K15="",$M15="",AE$9=""),"",IF(AND(AE$9>=$K15,AE$9<=$M15),IF(_xlfn.NETWORKDAYS.INTL(AE$9,AE$9,'休みの日'!$D$4,'休みの日'!$B$7:$B$56)=0,"・",IF(_xlfn.NETWORKDAYS.INTL($K15,AE$9,'休みの日'!$D$4,'休みの日'!$B$7:$B$56)<=ROUND(N($O15)*N($Q15),0),"■","□")),"")) | ... BB15: =IF(OR($K15="",$M15="",BB$9=""),"",IF(AND(BB$9>=$K15,BB$9<=$M15),IF(_xlfn.NETWORKDAYS.INTL(BB$9,BB$9,'休みの日'!$D$4,'休みの日'!$B$7:$B$56)=0,"・",IF(_xlfn.NETWORKDAYS.INTL($K15,BB$9,'休みの日'!$D$4,'休みの日'!$B$7:$B$56)<=ROUND(N($O15)*N($Q15),0),"■","□")),""))
A16: 6 | B16: 展示品・機材の手配と梱包 | I16: 大野 | K16: 46331 | M16: 46335 | O16: =IF(OR($K16="",$M16=""),"",_xlfn.NETWORKDAYS.INTL($K16,$M16,'休みの日'!$D$4,'休みの日'!$B$7:$B$56)) | S16: =IF(OR($O16="",$AG$3=""),"",IF($O16<=0,"",IF($AG$3<$K16,0,IF($AG$3>=$M16,1,_xlfn.NETWORKDAYS.INTL($K16,$AG$3,'休みの日'!$D$4,'休みの日'!$B$7:$B$56)/$O16)))) | U16: =IF(OR($B16="",$K16="",$M16=""),"",IF(N($Q16)>=1,"完了",IF($AG$3>$M16,"遅れ",IF($AG$3<$K16,IF(N($Q16)>0,"予定どおり","着手前"),IF($S16="","",IF(ROUND(N($Q16)*100,1)-ROUND($S16*100,1)<=-$AR$3,"遅れ",IF(N($Q16)<$S16,"やや遅れ","予定どおり"))))))) | X16: =IF(OR($K16="",$M16="",X$9=""),"",IF(AND(X$9>=$K16,X$9<=$M16),IF(_xlfn.NETWORKDAYS.INTL(X$9,X$9,'休みの日'!$D$4,'休みの日'!$B$7:$B$56)=0,"・",IF(_xlfn.NETWORKDAYS.INTL($K16,X$9,'休みの日'!$D$4,'休みの日'!$B$7:$B$56)<=ROUND(N($O16)*N($Q16),0),"■","□")),"")) | Y16: =IF(OR($K16="",$M16="",Y$9=""),"",IF(AND(Y$9>=$K16,Y$9<=$M16),IF(_xlfn.NETWORKDAYS.INTL(Y$9,Y$9,'休みの日'!$D$4,'休みの日'!$B$7:$B$56)=0,"・",IF(_xlfn.NETWORKDAYS.INTL($K16,Y$9,'休みの日'!$D$4,'休みの日'!$B$7:$B$56)<=ROUND(N($O16)*N($Q16),0),"■","□")),"")) | Z16: =IF(OR($K16="",$M16="",Z$9=""),"",IF(AND(Z$9>=$K16,Z$9<=$M16),IF(_xlfn.NETWORKDAYS.INTL(Z$9,Z$9,'休みの日'!$D$4,'休みの日'!$B$7:$B$56)=0,"・",IF(_xlfn.NETWORKDAYS.INTL($K16,Z$9,'休みの日'!$D$4,'休みの日'!$B$7:$B$56)<=ROUND(N($O16)*N($Q16),0),"■","□")),"")) | AA16: =IF(OR($K16="",$M16="",AA$9=""),"",IF(AND(AA$9>=$K16,AA$9<=$M16),IF(_xlfn.NETWORKDAYS.INTL(AA$9,AA$9,'休みの日'!$D$4,'休みの日'!$B$7:$B$56)=0,"・",IF(_xlfn.NETWORKDAYS.INTL($K16,AA$9,'休みの日'!$D$4,'休みの日'!$B$7:$B$56)<=ROUND(N($O16)*N($Q16),0),"■","□")),"")) | AB16: =IF(OR($K16="",$M16="",AB$9=""),"",IF(AND(AB$9>=$K16,AB$9<=$M16),IF(_xlfn.NETWORKDAYS.INTL(AB$9,AB$9,'休みの日'!$D$4,'休みの日'!$B$7:$B$56)=0,"・",IF(_xlfn.NETWORKDAYS.INTL($K16,AB$9,'休みの日'!$D$4,'休みの日'!$B$7:$B$56)<=ROUND(N($O16)*N($Q16),0),"■","□")),"")) | AC16: =IF(OR($K16="",$M16="",AC$9=""),"",IF(AND(AC$9>=$K16,AC$9<=$M16),IF(_xlfn.NETWORKDAYS.INTL(AC$9,AC$9,'休みの日'!$D$4,'休みの日'!$B$7:$B$56)=0,"・",IF(_xlfn.NETWORKDAYS.INTL($K16,AC$9,'休みの日'!$D$4,'休みの日'!$B$7:$B$56)<=ROUND(N($O16)*N($Q16),0),"■","□")),"")) | AD16: =IF(OR($K16="",$M16="",AD$9=""),"",IF(AND(AD$9>=$K16,AD$9<=$M16),IF(_xlfn.NETWORKDAYS.INTL(AD$9,AD$9,'休みの日'!$D$4,'休みの日'!$B$7:$B$56)=0,"・",IF(_xlfn.NETWORKDAYS.INTL($K16,AD$9,'休みの日'!$D$4,'休みの日'!$B$7:$B$56)<=ROUND(N($O16)*N($Q16),0),"■","□")),"")) | AE16: =IF(OR($K16="",$M16="",AE$9=""),"",IF(AND(AE$9>=$K16,AE$9<=$M16),IF(_xlfn.NETWORKDAYS.INTL(AE$9,AE$9,'休みの日'!$D$4,'休みの日'!$B$7:$B$56)=0,"・",IF(_xlfn.NETWORKDAYS.INTL($K16,AE$9,'休みの日'!$D$4,'休みの日'!$B$7:$B$56)<=ROUND(N($O16)*N($Q16),0),"■","□")),"")) | ... BB16: =IF(OR($K16="",$M16="",BB$9=""),"",IF(AND(BB$9>=$K16,BB$9<=$M16),IF(_xlfn.NETWORKDAYS.INTL(BB$9,BB$9,'休みの日'!$D$4,'休みの日'!$B$7:$B$56)=0,"・",IF(_xlfn.NETWORKDAYS.INTL($K16,BB$9,'休みの日'!$D$4,'休みの日'!$B$7:$B$56)<=ROUND(N($O16)*N($Q16),0),"■","□")),""))
A17: 7 | B17: パネル・チラシの入稿と印刷 | I17: 小林 | K17: 46332 | M17: 46335 | O17: =IF(OR($K17="",$M17=""),"",_xlfn.NETWORKDAYS.INTL($K17,$M17,'休みの日'!$D$4,'休みの日'!$B$7:$B$56)) | S17: =IF(OR($O17="",$AG$3=""),"",IF($O17<=0,"",IF($AG$3<$K17,0,IF($AG$3>=$M17,1,_xlfn.NETWORKDAYS.INTL($K17,$AG$3,'休みの日'!$D$4,'休みの日'!$B$7:$B$56)/$O17)))) | U17: =IF(OR($B17="",$K17="",$M17=""),"",IF(N($Q17)>=1,"完了",IF($AG$3>$M17,"遅れ",IF($AG$3<$K17,IF(N($Q17)>0,"予定どおり","着手前"),IF($S17="","",IF(ROUND(N($Q17)*100,1)-ROUND($S17*100,1)<=-$AR$3,"遅れ",IF(N($Q17)<$S17,"やや遅れ","予定どおり"))))))) | X17: =IF(OR($K17="",$M17="",X$9=""),"",IF(AND(X$9>=$K17,X$9<=$M17),IF(_xlfn.NETWORKDAYS.INTL(X$9,X$9,'休みの日'!$D$4,'休みの日'!$B$7:$B$56)=0,"・",IF(_xlfn.NETWORKDAYS.INTL($K17,X$9,'休みの日'!$D$4,'休みの日'!$B$7:$B$56)<=ROUND(N($O17)*N($Q17),0),"■","□")),"")) | Y17: =IF(OR($K17="",$M17="",Y$9=""),"",IF(AND(Y$9>=$K17,Y$9<=$M17),IF(_xlfn.NETWORKDAYS.INTL(Y$9,Y$9,'休みの日'!$D$4,'休みの日'!$B$7:$B$56)=0,"・",IF(_xlfn.NETWORKDAYS.INTL($K17,Y$9,'休みの日'!$D$4,'休みの日'!$B$7:$B$56)<=ROUND(N($O17)*N($Q17),0),"■","□")),"")) | Z17: =IF(OR($K17="",$M17="",Z$9=""),"",IF(AND(Z$9>=$K17,Z$9<=$M17),IF(_xlfn.NETWORKDAYS.INTL(Z$9,Z$9,'休みの日'!$D$4,'休みの日'!$B$7:$B$56)=0,"・",IF(_xlfn.NETWORKDAYS.INTL($K17,Z$9,'休みの日'!$D$4,'休みの日'!$B$7:$B$56)<=ROUND(N($O17)*N($Q17),0),"■","□")),"")) | AA17: =IF(OR($K17="",$M17="",AA$9=""),"",IF(AND(AA$9>=$K17,AA$9<=$M17),IF(_xlfn.NETWORKDAYS.INTL(AA$9,AA$9,'休みの日'!$D$4,'休みの日'!$B$7:$B$56)=0,"・",IF(_xlfn.NETWORKDAYS.INTL($K17,AA$9,'休みの日'!$D$4,'休みの日'!$B$7:$B$56)<=ROUND(N($O17)*N($Q17),0),"■","□")),"")) | AB17: =IF(OR($K17="",$M17="",AB$9=""),"",IF(AND(AB$9>=$K17,AB$9<=$M17),IF(_xlfn.NETWORKDAYS.INTL(AB$9,AB$9,'休みの日'!$D$4,'休みの日'!$B$7:$B$56)=0,"・",IF(_xlfn.NETWORKDAYS.INTL($K17,AB$9,'休みの日'!$D$4,'休みの日'!$B$7:$B$56)<=ROUND(N($O17)*N($Q17),0),"■","□")),"")) | AC17: =IF(OR($K17="",$M17="",AC$9=""),"",IF(AND(AC$9>=$K17,AC$9<=$M17),IF(_xlfn.NETWORKDAYS.INTL(AC$9,AC$9,'休みの日'!$D$4,'休みの日'!$B$7:$B$56)=0,"・",IF(_xlfn.NETWORKDAYS.INTL($K17,AC$9,'休みの日'!$D$4,'休みの日'!$B$7:$B$56)<=ROUND(N($O17)*N($Q17),0),"■","□")),"")) | AD17: =IF(OR($K17="",$M17="",AD$9=""),"",IF(AND(AD$9>=$K17,AD$9<=$M17),IF(_xlfn.NETWORKDAYS.INTL(AD$9,AD$9,'休みの日'!$D$4,'休みの日'!$B$7:$B$56)=0,"・",IF(_xlfn.NETWORKDAYS.INTL($K17,AD$9,'休みの日'!$D$4,'休みの日'!$B$7:$B$56)<=ROUND(N($O17)*N($Q17),0),"■","□")),"")) | AE17: =IF(OR($K17="",$M17="",AE$9=""),"",IF(AND(AE$9>=$K17,AE$9<=$M17),IF(_xlfn.NETWORKDAYS.INTL(AE$9,AE$9,'休みの日'!$D$4,'休みの日'!$B$7:$B$56)=0,"・",IF(_xlfn.NETWORKDAYS.INTL($K17,AE$9,'休みの日'!$D$4,'休みの日'!$B$7:$B$56)<=ROUND(N($O17)*N($Q17),0),"■","□")),"")) | ... BB17: =IF(OR($K17="",$M17="",BB$9=""),"",IF(AND(BB$9>=$K17,BB$9<=$M17),IF(_xlfn.NETWORKDAYS.INTL(BB$9,BB$9,'休みの日'!$D$4,'休みの日'!$B$7:$B$56)=0,"・",IF(_xlfn.NETWORKDAYS.INTL($K17,BB$9,'休みの日'!$D$4,'休みの日'!$B$7:$B$56)<=ROUND(N($O17)*N($Q17),0),"■","□")),""))
A18: 8 | B18: 説明の練習・当日の役割分担 | I18: 北川 | K18: 46332 | M18: 46336 | O18: =IF(OR($K18="",$M18=""),"",_xlfn.NETWORKDAYS.INTL($K18,$M18,'休みの日'!$D$4,'休みの日'!$B$7:$B$56)) | S18: =IF(OR($O18="",$AG$3=""),"",IF($O18<=0,"",IF($AG$3<$K18,0,IF($AG$3>=$M18,1,_xlfn.NETWORKDAYS.INTL($K18,$AG$3,'休みの日'!$D$4,'休みの日'!$B$7:$B$56)/$O18)))) | U18: =IF(OR($B18="",$K18="",$M18=""),"",IF(N($Q18)>=1,"完了",IF($AG$3>$M18,"遅れ",IF($AG$3<$K18,IF(N($Q18)>0,"予定どおり","着手前"),IF($S18="","",IF(ROUND(N($Q18)*100,1)-ROUND($S18*100,1)<=-$AR$3,"遅れ",IF(N($Q18)<$S18,"やや遅れ","予定どおり"))))))) | X18: =IF(OR($K18="",$M18="",X$9=""),"",IF(AND(X$9>=$K18,X$9<=$M18),IF(_xlfn.NETWORKDAYS.INTL(X$9,X$9,'休みの日'!$D$4,'休みの日'!$B$7:$B$56)=0,"・",IF(_xlfn.NETWORKDAYS.INTL($K18,X$9,'休みの日'!$D$4,'休みの日'!$B$7:$B$56)<=ROUND(N($O18)*N($Q18),0),"■","□")),"")) | Y18: =IF(OR($K18="",$M18="",Y$9=""),"",IF(AND(Y$9>=$K18,Y$9<=$M18),IF(_xlfn.NETWORKDAYS.INTL(Y$9,Y$9,'休みの日'!$D$4,'休みの日'!$B$7:$B$56)=0,"・",IF(_xlfn.NETWORKDAYS.INTL($K18,Y$9,'休みの日'!$D$4,'休みの日'!$B$7:$B$56)<=ROUND(N($O18)*N($Q18),0),"■","□")),"")) | Z18: =IF(OR($K18="",$M18="",Z$9=""),"",IF(AND(Z$9>=$K18,Z$9<=$M18),IF(_xlfn.NETWORKDAYS.INTL(Z$9,Z$9,'休みの日'!$D$4,'休みの日'!$B$7:$B$56)=0,"・",IF(_xlfn.NETWORKDAYS.INTL($K18,Z$9,'休みの日'!$D$4,'休みの日'!$B$7:$B$56)<=ROUND(N($O18)*N($Q18),0),"■","□")),"")) | AA18: =IF(OR($K18="",$M18="",AA$9=""),"",IF(AND(AA$9>=$K18,AA$9<=$M18),IF(_xlfn.NETWORKDAYS.INTL(AA$9,AA$9,'休みの日'!$D$4,'休みの日'!$B$7:$B$56)=0,"・",IF(_xlfn.NETWORKDAYS.INTL($K18,AA$9,'休みの日'!$D$4,'休みの日'!$B$7:$B$56)<=ROUND(N($O18)*N($Q18),0),"■","□")),"")) | AB18: =IF(OR($K18="",$M18="",AB$9=""),"",IF(AND(AB$9>=$K18,AB$9<=$M18),IF(_xlfn.NETWORKDAYS.INTL(AB$9,AB$9,'休みの日'!$D$4,'休みの日'!$B$7:$B$56)=0,"・",IF(_xlfn.NETWORKDAYS.INTL($K18,AB$9,'休みの日'!$D$4,'休みの日'!$B$7:$B$56)<=ROUND(N($O18)*N($Q18),0),"■","□")),"")) | AC18: =IF(OR($K18="",$M18="",AC$9=""),"",IF(AND(AC$9>=$K18,AC$9<=$M18),IF(_xlfn.NETWORKDAYS.INTL(AC$9,AC$9,'休みの日'!$D$4,'休みの日'!$B$7:$B$56)=0,"・",IF(_xlfn.NETWORKDAYS.INTL($K18,AC$9,'休みの日'!$D$4,'休みの日'!$B$7:$B$56)<=ROUND(N($O18)*N($Q18),0),"■","□")),"")) | AD18: =IF(OR($K18="",$M18="",AD$9=""),"",IF(AND(AD$9>=$K18,AD$9<=$M18),IF(_xlfn.NETWORKDAYS.INTL(AD$9,AD$9,'休みの日'!$D$4,'休みの日'!$B$7:$B$56)=0,"・",IF(_xlfn.NETWORKDAYS.INTL($K18,AD$9,'休みの日'!$D$4,'休みの日'!$B$7:$B$56)<=ROUND(N($O18)*N($Q18),0),"■","□")),"")) | AE18: =IF(OR($K18="",$M18="",AE$9=""),"",IF(AND(AE$9>=$K18,AE$9<=$M18),IF(_xlfn.NETWORKDAYS.INTL(AE$9,AE$9,'休みの日'!$D$4,'休みの日'!$B$7:$B$56)=0,"・",IF(_xlfn.NETWORKDAYS.INTL($K18,AE$9,'休みの日'!$D$4,'休みの日'!$B$7:$B$56)<=ROUND(N($O18)*N($Q18),0),"■","□")),"")) | ... BB18: =IF(OR($K18="",$M18="",BB$9=""),"",IF(AND(BB$9>=$K18,BB$9<=$M18),IF(_xlfn.NETWORKDAYS.INTL(BB$9,BB$9,'休みの日'!$D$4,'休みの日'!$B$7:$B$56)=0,"・",IF(_xlfn.NETWORKDAYS.INTL($K18,BB$9,'休みの日'!$D$4,'休みの日'!$B$7:$B$56)<=ROUND(N($O18)*N($Q18),0),"■","□")),""))
A19: 9 | B19: 搬入・設営 | I19: 大野 | K19: 46336 | M19: 46336 | O19: =IF(OR($K19="",$M19=""),"",_xlfn.NETWORKDAYS.INTL($K19,$M19,'休みの日'!$D$4,'休みの日'!$B$7:$B$56)) | S19: =IF(OR($O19="",$AG$3=""),"",IF($O19<=0,"",IF($AG$3<$K19,0,IF($AG$3>=$M19,1,_xlfn.NETWORKDAYS.INTL($K19,$AG$3,'休みの日'!$D$4,'休みの日'!$B$7:$B$56)/$O19)))) | U19: =IF(OR($B19="",$K19="",$M19=""),"",IF(N($Q19)>=1,"完了",IF($AG$3>$M19,"遅れ",IF($AG$3<$K19,IF(N($Q19)>0,"予定どおり","着手前"),IF($S19="","",IF(ROUND(N($Q19)*100,1)-ROUND($S19*100,1)<=-$AR$3,"遅れ",IF(N($Q19)<$S19,"やや遅れ","予定どおり"))))))) | X19: =IF(OR($K19="",$M19="",X$9=""),"",IF(AND(X$9>=$K19,X$9<=$M19),IF(_xlfn.NETWORKDAYS.INTL(X$9,X$9,'休みの日'!$D$4,'休みの日'!$B$7:$B$56)=0,"・",IF(_xlfn.NETWORKDAYS.INTL($K19,X$9,'休みの日'!$D$4,'休みの日'!$B$7:$B$56)<=ROUND(N($O19)*N($Q19),0),"■","□")),"")) | Y19: =IF(OR($K19="",$M19="",Y$9=""),"",IF(AND(Y$9>=$K19,Y$9<=$M19),IF(_xlfn.NETWORKDAYS.INTL(Y$9,Y$9,'休みの日'!$D$4,'休みの日'!$B$7:$B$56)=0,"・",IF(_xlfn.NETWORKDAYS.INTL($K19,Y$9,'休みの日'!$D$4,'休みの日'!$B$7:$B$56)<=ROUND(N($O19)*N($Q19),0),"■","□")),"")) | Z19: =IF(OR($K19="",$M19="",Z$9=""),"",IF(AND(Z$9>=$K19,Z$9<=$M19),IF(_xlfn.NETWORKDAYS.INTL(Z$9,Z$9,'休みの日'!$D$4,'休みの日'!$B$7:$B$56)=0,"・",IF(_xlfn.NETWORKDAYS.INTL($K19,Z$9,'休みの日'!$D$4,'休みの日'!$B$7:$B$56)<=ROUND(N($O19)*N($Q19),0),"■","□")),"")) | AA19: =IF(OR($K19="",$M19="",AA$9=""),"",IF(AND(AA$9>=$K19,AA$9<=$M19),IF(_xlfn.NETWORKDAYS.INTL(AA$9,AA$9,'休みの日'!$D$4,'休みの日'!$B$7:$B$56)=0,"・",IF(_xlfn.NETWORKDAYS.INTL($K19,AA$9,'休みの日'!$D$4,'休みの日'!$B$7:$B$56)<=ROUND(N($O19)*N($Q19),0),"■","□")),"")) | AB19: =IF(OR($K19="",$M19="",AB$9=""),"",IF(AND(AB$9>=$K19,AB$9<=$M19),IF(_xlfn.NETWORKDAYS.INTL(AB$9,AB$9,'休みの日'!$D$4,'休みの日'!$B$7:$B$56)=0,"・",IF(_xlfn.NETWORKDAYS.INTL($K19,AB$9,'休みの日'!$D$4,'休みの日'!$B$7:$B$56)<=ROUND(N($O19)*N($Q19),0),"■","□")),"")) | AC19: =IF(OR($K19="",$M19="",AC$9=""),"",IF(AND(AC$9>=$K19,AC$9<=$M19),IF(_xlfn.NETWORKDAYS.INTL(AC$9,AC$9,'休みの日'!$D$4,'休みの日'!$B$7:$B$56)=0,"・",IF(_xlfn.NETWORKDAYS.INTL($K19,AC$9,'休みの日'!$D$4,'休みの日'!$B$7:$B$56)<=ROUND(N($O19)*N($Q19),0),"■","□")),"")) | AD19: =IF(OR($K19="",$M19="",AD$9=""),"",IF(AND(AD$9>=$K19,AD$9<=$M19),IF(_xlfn.NETWORKDAYS.INTL(AD$9,AD$9,'休みの日'!$D$4,'休みの日'!$B$7:$B$56)=0,"・",IF(_xlfn.NETWORKDAYS.INTL($K19,AD$9,'休みの日'!$D$4,'休みの日'!$B$7:$B$56)<=ROUND(N($O19)*N($Q19),0),"■","□")),"")) | AE19: =IF(OR($K19="",$M19="",AE$9=""),"",IF(AND(AE$9>=$K19,AE$9<=$M19),IF(_xlfn.NETWORKDAYS.INTL(AE$9,AE$9,'休みの日'!$D$4,'休みの日'!$B$7:$B$56)=0,"・",IF(_xlfn.NETWORKDAYS.INTL($K19,AE$9,'休みの日'!$D$4,'休みの日'!$B$7:$B$56)<=ROUND(N($O19)*N($Q19),0),"■","□")),"")) | ... BB19: =IF(OR($K19="",$M19="",BB$9=""),"",IF(AND(BB$9>=$K19,BB$9<=$M19),IF(_xlfn.NETWORKDAYS.INTL(BB$9,BB$9,'休みの日'!$D$4,'休みの日'!$B$7:$B$56)=0,"・",IF(_xlfn.NETWORKDAYS.INTL($K19,BB$9,'休みの日'!$D$4,'休みの日'!$B$7:$B$56)<=ROUND(N($O19)*N($Q19),0),"■","□")),""))
A20: 10 | B20: 出展（3日間） | I20: 営業部 | K20: 46337 | M20: 46339 | O20: =IF(OR($K20="",$M20=""),"",_xlfn.NETWORKDAYS.INTL($K20,$M20,'休みの日'!$D$4,'休みの日'!$B$7:$B$56)) | S20: =IF(OR($O20="",$AG$3=""),"",IF($O20<=0,"",IF($AG$3<$K20,0,IF($AG$3>=$M20,1,_xlfn.NETWORKDAYS.INTL($K20,$AG$3,'休みの日'!$D$4,'休みの日'!$B$7:$B$56)/$O20)))) | U20: =IF(OR($B20="",$K20="",$M20=""),"",IF(N($Q20)>=1,"完了",IF($AG$3>$M20,"遅れ",IF($AG$3<$K20,IF(N($Q20)>0,"予定どおり","着手前"),IF($S20="","",IF(ROUND(N($Q20)*100,1)-ROUND($S20*100,1)<=-$AR$3,"遅れ",IF(N($Q20)<$S20,"やや遅れ","予定どおり"))))))) | X20: =IF(OR($K20="",$M20="",X$9=""),"",IF(AND(X$9>=$K20,X$9<=$M20),IF(_xlfn.NETWORKDAYS.INTL(X$9,X$9,'休みの日'!$D$4,'休みの日'!$B$7:$B$56)=0,"・",IF(_xlfn.NETWORKDAYS.INTL($K20,X$9,'休みの日'!$D$4,'休みの日'!$B$7:$B$56)<=ROUND(N($O20)*N($Q20),0),"■","□")),"")) | Y20: =IF(OR($K20="",$M20="",Y$9=""),"",IF(AND(Y$9>=$K20,Y$9<=$M20),IF(_xlfn.NETWORKDAYS.INTL(Y$9,Y$9,'休みの日'!$D$4,'休みの日'!$B$7:$B$56)=0,"・",IF(_xlfn.NETWORKDAYS.INTL($K20,Y$9,'休みの日'!$D$4,'休みの日'!$B$7:$B$56)<=ROUND(N($O20)*N($Q20),0),"■","□")),"")) | Z20: =IF(OR($K20="",$M20="",Z$9=""),"",IF(AND(Z$9>=$K20,Z$9<=$M20),IF(_xlfn.NETWORKDAYS.INTL(Z$9,Z$9,'休みの日'!$D$4,'休みの日'!$B$7:$B$56)=0,"・",IF(_xlfn.NETWORKDAYS.INTL($K20,Z$9,'休みの日'!$D$4,'休みの日'!$B$7:$B$56)<=ROUND(N($O20)*N($Q20),0),"■","□")),"")) | AA20: =IF(OR($K20="",$M20="",AA$9=""),"",IF(AND(AA$9>=$K20,AA$9<=$M20),IF(_xlfn.NETWORKDAYS.INTL(AA$9,AA$9,'休みの日'!$D$4,'休みの日'!$B$7:$B$56)=0,"・",IF(_xlfn.NETWORKDAYS.INTL($K20,AA$9,'休みの日'!$D$4,'休みの日'!$B$7:$B$56)<=ROUND(N($O20)*N($Q20),0),"■","□")),"")) | AB20: =IF(OR($K20="",$M20="",AB$9=""),"",IF(AND(AB$9>=$K20,AB$9<=$M20),IF(_xlfn.NETWORKDAYS.INTL(AB$9,AB$9,'休みの日'!$D$4,'休みの日'!$B$7:$B$56)=0,"・",IF(_xlfn.NETWORKDAYS.INTL($K20,AB$9,'休みの日'!$D$4,'休みの日'!$B$7:$B$56)<=ROUND(N($O20)*N($Q20),0),"■","□")),"")) | AC20: =IF(OR($K20="",$M20="",AC$9=""),"",IF(AND(AC$9>=$K20,AC$9<=$M20),IF(_xlfn.NETWORKDAYS.INTL(AC$9,AC$9,'休みの日'!$D$4,'休みの日'!$B$7:$B$56)=0,"・",IF(_xlfn.NETWORKDAYS.INTL($K20,AC$9,'休みの日'!$D$4,'休みの日'!$B$7:$B$56)<=ROUND(N($O20)*N($Q20),0),"■","□")),"")) | AD20: =IF(OR($K20="",$M20="",AD$9=""),"",IF(AND(AD$9>=$K20,AD$9<=$M20),IF(_xlfn.NETWORKDAYS.INTL(AD$9,AD$9,'休みの日'!$D$4,'休みの日'!$B$7:$B$56)=0,"・",IF(_xlfn.NETWORKDAYS.INTL($K20,AD$9,'休みの日'!$D$4,'休みの日'!$B$7:$B$56)<=ROUND(N($O20)*N($Q20),0),"■","□")),"")) | AE20: =IF(OR($K20="",$M20="",AE$9=""),"",IF(AND(AE$9>=$K20,AE$9<=$M20),IF(_xlfn.NETWORKDAYS.INTL(AE$9,AE$9,'休みの日'!$D$4,'休みの日'!$B$7:$B$56)=0,"・",IF(_xlfn.NETWORKDAYS.INTL($K20,AE$9,'休みの日'!$D$4,'休みの日'!$B$7:$B$56)<=ROUND(N($O20)*N($Q20),0),"■","□")),"")) | ... BB20: =IF(OR($K20="",$M20="",BB$9=""),"",IF(AND(BB$9>=$K20,BB$9<=$M20),IF(_xlfn.NETWORKDAYS.INTL(BB$9,BB$9,'休みの日'!$D$4,'休みの日'!$B$7:$B$56)=0,"・",IF(_xlfn.NETWORKDAYS.INTL($K20,BB$9,'休みの日'!$D$4,'休みの日'!$B$7:$B$56)<=ROUND(N($O20)*N($Q20),0),"■","□")),""))
A21: 11 | B21: 名刺の整理とお礼のメール | I21: 北川 | K21: 46342 | M21: 46344 | O21: =IF(OR($K21="",$M21=""),"",_xlfn.NETWORKDAYS.INTL($K21,$M21,'休みの日'!$D$4,'休みの日'!$B$7:$B$56)) | S21: =IF(OR($O21="",$AG$3=""),"",IF($O21<=0,"",IF($AG$3<$K21,0,IF($AG$3>=$M21,1,_xlfn.NETWORKDAYS.INTL($K21,$AG$3,'休みの日'!$D$4,'休みの日'!$B$7:$B$56)/$O21)))) | U21: =IF(OR($B21="",$K21="",$M21=""),"",IF(N($Q21)>=1,"完了",IF($AG$3>$M21,"遅れ",IF($AG$3<$K21,IF(N($Q21)>0,"予定どおり","着手前"),IF($S21="","",IF(ROUND(N($Q21)*100,1)-ROUND($S21*100,1)<=-$AR$3,"遅れ",IF(N($Q21)<$S21,"やや遅れ","予定どおり"))))))) | X21: =IF(OR($K21="",$M21="",X$9=""),"",IF(AND(X$9>=$K21,X$9<=$M21),IF(_xlfn.NETWORKDAYS.INTL(X$9,X$9,'休みの日'!$D$4,'休みの日'!$B$7:$B$56)=0,"・",IF(_xlfn.NETWORKDAYS.INTL($K21,X$9,'休みの日'!$D$4,'休みの日'!$B$7:$B$56)<=ROUND(N($O21)*N($Q21),0),"■","□")),"")) | Y21: =IF(OR($K21="",$M21="",Y$9=""),"",IF(AND(Y$9>=$K21,Y$9<=$M21),IF(_xlfn.NETWORKDAYS.INTL(Y$9,Y$9,'休みの日'!$D$4,'休みの日'!$B$7:$B$56)=0,"・",IF(_xlfn.NETWORKDAYS.INTL($K21,Y$9,'休みの日'!$D$4,'休みの日'!$B$7:$B$56)<=ROUND(N($O21)*N($Q21),0),"■","□")),"")) | Z21: =IF(OR($K21="",$M21="",Z$9=""),"",IF(AND(Z$9>=$K21,Z$9<=$M21),IF(_xlfn.NETWORKDAYS.INTL(Z$9,Z$9,'休みの日'!$D$4,'休みの日'!$B$7:$B$56)=0,"・",IF(_xlfn.NETWORKDAYS.INTL($K21,Z$9,'休みの日'!$D$4,'休みの日'!$B$7:$B$56)<=ROUND(N($O21)*N($Q21),0),"■","□")),"")) | AA21: =IF(OR($K21="",$M21="",AA$9=""),"",IF(AND(AA$9>=$K21,AA$9<=$M21),IF(_xlfn.NETWORKDAYS.INTL(AA$9,AA$9,'休みの日'!$D$4,'休みの日'!$B$7:$B$56)=0,"・",IF(_xlfn.NETWORKDAYS.INTL($K21,AA$9,'休みの日'!$D$4,'休みの日'!$B$7:$B$56)<=ROUND(N($O21)*N($Q21),0),"■","□")),"")) | AB21: =IF(OR($K21="",$M21="",AB$9=""),"",IF(AND(AB$9>=$K21,AB$9<=$M21),IF(_xlfn.NETWORKDAYS.INTL(AB$9,AB$9,'休みの日'!$D$4,'休みの日'!$B$7:$B$56)=0,"・",IF(_xlfn.NETWORKDAYS.INTL($K21,AB$9,'休みの日'!$D$4,'休みの日'!$B$7:$B$56)<=ROUND(N($O21)*N($Q21),0),"■","□")),"")) | AC21: =IF(OR($K21="",$M21="",AC$9=""),"",IF(AND(AC$9>=$K21,AC$9<=$M21),IF(_xlfn.NETWORKDAYS.INTL(AC$9,AC$9,'休みの日'!$D$4,'休みの日'!$B$7:$B$56)=0,"・",IF(_xlfn.NETWORKDAYS.INTL($K21,AC$9,'休みの日'!$D$4,'休みの日'!$B$7:$B$56)<=ROUND(N($O21)*N($Q21),0),"■","□")),"")) | AD21: =IF(OR($K21="",$M21="",AD$9=""),"",IF(AND(AD$9>=$K21,AD$9<=$M21),IF(_xlfn.NETWORKDAYS.INTL(AD$9,AD$9,'休みの日'!$D$4,'休みの日'!$B$7:$B$56)=0,"・",IF(_xlfn.NETWORKDAYS.INTL($K21,AD$9,'休みの日'!$D$4,'休みの日'!$B$7:$B$56)<=ROUND(N($O21)*N($Q21),0),"■","□")),"")) | AE21: =IF(OR($K21="",$M21="",AE$9=""),"",IF(AND(AE$9>=$K21,AE$9<=$M21),IF(_xlfn.NETWORKDAYS.INTL(AE$9,AE$9,'休みの日'!$D$4,'休みの日'!$B$7:$B$56)=0,"・",IF(_xlfn.NETWORKDAYS.INTL($K21,AE$9,'休みの日'!$D$4,'休みの日'!$B$7:$B$56)<=ROUND(N($O21)*N($Q21),0),"■","□")),"")) | ... BB21: =IF(OR($K21="",$M21="",BB$9=""),"",IF(AND(BB$9>=$K21,BB$9<=$M21),IF(_xlfn.NETWORKDAYS.INTL(BB$9,BB$9,'休みの日'!$D$4,'休みの日'!$B$7:$B$56)=0,"・",IF(_xlfn.NETWORKDAYS.INTL($K21,BB$9,'休みの日'!$D$4,'休みの日'!$B$7:$B$56)<=ROUND(N($O21)*N($Q21),0),"■","□")),""))
O22: =IF(OR($K22="",$M22=""),"",_xlfn.NETWORKDAYS.INTL($K22,$M22,'休みの日'!$D$4,'休みの日'!$B$7:$B$56)) | S22: =IF(OR($O22="",$AG$3=""),"",IF($O22<=0,"",IF($AG$3<$K22,0,IF($AG$3>=$M22,1,_xlfn.NETWORKDAYS.INTL($K22,$AG$3,'休みの日'!$D$4,'休みの日'!$B$7:$B$56)/$O22)))) | U22: =IF(OR($B22="",$K22="",$M22=""),"",IF(N($Q22)>=1,"完了",IF($AG$3>$M22,"遅れ",IF($AG$3<$K22,IF(N($Q22)>0,"予定どおり","着手前"),IF($S22="","",IF(ROUND(N($Q22)*100,1)-ROUND($S22*100,1)<=-$AR$3,"遅れ",IF(N($Q22)<$S22,"やや遅れ","予定どおり"))))))) | X22: =IF(OR($K22="",$M22="",X$9=""),"",IF(AND(X$9>=$K22,X$9<=$M22),IF(_xlfn.NETWORKDAYS.INTL(X$9,X$9,'休みの日'!$D$4,'休みの日'!$B$7:$B$56)=0,"・",IF(_xlfn.NETWORKDAYS.INTL($K22,X$9,'休みの日'!$D$4,'休みの日'!$B$7:$B$56)<=ROUND(N($O22)*N($Q22),0),"■","□")),"")) | Y22: =IF(OR($K22="",$M22="",Y$9=""),"",IF(AND(Y$9>=$K22,Y$9<=$M22),IF(_xlfn.NETWORKDAYS.INTL(Y$9,Y$9,'休みの日'!$D$4,'休みの日'!$B$7:$B$56)=0,"・",IF(_xlfn.NETWORKDAYS.INTL($K22,Y$9,'休みの日'!$D$4,'休みの日'!$B$7:$B$56)<=ROUND(N($O22)*N($Q22),0),"■","□")),"")) | Z22: =IF(OR($K22="",$M22="",Z$9=""),"",IF(AND(Z$9>=$K22,Z$9<=$M22),IF(_xlfn.NETWORKDAYS.INTL(Z$9,Z$9,'休みの日'!$D$4,'休みの日'!$B$7:$B$56)=0,"・",IF(_xlfn.NETWORKDAYS.INTL($K22,Z$9,'休みの日'!$D$4,'休みの日'!$B$7:$B$56)<=ROUND(N($O22)*N($Q22),0),"■","□")),"")) | AA22: =IF(OR($K22="",$M22="",AA$9=""),"",IF(AND(AA$9>=$K22,AA$9<=$M22),IF(_xlfn.NETWORKDAYS.INTL(AA$9,AA$9,'休みの日'!$D$4,'休みの日'!$B$7:$B$56)=0,"・",IF(_xlfn.NETWORKDAYS.INTL($K22,AA$9,'休みの日'!$D$4,'休みの日'!$B$7:$B$56)<=ROUND(N($O22)*N($Q22),0),"■","□")),"")) | AB22: =IF(OR($K22="",$M22="",AB$9=""),"",IF(AND(AB$9>=$K22,AB$9<=$M22),IF(_xlfn.NETWORKDAYS.INTL(AB$9,AB$9,'休みの日'!$D$4,'休みの日'!$B$7:$B$56)=0,"・",IF(_xlfn.NETWORKDAYS.INTL($K22,AB$9,'休みの日'!$D$4,'休みの日'!$B$7:$B$56)<=ROUND(N($O22)*N($Q22),0),"■","□")),"")) | AC22: =IF(OR($K22="",$M22="",AC$9=""),"",IF(AND(AC$9>=$K22,AC$9<=$M22),IF(_xlfn.NETWORKDAYS.INTL(AC$9,AC$9,'休みの日'!$D$4,'休みの日'!$B$7:$B$56)=0,"・",IF(_xlfn.NETWORKDAYS.INTL($K22,AC$9,'休みの日'!$D$4,'休みの日'!$B$7:$B$56)<=ROUND(N($O22)*N($Q22),0),"■","□")),"")) | AD22: =IF(OR($K22="",$M22="",AD$9=""),"",IF(AND(AD$9>=$K22,AD$9<=$M22),IF(_xlfn.NETWORKDAYS.INTL(AD$9,AD$9,'休みの日'!$D$4,'休みの日'!$B$7:$B$56)=0,"・",IF(_xlfn.NETWORKDAYS.INTL($K22,AD$9,'休みの日'!$D$4,'休みの日'!$B$7:$B$56)<=ROUND(N($O22)*N($Q22),0),"■","□")),"")) | AE22: =IF(OR($K22="",$M22="",AE$9=""),"",IF(AND(AE$9>=$K22,AE$9<=$M22),IF(_xlfn.NETWORKDAYS.INTL(AE$9,AE$9,'休みの日'!$D$4,'休みの日'!$B$7:$B$56)=0,"・",IF(_xlfn.NETWORKDAYS.INTL($K22,AE$9,'休みの日'!$D$4,'休みの日'!$B$7:$B$56)<=ROUND(N($O22)*N($Q22),0),"■","□")),"")) | ... BB22: =IF(OR($K22="",$M22="",BB$9=""),"",IF(AND(BB$9>=$K22,BB$9<=$M22),IF(_xlfn.NETWORKDAYS.INTL(BB$9,BB$9,'休みの日'!$D$4,'休みの日'!$B$7:$B$56)=0,"・",IF(_xlfn.NETWORKDAYS.INTL($K22,BB$9,'休みの日'!$D$4,'休みの日'!$B$7:$B$56)<=ROUND(N($O22)*N($Q22),0),"■","□")),""))
O23: =IF(OR($K23="",$M23=""),"",_xlfn.NETWORKDAYS.INTL($K23,$M23,'休みの日'!$D$4,'休みの日'!$B$7:$B$56)) | S23: =IF(OR($O23="",$AG$3=""),"",IF($O23<=0,"",IF($AG$3<$K23,0,IF($AG$3>=$M23,1,_xlfn.NETWORKDAYS.INTL($K23,$AG$3,'休みの日'!$D$4,'休みの日'!$B$7:$B$56)/$O23)))) | U23: =IF(OR($B23="",$K23="",$M23=""),"",IF(N($Q23)>=1,"完了",IF($AG$3>$M23,"遅れ",IF($AG$3<$K23,IF(N($Q23)>0,"予定どおり","着手前"),IF($S23="","",IF(ROUND(N($Q23)*100,1)-ROUND($S23*100,1)<=-$AR$3,"遅れ",IF(N($Q23)<$S23,"やや遅れ","予定どおり"))))))) | X23: =IF(OR($K23="",$M23="",X$9=""),"",IF(AND(X$9>=$K23,X$9<=$M23),IF(_xlfn.NETWORKDAYS.INTL(X$9,X$9,'休みの日'!$D$4,'休みの日'!$B$7:$B$56)=0,"・",IF(_xlfn.NETWORKDAYS.INTL($K23,X$9,'休みの日'!$D$4,'休みの日'!$B$7:$B$56)<=ROUND(N($O23)*N($Q23),0),"■","□")),"")) | Y23: =IF(OR($K23="",$M23="",Y$9=""),"",IF(AND(Y$9>=$K23,Y$9<=$M23),IF(_xlfn.NETWORKDAYS.INTL(Y$9,Y$9,'休みの日'!$D$4,'休みの日'!$B$7:$B$56)=0,"・",IF(_xlfn.NETWORKDAYS.INTL($K23,Y$9,'休みの日'!$D$4,'休みの日'!$B$7:$B$56)<=ROUND(N($O23)*N($Q23),0),"■","□")),"")) | Z23: =IF(OR($K23="",$M23="",Z$9=""),"",IF(AND(Z$9>=$K23,Z$9<=$M23),IF(_xlfn.NETWORKDAYS.INTL(Z$9,Z$9,'休みの日'!$D$4,'休みの日'!$B$7:$B$56)=0,"・",IF(_xlfn.NETWORKDAYS.INTL($K23,Z$9,'休みの日'!$D$4,'休みの日'!$B$7:$B$56)<=ROUND(N($O23)*N($Q23),0),"■","□")),"")) | AA23: =IF(OR($K23="",$M23="",AA$9=""),"",IF(AND(AA$9>=$K23,AA$9<=$M23),IF(_xlfn.NETWORKDAYS.INTL(AA$9,AA$9,'休みの日'!$D$4,'休みの日'!$B$7:$B$56)=0,"・",IF(_xlfn.NETWORKDAYS.INTL($K23,AA$9,'休みの日'!$D$4,'休みの日'!$B$7:$B$56)<=ROUND(N($O23)*N($Q23),0),"■","□")),"")) | AB23: =IF(OR($K23="",$M23="",AB$9=""),"",IF(AND(AB$9>=$K23,AB$9<=$M23),IF(_xlfn.NETWORKDAYS.INTL(AB$9,AB$9,'休みの日'!$D$4,'休みの日'!$B$7:$B$56)=0,"・",IF(_xlfn.NETWORKDAYS.INTL($K23,AB$9,'休みの日'!$D$4,'休みの日'!$B$7:$B$56)<=ROUND(N($O23)*N($Q23),0),"■","□")),"")) | AC23: =IF(OR($K23="",$M23="",AC$9=""),"",IF(AND(AC$9>=$K23,AC$9<=$M23),IF(_xlfn.NETWORKDAYS.INTL(AC$9,AC$9,'休みの日'!$D$4,'休みの日'!$B$7:$B$56)=0,"・",IF(_xlfn.NETWORKDAYS.INTL($K23,AC$9,'休みの日'!$D$4,'休みの日'!$B$7:$B$56)<=ROUND(N($O23)*N($Q23),0),"■","□")),"")) | AD23: =IF(OR($K23="",$M23="",AD$9=""),"",IF(AND(AD$9>=$K23,AD$9<=$M23),IF(_xlfn.NETWORKDAYS.INTL(AD$9,AD$9,'休みの日'!$D$4,'休みの日'!$B$7:$B$56)=0,"・",IF(_xlfn.NETWORKDAYS.INTL($K23,AD$9,'休みの日'!$D$4,'休みの日'!$B$7:$B$56)<=ROUND(N($O23)*N($Q23),0),"■","□")),"")) | AE23: =IF(OR($K23="",$M23="",AE$9=""),"",IF(AND(AE$9>=$K23,AE$9<=$M23),IF(_xlfn.NETWORKDAYS.INTL(AE$9,AE$9,'休みの日'!$D$4,'休みの日'!$B$7:$B$56)=0,"・",IF(_xlfn.NETWORKDAYS.INTL($K23,AE$9,'休みの日'!$D$4,'休みの日'!$B$7:$B$56)<=ROUND(N($O23)*N($Q23),0),"■","□")),"")) | ... BB23: =IF(OR($K23="",$M23="",BB$9=""),"",IF(AND(BB$9>=$K23,BB$9<=$M23),IF(_xlfn.NETWORKDAYS.INTL(BB$9,BB$9,'休みの日'!$D$4,'休みの日'!$B$7:$B$56)=0,"・",IF(_xlfn.NETWORKDAYS.INTL($K23,BB$9,'休みの日'!$D$4,'休みの日'!$B$7:$B$56)<=ROUND(N($O23)*N($Q23),0),"■","□")),""))
A25: 白い欄（タスク・担当・開始・終了・進捗率(実績)）に入れます。色の付いた欄（作業日数・進捗率(予定)・判定・日付・■□）は数式で出ます。
A26: 作業日数＝開始から終了までのうち、休みの日（休みの日のシートの曜日と日付）を除いた日数。進捗率(予定)＝基準日までに過ぎた作業日÷作業日数。
A27: 判定：実績が100%なら完了。終了を過ぎて終わっていなければ遅れ。開始の前なら着手前。それ以外は、実績が予定より「遅れと判定する差」以上遅れていれば遅れ、少しでも遅れていればやや遅れ、遅れていなければ予定どおり。
A28: ■は作業日数×進捗率(実績)の日数分を開始から、□は残りの作業日です。▼の列より左に□が残っていれば、予定より遅れています。
A29: 行が足りないときは、表の1行を行番号で選んでコピーし、右クリックの「コピーしたセルの挿入」で足すと、数式も一緒に入ります。

Sheet 週単位
A1: ガントチャート（週単位）
A3: 案件名 | D3: 事務所の移転（引っ越し：12月11日） | T3: 基準日 | W3: 46330 | AB3: 判定に使う日 | AG3: =IF(W3="",TODAY(),W3) | AL3: 遅れと判定する差 | AR3: 10
A4: 表の開始日 | D4: 46209 | I4: 表の最初の週 | N4: =IF(D4="",IF(COUNT($K$10:$K$22)=0,"",MIN($K$10:$K$22)-MOD(WEEKDAY(MIN($K$10:$K$22))+5,7)),D4-MOD(WEEKDAY(D4)+5,7)) | S4: 基準日が空欄のときは、今日の日付で判定します。週は月曜日から日曜日です。表の開始日が空欄のときは、開始のいちばん早い日の週から並べます。
A5: 判定ごとのタスクの数 | I5: 完了 | L5: =IF(COUNTA($B$10:$B$22)=0,"",COUNTIF($U$10:$U$22,"完了")) | N5: 予定どおり | R5: =IF(COUNTA($B$10:$B$22)=0,"",COUNTIF($U$10:$U$22,"予定どおり")) | T5: やや遅れ | X5: =IF(COUNTA($B$10:$B$22)=0,"",COUNTIF($U$10:$U$22,"やや遅れ")) | Z5: 遅れ | AC5: =IF(COUNTA($B$10:$B$22)=0,"",COUNTIF($U$10:$U$22,"遅れ")) | AE5: 着手前 | AH5: =IF(COUNTA($B$10:$B$22)=0,"",COUNTIF($U$10:$U$22,"着手前"))
A7: ■ 予定の期間のうち終わった分 □ まだの分 ・ 休みの日 ▼ 基準日 | X7: =IF(OR(X9="",$AG$3=""),"",IF(AND($AG$3>=X9,$AG$3<=X9+6),"▼","")) | Y7: =IF(OR(Y9="",$AG$3=""),"",IF(AND($AG$3>=Y9,$AG$3<=Y9+6),"▼","")) | Z7: =IF(OR(Z9="",$AG$3=""),"",IF(AND($AG$3>=Z9,$AG$3<=Z9+6),"▼","")) | AA7: =IF(OR(AA9="",$AG$3=""),"",IF(AND($AG$3>=AA9,$AG$3<=AA9+6),"▼","")) | AB7: =IF(OR(AB9="",$AG$3=""),"",IF(AND($AG$3>=AB9,$AG$3<=AB9+6),"▼","")) | AC7: =IF(OR(AC9="",$AG$3=""),"",IF(AND($AG$3>=AC9,$AG$3<=AC9+6),"▼","")) | AD7: =IF(OR(AD9="",$AG$3=""),"",IF(AND($AG$3>=AD9,$AG$3<=AD9+6),"▼","")) | AE7: =IF(OR(AE9="",$AG$3=""),"",IF(AND($AG$3>=AE9,$AG$3<=AE9+6),"▼","")) | ... AW7: =IF(OR(AW9="",$AG$3=""),"",IF(AND($AG$3>=AW9,$AG$3<=AW9+6),"▼",""))
A8: No. | B8: タスク | I8: 担当 | K8: 開始 | M8: 終了 | O8: 作業 日数 | Q8: 進捗率 (実績) | S8: 進捗率 (予定) | U8: 判定 | X8: =IF(X9="","",MONTH(X9)&"月") | Y8: =IF(Y9="","",IF(MONTH(Y9)<>MONTH(X9),MONTH(Y9)&"月","")) | Z8: =IF(Z9="","",IF(MONTH(Z9)<>MONTH(Y9),MONTH(Z9)&"月","")) | AA8: =IF(AA9="","",IF(MONTH(AA9)<>MONTH(Z9),MONTH(AA9)&"月","")) | AB8: =IF(AB9="","",IF(MONTH(AB9)<>MONTH(AA9),MONTH(AB9)&"月","")) | AC8: =IF(AC9="","",IF(MONTH(AC9)<>MONTH(AB9),MONTH(AC9)&"月","")) | AD8: =IF(AD9="","",IF(MONTH(AD9)<>MONTH(AC9),MONTH(AD9)&"月","")) | AE8: =IF(AE9="","",IF(MONTH(AE9)<>MONTH(AD9),MONTH(AE9)&"月","")) | AF8: =IF(AF9="","",IF(MONTH(AF9)<>MONTH(AE9),MONTH(AF9)&"月","")) | ... AW8: =IF(AW9="","",IF(MONTH(AW9)<>MONTH(AV9),MONTH(AW9)&"月",""))
X9: =IF($N$4="","",$N$4) | Y9: =IF(X9="","",X9+7) | Z9: =IF(Y9="","",Y9+7) | AA9: =IF(Z9="","",Z9+7) | AB9: =IF(AA9="","",AA9+7) | AC9: =IF(AB9="","",AB9+7) | AD9: =IF(AC9="","",AC9+7) | AE9: =IF(AD9="","",AD9+7) | AF9: =IF(AE9="","",AE9+7) | ... AW9: =IF(AV9="","",AV9+7)
A10: 1 | B10: 移転先の候補探し・内見 | I10: 佐野 | K10: 46209 | M10: 46234 | O10: =IF(OR($K10="",$M10=""),"",_xlfn.NETWORKDAYS.INTL($K10,$M10,'休みの日'!$D$4,'休みの日'!$B$7:$B$56)) | Q10: 1 | S10: =IF(OR($O10="",$AG$3=""),"",IF($O10<=0,"",IF($AG$3<$K10,0,IF($AG$3>=$M10,1,_xlfn.NETWORKDAYS.INTL($K10,$AG$3,'休みの日'!$D$4,'休みの日'!$B$7:$B$56)/$O10)))) | U10: =IF(OR($B10="",$K10="",$M10=""),"",IF(N($Q10)>=1,"完了",IF($AG$3>$M10,"遅れ",IF($AG$3<$K10,IF(N($Q10)>0,"予定どおり","着手前"),IF($S10="","",IF(ROUND(N($Q10)*100,1)-ROUND($S10*100,1)<=-$AR$3,"遅れ",IF(N($Q10)<$S10,"やや遅れ","予定どおり"))))))) | X10: =IF(OR($K10="",$M10="",X$9=""),"",IF(AND($K10<=X$9+6,$M10>=X$9),IF(_xlfn.NETWORKDAYS.INTL(MAX($K10,X$9),MIN($M10,X$9+6),'休みの日'!$D$4,'休みの日'!$B$7:$B$56)=0,"・",IF(IF(X$9<=$K10,0,_xlfn.NETWORKDAYS.INTL($K10,X$9-1,'休みの日'!$D$4,'休みの日'!$B$7:$B$56))<ROUND(N($O10)*N($Q10),0),"■","□")),"")) | Y10: =IF(OR($K10="",$M10="",Y$9=""),"",IF(AND($K10<=Y$9+6,$M10>=Y$9),IF(_xlfn.NETWORKDAYS.INTL(MAX($K10,Y$9),MIN($M10,Y$9+6),'休みの日'!$D$4,'休みの日'!$B$7:$B$56)=0,"・",IF(IF(Y$9<=$K10,0,_xlfn.NETWORKDAYS.INTL($K10,Y$9-1,'休みの日'!$D$4,'休みの日'!$B$7:$B$56))<ROUND(N($O10)*N($Q10),0),"■","□")),"")) | Z10: =IF(OR($K10="",$M10="",Z$9=""),"",IF(AND($K10<=Z$9+6,$M10>=Z$9),IF(_xlfn.NETWORKDAYS.INTL(MAX($K10,Z$9),MIN($M10,Z$9+6),'休みの日'!$D$4,'休みの日'!$B$7:$B$56)=0,"・",IF(IF(Z$9<=$K10,0,_xlfn.NETWORKDAYS.INTL($K10,Z$9-1,'休みの日'!$D$4,'休みの日'!$B$7:$B$56))<ROUND(N($O10)*N($Q10),0),"■","□")),"")) | AA10: =IF(OR($K10="",$M10="",AA$9=""),"",IF(AND($K10<=AA$9+6,$M10>=AA$9),IF(_xlfn.NETWORKDAYS.INTL(MAX($K10,AA$9),MIN($M10,AA$9+6),'休みの日'!$D$4,'休みの日'!$B$7:$B$56)=0,"・",IF(IF(AA$9<=$K10,0,_xlfn.NETWORKDAYS.INTL($K10,AA$9-1,'休みの日'!$D$4,'休みの日'!$B$7:$B$56))<ROUND(N($O10)*N($Q10),0),"■","□")),"")) | AB10: =IF(OR($K10="",$M10="",AB$9=""),"",IF(AND($K10<=AB$9+6,$M10>=AB$9),IF(_xlfn.NETWORKDAYS.INTL(MAX($K10,AB$9),MIN($M10,AB$9+6),'休みの日'!$D$4,'休みの日'!$B$7:$B$56)=0,"・",IF(IF(AB$9<=$K10,0,_xlfn.NETWORKDAYS.INTL($K10,AB$9-1,'休みの日'!$D$4,'休みの日'!$B$7:$B$56))<ROUND(N($O10)*N($Q10),0),"■","□")),"")) | AC10: =IF(OR($K10="",$M10="",AC$9=""),"",IF(AND($K10<=AC$9+6,$M10>=AC$9),IF(_xlfn.NETWORKDAYS.INTL(MAX($K10,AC$9),MIN($M10,AC$9+6),'休みの日'!$D$4,'休みの日'!$B$7:$B$56)=0,"・",IF(IF(AC$9<=$K10,0,_xlfn.NETWORKDAYS.INTL($K10,AC$9-1,'休みの日'!$D$4,'休みの日'!$B$7:$B$56))<ROUND(N($O10)*N($Q10),0),"■","□")),"")) | AD10: =IF(OR($K10="",$M10="",AD$9=""),"",IF(AND($K10<=AD$9+6,$M10>=AD$9),IF(_xlfn.NETWORKDAYS.INTL(MAX($K10,AD$9),MIN($M10,AD$9+6),'休みの日'!$D$4,'休みの日'!$B$7:$B$56)=0,"・",IF(IF(AD$9<=$K10,0,_xlfn.NETWORKDAYS.INTL($K10,AD$9-1,'休みの日'!$D$4,'休みの日'!$B$7:$B$56))<ROUND(N($O10)*N($Q10),0),"■","□")),"")) | AE10: =IF(OR($K10="",$M10="",AE$9=""),"",IF(AND($K10<=AE$9+6,$M10>=AE$9),IF(_xlfn.NETWORKDAYS.INTL(MAX($K10,AE$9),MIN($M10,AE$9+6),'休みの日'!$D$4,'休みの日'!$B$7:$B$56)=0,"・",IF(IF(AE$9<=$K10,0,_xlfn.NETWORKDAYS.INTL($K10,AE$9-1,'休みの日'!$D$4,'休みの日'!$B$7:$B$56))<ROUND(N($O10)*N($Q10),0),"■","□")),"")) | ... AW10: =IF(OR($K10="",$M10="",AW$9=""),"",IF(AND($K10<=AW$9+6,$M10>=AW$9),IF(_xlfn.NETWORKDAYS.INTL(MAX($K10,AW$9),MIN($M10,AW$9+6),'休みの日'!$D$4,'休みの日'!$B$7:$B$56)=0,"・",IF(IF(AW$9<=$K10,0,_xlfn.NETWORKDAYS.INTL($K10,AW$9-1,'休みの日'!$D$4,'休みの日'!$B$7:$B$56))<ROUND(N($O10)*N($Q10),0),"■","□")),""))
A11: 2 | B11: 移転先の決定と契約 | I11: 佐野 | K11: 46237 | M11: 46255 | O11: =IF(OR($K11="",$M11=""),"",_xlfn.NETWORKDAYS.INTL($K11,$M11,'休みの日'!$D$4,'休みの日'!$B$7:$B$56)) | Q11: 1 | S11: =IF(OR($O11="",$AG$3=""),"",IF($O11<=0,"",IF($AG$3<$K11,0,IF($AG$3>=$M11,1,_xlfn.NETWORKDAYS.INTL($K11,$AG$3,'休みの日'!$D$4,'休みの日'!$B$7:$B$56)/$O11)))) | U11: =IF(OR($B11="",$K11="",$M11=""),"",IF(N($Q11)>=1,"完了",IF($AG$3>$M11,"遅れ",IF($AG$3<$K11,IF(N($Q11)>0,"予定どおり","着手前"),IF($S11="","",IF(ROUND(N($Q11)*100,1)-ROUND($S11*100,1)<=-$AR$3,"遅れ",IF(N($Q11)<$S11,"やや遅れ","予定どおり"))))))) | X11: =IF(OR($K11="",$M11="",X$9=""),"",IF(AND($K11<=X$9+6,$M11>=X$9),IF(_xlfn.NETWORKDAYS.INTL(MAX($K11,X$9),MIN($M11,X$9+6),'休みの日'!$D$4,'休みの日'!$B$7:$B$56)=0,"・",IF(IF(X$9<=$K11,0,_xlfn.NETWORKDAYS.INTL($K11,X$9-1,'休みの日'!$D$4,'休みの日'!$B$7:$B$56))<ROUND(N($O11)*N($Q11),0),"■","□")),"")) | Y11: =IF(OR($K11="",$M11="",Y$9=""),"",IF(AND($K11<=Y$9+6,$M11>=Y$9),IF(_xlfn.NETWORKDAYS.INTL(MAX($K11,Y$9),MIN($M11,Y$9+6),'休みの日'!$D$4,'休みの日'!$B$7:$B$56)=0,"・",IF(IF(Y$9<=$K11,0,_xlfn.NETWORKDAYS.INTL($K11,Y$9-1,'休みの日'!$D$4,'休みの日'!$B$7:$B$56))<ROUND(N($O11)*N($Q11),0),"■","□")),"")) | Z11: =IF(OR($K11="",$M11="",Z$9=""),"",IF(AND($K11<=Z$9+6,$M11>=Z$9),IF(_xlfn.NETWORKDAYS.INTL(MAX($K11,Z$9),MIN($M11,Z$9+6),'休みの日'!$D$4,'休みの日'!$B$7:$B$56)=0,"・",IF(IF(Z$9<=$K11,0,_xlfn.NETWORKDAYS.INTL($K11,Z$9-1,'休みの日'!$D$4,'休みの日'!$B$7:$B$56))<ROUND(N($O11)*N($Q11),0),"■","□")),"")) | AA11: =IF(OR($K11="",$M11="",AA$9=""),"",IF(AND($K11<=AA$9+6,$M11>=AA$9),IF(_xlfn.NETWORKDAYS.INTL(MAX($K11,AA$9),MIN($M11,AA$9+6),'休みの日'!$D$4,'休みの日'!$B$7:$B$56)=0,"・",IF(IF(AA$9<=$K11,0,_xlfn.NETWORKDAYS.INTL($K11,AA$9-1,'休みの日'!$D$4,'休みの日'!$B$7:$B$56))<ROUND(N($O11)*N($Q11),0),"■","□")),"")) | AB11: =IF(OR($K11="",$M11="",AB$9=""),"",IF(AND($K11<=AB$9+6,$M11>=AB$9),IF(_xlfn.NETWORKDAYS.INTL(MAX($K11,AB$9),MIN($M11,AB$9+6),'休みの日'!$D$4,'休みの日'!$B$7:$B$56)=0,"・",IF(IF(AB$9<=$K11,0,_xlfn.NETWORKDAYS.INTL($K11,AB$9-1,'休みの日'!$D$4,'休みの日'!$B$7:$B$56))<ROUND(N($O11)*N($Q11),0),"■","□")),"")) | AC11: =IF(OR($K11="",$M11="",AC$9=""),"",IF(AND($K11<=AC$9+6,$M11>=AC$9),IF(_xlfn.NETWORKDAYS.INTL(MAX($K11,AC$9),MIN($M11,AC$9+6),'休みの日'!$D$4,'休みの日'!$B$7:$B$56)=0,"・",IF(IF(AC$9<=$K11,0,_xlfn.NETWORKDAYS.INTL($K11,AC$9-1,'休みの日'!$D$4,'休みの日'!$B$7:$B$56))<ROUND(N($O11)*N($Q11),0),"■","□")),"")) | AD11: =IF(OR($K11="",$M11="",AD$9=""),"",IF(AND($K11<=AD$9+6,$M11>=AD$9),IF(_xlfn.NETWORKDAYS.INTL(MAX($K11,AD$9),MIN($M11,AD$9+6),'休みの日'!$D$4,'休みの日'!$B$7:$B$56)=0,"・",IF(IF(AD$9<=$K11,0,_xlfn.NETWORKDAYS.INTL($K11,AD$9-1,'休みの日'!$D$4,'休みの日'!$B$7:$B$56))<ROUND(N($O11)*N($Q11),0),"■","□")),"")) | AE11: =IF(OR($K11="",$M11="",AE$9=""),"",IF(AND($K11<=AE$9+6,$M11>=AE$9),IF(_xlfn.NETWORKDAYS.INTL(MAX($K11,AE$9),MIN($M11,AE$9+6),'休みの日'!$D$4,'休みの日'!$B$7:$B$56)=0,"・",IF(IF(AE$9<=$K11,0,_xlfn.NETWORKDAYS.INTL($K11,AE$9-1,'休みの日'!$D$4,'休みの日'!$B$7:$B$56))<ROUND(N($O11)*N($Q11),0),"■","□")),"")) | ... AW11: =IF(OR($K11="",$M11="",AW$9=""),"",IF(AND($K11<=AW$9+6,$M11>=AW$9),IF(_xlfn.NETWORKDAYS.INTL(MAX($K11,AW$9),MIN($M11,AW$9+6),'休みの日'!$D$4,'休みの日'!$B$7:$B$56)=0,"・",IF(IF(AW$9<=$K11,0,_xlfn.NETWORKDAYS.INTL($K11,AW$9-1,'休みの日'!$D$4,'休みの日'!$B$7:$B$56))<ROUND(N($O11)*N($Q11),0),"■","□")),""))
A12: 3 | B12: レイアウト・内装の打ち合わせ | I12: 佐野 | K12: 46258 | M12: 46290 | O12: =IF(OR($K12="",$M12=""),"",_xlfn.NETWORKDAYS.INTL($K12,$M12,'休みの日'!$D$4,'休みの日'!$B$7:$B$56)) | Q12: 1 | S12: =IF(OR($O12="",$AG$3=""),"",IF($O12<=0,"",IF($AG$3<$K12,0,IF($AG$3>=$M12,1,_xlfn.NETWORKDAYS.INTL($K12,$AG$3,'休みの日'!$D$4,'休みの日'!$B$7:$B$56)/$O12)))) | U12: =IF(OR($B12="",$K12="",$M12=""),"",IF(N($Q12)>=1,"完了",IF($AG$3>$M12,"遅れ",IF($AG$3<$K12,IF(N($Q12)>0,"予定どおり","着手前"),IF($S12="","",IF(ROUND(N($Q12)*100,1)-ROUND($S12*100,1)<=-$AR$3,"遅れ",IF(N($Q12)<$S12,"やや遅れ","予定どおり"))))))) | X12: =IF(OR($K12="",$M12="",X$9=""),"",IF(AND($K12<=X$9+6,$M12>=X$9),IF(_xlfn.NETWORKDAYS.INTL(MAX($K12,X$9),MIN($M12,X$9+6),'休みの日'!$D$4,'休みの日'!$B$7:$B$56)=0,"・",IF(IF(X$9<=$K12,0,_xlfn.NETWORKDAYS.INTL($K12,X$9-1,'休みの日'!$D$4,'休みの日'!$B$7:$B$56))<ROUND(N($O12)*N($Q12),0),"■","□")),"")) | Y12: =IF(OR($K12="",$M12="",Y$9=""),"",IF(AND($K12<=Y$9+6,$M12>=Y$9),IF(_xlfn.NETWORKDAYS.INTL(MAX($K12,Y$9),MIN($M12,Y$9+6),'休みの日'!$D$4,'休みの日'!$B$7:$B$56)=0,"・",IF(IF(Y$9<=$K12,0,_xlfn.NETWORKDAYS.INTL($K12,Y$9-1,'休みの日'!$D$4,'休みの日'!$B$7:$B$56))<ROUND(N($O12)*N($Q12),0),"■","□")),"")) | Z12: =IF(OR($K12="",$M12="",Z$9=""),"",IF(AND($K12<=Z$9+6,$M12>=Z$9),IF(_xlfn.NETWORKDAYS.INTL(MAX($K12,Z$9),MIN($M12,Z$9+6),'休みの日'!$D$4,'休みの日'!$B$7:$B$56)=0,"・",IF(IF(Z$9<=$K12,0,_xlfn.NETWORKDAYS.INTL($K12,Z$9-1,'休みの日'!$D$4,'休みの日'!$B$7:$B$56))<ROUND(N($O12)*N($Q12),0),"■","□")),"")) | AA12: =IF(OR($K12="",$M12="",AA$9=""),"",IF(AND($K12<=AA$9+6,$M12>=AA$9),IF(_xlfn.NETWORKDAYS.INTL(MAX($K12,AA$9),MIN($M12,AA$9+6),'休みの日'!$D$4,'休みの日'!$B$7:$B$56)=0,"・",IF(IF(AA$9<=$K12,0,_xlfn.NETWORKDAYS.INTL($K12,AA$9-1,'休みの日'!$D$4,'休みの日'!$B$7:$B$56))<ROUND(N($O12)*N($Q12),0),"■","□")),"")) | AB12: =IF(OR($K12="",$M12="",AB$9=""),"",IF(AND($K12<=AB$9+6,$M12>=AB$9),IF(_xlfn.NETWORKDAYS.INTL(MAX($K12,AB$9),MIN($M12,AB$9+6),'休みの日'!$D$4,'休みの日'!$B$7:$B$56)=0,"・",IF(IF(AB$9<=$K12,0,_xlfn.NETWORKDAYS.INTL($K12,AB$9-1,'休みの日'!$D$4,'休みの日'!$B$7:$B$56))<ROUND(N($O12)*N($Q12),0),"■","□")),"")) | AC12: =IF(OR($K12="",$M12="",AC$9=""),"",IF(AND($K12<=AC$9+6,$M12>=AC$9),IF(_xlfn.NETWORKDAYS.INTL(MAX($K12,AC$9),MIN($M12,AC$9+6),'休みの日'!$D$4,'休みの日'!$B$7:$B$56)=0,"・",IF(IF(AC$9<=$K12,0,_xlfn.NETWORKDAYS.INTL($K12,AC$9-1,'休みの日'!$D$4,'休みの日'!$B$7:$B$56))<ROUND(N($O12)*N($Q12),0),"■","□")),"")) | AD12: =IF(OR($K12="",$M12="",AD$9=""),"",IF(AND($K12<=AD$9+6,$M12>=AD$9),IF(_xlfn.NETWORKDAYS.INTL(MAX($K12,AD$9),MIN($M12,AD$9+6),'休みの日'!$D$4,'休みの日'!$B$7:$B$56)=0,"・",IF(IF(AD$9<=$K12,0,_xlfn.NETWORKDAYS.INTL($K12,AD$9-1,'休みの日'!$D$4,'休みの日'!$B$7:$B$56))<ROUND(N($O12)*N($Q12),0),"■","□")),"")) | AE12: =IF(OR($K12="",$M12="",AE$9=""),"",IF(AND($K12<=AE$9+6,$M12>=AE$9),IF(_xlfn.NETWORKDAYS.INTL(MAX($K12,AE$9),MIN($M12,AE$9+6),'休みの日'!$D$4,'休みの日'!$B$7:$B$56)=0,"・",IF(IF(AE$9<=$K12,0,_xlfn.NETWORKDAYS.INTL($K12,AE$9-1,'休みの日'!$D$4,'休みの日'!$B$7:$B$56))<ROUND(N($O12)*N($Q12),0),"■","□")),"")) | ... AW12: =IF(OR($K12="",$M12="",AW$9=""),"",IF(AND($K12<=AW$9+6,$M12>=AW$9),IF(_xlfn.NETWORKDAYS.INTL(MAX($K12,AW$9),MIN($M12,AW$9+6),'休みの日'!$D$4,'休みの日'!$B$7:$B$56)=0,"・",IF(IF(AW$9<=$K12,0,_xlfn.NETWORKDAYS.INTL($K12,AW$9-1,'休みの日'!$D$4,'休みの日'!$B$7:$B$56))<ROUND(N($O12)*N($Q12),0),"■","□")),""))
A13: 4 | B13: 内装工事 | I13: 内装会社 | K13: 46300 | M13: 46353 | O13: =IF(OR($K13="",$M13=""),"",_xlfn.NETWORKDAYS.INTL($K13,$M13,'休みの日'!$D$4,'休みの日'!$B$7:$B$56)) | Q13: 0.5 | S13: =IF(OR($O13="",$AG$3=""),"",IF($O13<=0,"",IF($AG$3<$K13,0,IF($AG$3>=$M13,1,_xlfn.NETWORKDAYS.INTL($K13,$AG$3,'休みの日'!$D$4,'休みの日'!$B$7:$B$56)/$O13)))) | U13: =IF(OR($B13="",$K13="",$M13=""),"",IF(N($Q13)>=1,"完了",IF($AG$3>$M13,"遅れ",IF($AG$3<$K13,IF(N($Q13)>0,"予定どおり","着手前"),IF($S13="","",IF(ROUND(N($Q13)*100,1)-ROUND($S13*100,1)<=-$AR$3,"遅れ",IF(N($Q13)<$S13,"やや遅れ","予定どおり"))))))) | X13: =IF(OR($K13="",$M13="",X$9=""),"",IF(AND($K13<=X$9+6,$M13>=X$9),IF(_xlfn.NETWORKDAYS.INTL(MAX($K13,X$9),MIN($M13,X$9+6),'休みの日'!$D$4,'休みの日'!$B$7:$B$56)=0,"・",IF(IF(X$9<=$K13,0,_xlfn.NETWORKDAYS.INTL($K13,X$9-1,'休みの日'!$D$4,'休みの日'!$B$7:$B$56))<ROUND(N($O13)*N($Q13),0),"■","□")),"")) | Y13: =IF(OR($K13="",$M13="",Y$9=""),"",IF(AND($K13<=Y$9+6,$M13>=Y$9),IF(_xlfn.NETWORKDAYS.INTL(MAX($K13,Y$9),MIN($M13,Y$9+6),'休みの日'!$D$4,'休みの日'!$B$7:$B$56)=0,"・",IF(IF(Y$9<=$K13,0,_xlfn.NETWORKDAYS.INTL($K13,Y$9-1,'休みの日'!$D$4,'休みの日'!$B$7:$B$56))<ROUND(N($O13)*N($Q13),0),"■","□")),"")) | Z13: =IF(OR($K13="",$M13="",Z$9=""),"",IF(AND($K13<=Z$9+6,$M13>=Z$9),IF(_xlfn.NETWORKDAYS.INTL(MAX($K13,Z$9),MIN($M13,Z$9+6),'休みの日'!$D$4,'休みの日'!$B$7:$B$56)=0,"・",IF(IF(Z$9<=$K13,0,_xlfn.NETWORKDAYS.INTL($K13,Z$9-1,'休みの日'!$D$4,'休みの日'!$B$7:$B$56))<ROUND(N($O13)*N($Q13),0),"■","□")),"")) | AA13: =IF(OR($K13="",$M13="",AA$9=""),"",IF(AND($K13<=AA$9+6,$M13>=AA$9),IF(_xlfn.NETWORKDAYS.INTL(MAX($K13,AA$9),MIN($M13,AA$9+6),'休みの日'!$D$4,'休みの日'!$B$7:$B$56)=0,"・",IF(IF(AA$9<=$K13,0,_xlfn.NETWORKDAYS.INTL($K13,AA$9-1,'休みの日'!$D$4,'休みの日'!$B$7:$B$56))<ROUND(N($O13)*N($Q13),0),"■","□")),"")) | AB13: =IF(OR($K13="",$M13="",AB$9=""),"",IF(AND($K13<=AB$9+6,$M13>=AB$9),IF(_xlfn.NETWORKDAYS.INTL(MAX($K13,AB$9),MIN($M13,AB$9+6),'休みの日'!$D$4,'休みの日'!$B$7:$B$56)=0,"・",IF(IF(AB$9<=$K13,0,_xlfn.NETWORKDAYS.INTL($K13,AB$9-1,'休みの日'!$D$4,'休みの日'!$B$7:$B$56))<ROUND(N($O13)*N($Q13),0),"■","□")),"")) | AC13: =IF(OR($K13="",$M13="",AC$9=""),"",IF(AND($K13<=AC$9+6,$M13>=AC$9),IF(_xlfn.NETWORKDAYS.INTL(MAX($K13,AC$9),MIN($M13,AC$9+6),'休みの日'!$D$4,'休みの日'!$B$7:$B$56)=0,"・",IF(IF(AC$9<=$K13,0,_xlfn.NETWORKDAYS.INTL($K13,AC$9-1,'休みの日'!$D$4,'休みの日'!$B$7:$B$56))<ROUND(N($O13)*N($Q13),0),"■","□")),"")) | AD13: =IF(OR($K13="",$M13="",AD$9=""),"",IF(AND($K13<=AD$9+6,$M13>=AD$9),IF(_xlfn.NETWORKDAYS.INTL(MAX($K13,AD$9),MIN($M13,AD$9+6),'休みの日'!$D$4,'休みの日'!$B$7:$B$56)=0,"・",IF(IF(AD$9<=$K13,0,_xlfn.NETWORKDAYS.INTL($K13,AD$9-1,'休みの日'!$D$4,'休みの日'!$B$7:$B$56))<ROUND(N($O13)*N($Q13),0),"■","□")),"")) | AE13: =IF(OR($K13="",$M13="",AE$9=""),"",IF(AND($K13<=AE$9+6,$M13>=AE$9),IF(_xlfn.NETWORKDAYS.INTL(MAX($K13,AE$9),MIN($M13,AE$9+6),'休みの日'!$D$4,'休みの日'!$B$7:$B$56)=0,"・",IF(IF(AE$9<=$K13,0,_xlfn.NETWORKDAYS.INTL($K13,AE$9-1,'休みの日'!$D$4,'休みの日'!$B$7:$B$56))<ROUND(N($O13)*N($Q13),0),"■","□")),"")) | ... AW13: =IF(OR($K13="",$M13="",AW$9=""),"",IF(AND($K13<=AW$9+6,$M13>=AW$9),IF(_xlfn.NETWORKDAYS.INTL(MAX($K13,AW$9),MIN($M13,AW$9+6),'休みの日'!$D$4,'休みの日'!$B$7:$B$56)=0,"・",IF(IF(AW$9<=$K13,0,_xlfn.NETWORKDAYS.INTL($K13,AW$9-1,'休みの日'!$D$4,'休みの日'!$B$7:$B$56))<ROUND(N($O13)*N($Q13),0),"■","□")),""))
A14: 5 | B14: ネットワーク・電話の手配 | I14: 宮本 | K14: 46307 | M14: 46346 | O14: =IF(OR($K14="",$M14=""),"",_xlfn.NETWORKDAYS.INTL($K14,$M14,'休みの日'!$D$4,'休みの日'!$B$7:$B$56)) | Q14: 0.4 | S14: =IF(OR($O14="",$AG$3=""),"",IF($O14<=0,"",IF($AG$3<$K14,0,IF($AG$3>=$M14,1,_xlfn.NETWORKDAYS.INTL($K14,$AG$3,'休みの日'!$D$4,'休みの日'!$B$7:$B$56)/$O14)))) | U14: =IF(OR($B14="",$K14="",$M14=""),"",IF(N($Q14)>=1,"完了",IF($AG$3>$M14,"遅れ",IF($AG$3<$K14,IF(N($Q14)>0,"予定どおり","着手前"),IF($S14="","",IF(ROUND(N($Q14)*100,1)-ROUND($S14*100,1)<=-$AR$3,"遅れ",IF(N($Q14)<$S14,"やや遅れ","予定どおり"))))))) | X14: =IF(OR($K14="",$M14="",X$9=""),"",IF(AND($K14<=X$9+6,$M14>=X$9),IF(_xlfn.NETWORKDAYS.INTL(MAX($K14,X$9),MIN($M14,X$9+6),'休みの日'!$D$4,'休みの日'!$B$7:$B$56)=0,"・",IF(IF(X$9<=$K14,0,_xlfn.NETWORKDAYS.INTL($K14,X$9-1,'休みの日'!$D$4,'休みの日'!$B$7:$B$56))<ROUND(N($O14)*N($Q14),0),"■","□")),"")) | Y14: =IF(OR($K14="",$M14="",Y$9=""),"",IF(AND($K14<=Y$9+6,$M14>=Y$9),IF(_xlfn.NETWORKDAYS.INTL(MAX($K14,Y$9),MIN($M14,Y$9+6),'休みの日'!$D$4,'休みの日'!$B$7:$B$56)=0,"・",IF(IF(Y$9<=$K14,0,_xlfn.NETWORKDAYS.INTL($K14,Y$9-1,'休みの日'!$D$4,'休みの日'!$B$7:$B$56))<ROUND(N($O14)*N($Q14),0),"■","□")),"")) | Z14: =IF(OR($K14="",$M14="",Z$9=""),"",IF(AND($K14<=Z$9+6,$M14>=Z$9),IF(_xlfn.NETWORKDAYS.INTL(MAX($K14,Z$9),MIN($M14,Z$9+6),'休みの日'!$D$4,'休みの日'!$B$7:$B$56)=0,"・",IF(IF(Z$9<=$K14,0,_xlfn.NETWORKDAYS.INTL($K14,Z$9-1,'休みの日'!$D$4,'休みの日'!$B$7:$B$56))<ROUND(N($O14)*N($Q14),0),"■","□")),"")) | AA14: =IF(OR($K14="",$M14="",AA$9=""),"",IF(AND($K14<=AA$9+6,$M14>=AA$9),IF(_xlfn.NETWORKDAYS.INTL(MAX($K14,AA$9),MIN($M14,AA$9+6),'休みの日'!$D$4,'休みの日'!$B$7:$B$56)=0,"・",IF(IF(AA$9<=$K14,0,_xlfn.NETWORKDAYS.INTL($K14,AA$9-1,'休みの日'!$D$4,'休みの日'!$B$7:$B$56))<ROUND(N($O14)*N($Q14),0),"■","□")),"")) | AB14: =IF(OR($K14="",$M14="",AB$9=""),"",IF(AND($K14<=AB$9+6,$M14>=AB$9),IF(_xlfn.NETWORKDAYS.INTL(MAX($K14,AB$9),MIN($M14,AB$9+6),'休みの日'!$D$4,'休みの日'!$B$7:$B$56)=0,"・",IF(IF(AB$9<=$K14,0,_xlfn.NETWORKDAYS.INTL($K14,AB$9-1,'休みの日'!$D$4,'休みの日'!$B$7:$B$56))<ROUND(N($O14)*N($Q14),0),"■","□")),"")) | AC14: =IF(OR($K14="",$M14="",AC$9=""),"",IF(AND($K14<=AC$9+6,$M14>=AC$9),IF(_xlfn.NETWORKDAYS.INTL(MAX($K14,AC$9),MIN($M14,AC$9+6),'休みの日'!$D$4,'休みの日'!$B$7:$B$56)=0,"・",IF(IF(AC$9<=$K14,0,_xlfn.NETWORKDAYS.INTL($K14,AC$9-1,'休みの日'!$D$4,'休みの日'!$B$7:$B$56))<ROUND(N($O14)*N($Q14),0),"■","□")),"")) | AD14: =IF(OR($K14="",$M14="",AD$9=""),"",IF(AND($K14<=AD$9+6,$M14>=AD$9),IF(_xlfn.NETWORKDAYS.INTL(MAX($K14,AD$9),MIN($M14,AD$9+6),'休みの日'!$D$4,'休みの日'!$B$7:$B$56)=0,"・",IF(IF(AD$9<=$K14,0,_xlfn.NETWORKDAYS.INTL($K14,AD$9-1,'休みの日'!$D$4,'休みの日'!$B$7:$B$56))<ROUND(N($O14)*N($Q14),0),"■","□")),"")) | AE14: =IF(OR($K14="",$M14="",AE$9=""),"",IF(AND($K14<=AE$9+6,$M14>=AE$9),IF(_xlfn.NETWORKDAYS.INTL(MAX($K14,AE$9),MIN($M14,AE$9+6),'休みの日'!$D$4,'休みの日'!$B$7:$B$56)=0,"・",IF(IF(AE$9<=$K14,0,_xlfn.NETWORKDAYS.INTL($K14,AE$9-1,'休みの日'!$D$4,'休みの日'!$B$7:$B$56))<ROUND(N($O14)*N($Q14),0),"■","□")),"")) | ... AW14: =IF(OR($K14="",$M14="",AW$9=""),"",IF(AND($K14<=AW$9+6,$M14>=AW$9),IF(_xlfn.NETWORKDAYS.INTL(MAX($K14,AW$9),MIN($M14,AW$9+6),'休みの日'!$D$4,'休みの日'!$B$7:$B$56)=0,"・",IF(IF(AW$9<=$K14,0,_xlfn.NETWORKDAYS.INTL($K14,AW$9-1,'休みの日'!$D$4,'休みの日'!$B$7:$B$56))<ROUND(N($O14)*N($Q14),0),"■","□")),""))
