Workbook

Sheet 日報（1日1枚）
A1: 日報
A3: 日付 | G3: 氏名
A4: 所属 | G4: 勤務時間
A6: 1. 今日の結論
A10: 2. したこと
A11: 時間 | C11: したこと（相手・場所） | G11: 結果 | K11: 次の行動
A18: 3. 今日の数字（予定との差）
A19: 項目 | E19: 予定 | G19: 実績 | I19: 差 | K19: メモ
I20: =IF(COUNT(E20,G20)<2,"",G20-E20)
I21: =IF(COUNT(E21,G21)<2,"",G21-E21)
I22: =IF(COUNT(E22,G22)<2,"",G22-E22)
A23: 差＝実績−予定。色の付いた欄は数式で計算します。
A25: 4. 困っていること・相談
A29: 5. 明日の予定
A30: 時間 | C30: 予定 | J30: 相手・場所
A35: 上司から | K35: 確認

Sheet 業務日報
A1: 業務日報（1か月の記録） | M1: 年 月
A3: 氏名 | F3: 所属 | L3: 対象月
A4: 業務
A6: 日付 | B6: 曜日 | C6: 始業 | D6: 終業 | E6: 休憩 | F6: 時間 | G6: 件数 | H6: 主な業務 | K6: 問題 | L6: 問題の内容・気づき・相談
A7: =IF($N$3="","",DATE(YEAR($N$3),MONTH($N$3),1)) | B7: =IF(A7="","",MID("日月火水木金土",WEEKDAY(A7),1)) | F7: =IF(COUNT(C7,D7)<2,"",ROUND((MOD(D7-C7,1)-SUM(E7))*24,2))
A8: =IF(A7="","",IF(DAY(A7+1)=1,"",A7+1)) | B8: =IF(A8="","",MID("日月火水木金土",WEEKDAY(A8),1)) | F8: =IF(COUNT(C8,D8)<2,"",ROUND((MOD(D8-C8,1)-SUM(E8))*24,2))
A9: =IF(A8="","",IF(DAY(A8+1)=1,"",A8+1)) | B9: =IF(A9="","",MID("日月火水木金土",WEEKDAY(A9),1)) | F9: =IF(COUNT(C9,D9)<2,"",ROUND((MOD(D9-C9,1)-SUM(E9))*24,2))
A10: =IF(A9="","",IF(DAY(A9+1)=1,"",A9+1)) | B10: =IF(A10="","",MID("日月火水木金土",WEEKDAY(A10),1)) | F10: =IF(COUNT(C10,D10)<2,"",ROUND((MOD(D10-C10,1)-SUM(E10))*24,2))
A11: =IF(A10="","",IF(DAY(A10+1)=1,"",A10+1)) | B11: =IF(A11="","",MID("日月火水木金土",WEEKDAY(A11),1)) | F11: =IF(COUNT(C11,D11)<2,"",ROUND((MOD(D11-C11,1)-SUM(E11))*24,2))
A12: =IF(A11="","",IF(DAY(A11+1)=1,"",A11+1)) | B12: =IF(A12="","",MID("日月火水木金土",WEEKDAY(A12),1)) | F12: =IF(COUNT(C12,D12)<2,"",ROUND((MOD(D12-C12,1)-SUM(E12))*24,2))
A13: =IF(A12="","",IF(DAY(A12+1)=1,"",A12+1)) | B13: =IF(A13="","",MID("日月火水木金土",WEEKDAY(A13),1)) | F13: =IF(COUNT(C13,D13)<2,"",ROUND((MOD(D13-C13,1)-SUM(E13))*24,2))
A14: =IF(A13="","",IF(DAY(A13+1)=1,"",A13+1)) | B14: =IF(A14="","",MID("日月火水木金土",WEEKDAY(A14),1)) | F14: =IF(COUNT(C14,D14)<2,"",ROUND((MOD(D14-C14,1)-SUM(E14))*24,2))
A15: =IF(A14="","",IF(DAY(A14+1)=1,"",A14+1)) | B15: =IF(A15="","",MID("日月火水木金土",WEEKDAY(A15),1)) | F15: =IF(COUNT(C15,D15)<2,"",ROUND((MOD(D15-C15,1)-SUM(E15))*24,2))
A16: =IF(A15="","",IF(DAY(A15+1)=1,"",A15+1)) | B16: =IF(A16="","",MID("日月火水木金土",WEEKDAY(A16),1)) | F16: =IF(COUNT(C16,D16)<2,"",ROUND((MOD(D16-C16,1)-SUM(E16))*24,2))
A17: =IF(A16="","",IF(DAY(A16+1)=1,"",A16+1)) | B17: =IF(A17="","",MID("日月火水木金土",WEEKDAY(A17),1)) | F17: =IF(COUNT(C17,D17)<2,"",ROUND((MOD(D17-C17,1)-SUM(E17))*24,2))
A18: =IF(A17="","",IF(DAY(A17+1)=1,"",A17+1)) | B18: =IF(A18="","",MID("日月火水木金土",WEEKDAY(A18),1)) | F18: =IF(COUNT(C18,D18)<2,"",ROUND((MOD(D18-C18,1)-SUM(E18))*24,2))
A19: =IF(A18="","",IF(DAY(A18+1)=1,"",A18+1)) | B19: =IF(A19="","",MID("日月火水木金土",WEEKDAY(A19),1)) | F19: =IF(COUNT(C19,D19)<2,"",ROUND((MOD(D19-C19,1)-SUM(E19))*24,2))
... A37: =IF(A36="","",IF(DAY(A36+1)=1,"",A36+1)) | B37: =IF(A37="","",MID("日月火水木金土",WEEKDAY(A37),1)) | F37: =IF(COUNT(C37,D37)<2,"",ROUND((MOD(D37-C37,1)-SUM(E37))*24,2))
A38: 合計 | F38: =IF(COUNT(F7:F37)=0,"",SUM(F7:F37)) | G38: =IF(COUNT(G7:G37)=0,"",SUM(G7:G37)) | H38: 問題があった日 | K38: =IF(COUNT(F7:F37)=0,"",COUNTIF(K7:K37,"あり"))
A39: 対象月に月の1日（例：2026/10/1）を入れると、日付と曜日が入ります（月末で止まります）。始業・終業・休憩は「9:00」「1:00」の形で入れます。
A40: 時間＝終業−始業−休憩（日をまたぐ勤務も計算します）。件数＝その日に処理・対応した数（記入例は問い合わせの対応件数）。
A41: 問題は一覧（なし・あり）から選べます。色の付いた欄は数式で計算します。月の合計と週ごとの数字は「業務日報の集計」のシートに出ます。

Sheet 業務日報の集計
A1: 業務日報の集計（月）
A3: 氏名 | C3: =IF('業務日報'!$C$3="","",'業務日報'!$C$3) | G3: 対象月 | I3: =IF('業務日報'!$N$3="","",'業務日報'!$N$3)
A4: 期間 | C4: =IF(I3="","",DATE(YEAR(I3),MONTH(I3),1)) | E4: =IF(C4="","",DATE(YEAR(C4),MONTH(C4)+1,1)-1) | G4: 週は月曜はじまり。第1週は月の1日から数えます
A6: 1. 主な数字（今月・前月）
A7: 指標 | E7: 今月 | G7: 前月 | I7: 前月比 | K7: メモ
A8: 出勤した日数（日） | E8: =IF(COUNT('業務日報'!$F$7:$F$37)=0,"",COUNTIF('業務日報'!$F$7:$F$37,">0")) | I8: =IF(COUNT(E8,G8)<2,"",IF(G8<=0,"",E8/G8-1))
A9: 稼働時間の合計（時間） | E9: =IF(COUNT('業務日報'!$F$7:$F$37)=0,"",SUM('業務日報'!$F$7:$F$37)) | I9: =IF(COUNT(E9,G9)<2,"",IF(G9<=0,"",E9/G9-1))
A10: 件数の合計（件） | E10: =IF(COUNT('業務日報'!$G$7:$G$37)=0,"",SUM('業務日報'!$G$7:$G$37)) | I10: =IF(COUNT(E10,G10)<2,"",IF(G10<=0,"",E10/G10-1))
A11: 1日あたりの件数（件） | E11: =IF(COUNT(E8,E10)<2,"",IF(E8<=0,"",E10/E8)) | I11: =IF(COUNT(E11,G11)<2,"",IF(G11<=0,"",E11/G11-1))
A12: 1時間あたりの件数（件） | E12: =IF(COUNT(E9,E10)<2,"",IF(E9<=0,"",E10/E9)) | I12: =IF(COUNT(E12,G12)<2,"",IF(G12<=0,"",E12/G12-1))
A13: 問題があった日（日） | E13: =IF(COUNT('業務日報'!$F$7:$F$37)=0,"",COUNTIF('業務日報'!$K$7:$K$37,"あり")) | I13: =IF(COUNT(E13,G13)<2,"",IF(G13<=0,"",E13/G13-1))
A14: 前月の欄には、先月のファイルのこのシートの「今月」の数字を写します。前月比＝今月÷前月−1。
A15: この表の今月・前月は、月報（業務報告書の月次）の主な数字の表に、そのまま写せます。
A17: 2. 週ごとの記録
A18: 週 | B18: 初日 | C18: 最終日 | D18: 出勤した日数 | F18: 時間 | H18: 件数 | J18: 1時間あたりの件数
A19: 第1週 | B19: =IF($C$4="","",$C$4) | C19: =IF(B19="","",MIN($E$4,($C$4-MOD(WEEKDAY($C$4)+5,7))+6)) | D19: =IF(B19="","",COUNTIFS('業務日報'!$F$7:$F$37,">0",'業務日報'!$A$7:$A$37,">="&B19,'業務日報'!$A$7:$A$37,"<="&C19)) | F19: =IF(B19="","",SUMIFS('業務日報'!$F$7:$F$37,'業務日報'!$A$7:$A$37,">="&B19,'業務日報'!$A$7:$A$37,"<="&C19)) | H19: =IF(B19="","",SUMIFS('業務日報'!$G$7:$G$37,'業務日報'!$A$7:$A$37,">="&B19,'業務日報'!$A$7:$A$37,"<="&C19)) | J19: =IF(COUNT(F19,H19)<2,"",IF(F19<=0,"",H19/F19))
A20: 第2週 | B20: =IF($C$4="","",IF(($C$4-MOD(WEEKDAY($C$4)+5,7))+7>$E$4,"",($C$4-MOD(WEEKDAY($C$4)+5,7))+7)) | C20: =IF(B20="","",MIN($E$4,($C$4-MOD(WEEKDAY($C$4)+5,7))+13)) | D20: =IF(B20="","",COUNTIFS('業務日報'!$F$7:$F$37,">0",'業務日報'!$A$7:$A$37,">="&B20,'業務日報'!$A$7:$A$37,"<="&C20)) | F20: =IF(B20="","",SUMIFS('業務日報'!$F$7:$F$37,'業務日報'!$A$7:$A$37,">="&B20,'業務日報'!$A$7:$A$37,"<="&C20)) | H20: =IF(B20="","",SUMIFS('業務日報'!$G$7:$G$37,'業務日報'!$A$7:$A$37,">="&B20,'業務日報'!$A$7:$A$37,"<="&C20)) | J20: =IF(COUNT(F20,H20)<2,"",IF(F20<=0,"",H20/F20))
A21: 第3週 | B21: =IF($C$4="","",IF(($C$4-MOD(WEEKDAY($C$4)+5,7))+14>$E$4,"",($C$4-MOD(WEEKDAY($C$4)+5,7))+14)) | C21: =IF(B21="","",MIN($E$4,($C$4-MOD(WEEKDAY($C$4)+5,7))+20)) | D21: =IF(B21="","",COUNTIFS('業務日報'!$F$7:$F$37,">0",'業務日報'!$A$7:$A$37,">="&B21,'業務日報'!$A$7:$A$37,"<="&C21)) | F21: =IF(B21="","",SUMIFS('業務日報'!$F$7:$F$37,'業務日報'!$A$7:$A$37,">="&B21,'業務日報'!$A$7:$A$37,"<="&C21)) | H21: =IF(B21="","",SUMIFS('業務日報'!$G$7:$G$37,'業務日報'!$A$7:$A$37,">="&B21,'業務日報'!$A$7:$A$37,"<="&C21)) | J21: =IF(COUNT(F21,H21)<2,"",IF(F21<=0,"",H21/F21))
A22: 第4週 | B22: =IF($C$4="","",IF(($C$4-MOD(WEEKDAY($C$4)+5,7))+21>$E$4,"",($C$4-MOD(WEEKDAY($C$4)+5,7))+21)) | C22: =IF(B22="","",MIN($E$4,($C$4-MOD(WEEKDAY($C$4)+5,7))+27)) | D22: =IF(B22="","",COUNTIFS('業務日報'!$F$7:$F$37,">0",'業務日報'!$A$7:$A$37,">="&B22,'業務日報'!$A$7:$A$37,"<="&C22)) | F22: =IF(B22="","",SUMIFS('業務日報'!$F$7:$F$37,'業務日報'!$A$7:$A$37,">="&B22,'業務日報'!$A$7:$A$37,"<="&C22)) | H22: =IF(B22="","",SUMIFS('業務日報'!$G$7:$G$37,'業務日報'!$A$7:$A$37,">="&B22,'業務日報'!$A$7:$A$37,"<="&C22)) | J22: =IF(COUNT(F22,H22)<2,"",IF(F22<=0,"",H22/F22))
A23: 第5週 | B23: =IF($C$4="","",IF(($C$4-MOD(WEEKDAY($C$4)+5,7))+28>$E$4,"",($C$4-MOD(WEEKDAY($C$4)+5,7))+28)) | C23: =IF(B23="","",MIN($E$4,($C$4-MOD(WEEKDAY($C$4)+5,7))+34)) | D23: =IF(B23="","",COUNTIFS('業務日報'!$F$7:$F$37,">0",'業務日報'!$A$7:$A$37,">="&B23,'業務日報'!$A$7:$A$37,"<="&C23)) | F23: =IF(B23="","",SUMIFS('業務日報'!$F$7:$F$37,'業務日報'!$A$7:$A$37,">="&B23,'業務日報'!$A$7:$A$37,"<="&C23)) | H23: =IF(B23="","",SUMIFS('業務日報'!$G$7:$G$37,'業務日報'!$A$7:$A$37,">="&B23,'業務日報'!$A$7:$A$37,"<="&C23)) | J23: =IF(COUNT(F23,H23)<2,"",IF(F23<=0,"",H23/F23))
A24: 第6週 | B24: =IF($C$4="","",IF(($C$4-MOD(WEEKDAY($C$4)+5,7))+35>$E$4,"",($C$4-MOD(WEEKDAY($C$4)+5,7))+35)) | C24: =IF(B24="","",MIN($E$4,($C$4-MOD(WEEKDAY($C$4)+5,7))+41)) | D24: =IF(B24="","",COUNTIFS('業務日報'!$F$7:$F$37,">0",'業務日報'!$A$7:$A$37,">="&B24,'業務日報'!$A$7:$A$37,"<="&C24)) | F24: =IF(B24="","",SUMIFS('業務日報'!$F$7:$F$37,'業務日報'!$A$7:$A$37,">="&B24,'業務日報'!$A$7:$A$37,"<="&C24)) | H24: =IF(B24="","",SUMIFS('業務日報'!$G$7:$G$37,'業務日報'!$A$7:$A$37,">="&B24,'業務日報'!$A$7:$A$37,"<="&C24)) | J24: =IF(COUNT(F24,H24)<2,"",IF(F24<=0,"",H24/F24))
A25: 合計 | D25: =IF(COUNT(D19:D24)=0,"",SUM(D19:D24)) | F25: =IF(COUNT(F19:F24)=0,"",SUM(F19:F24)) | H25: =IF(COUNT(H19:H24)=0,"",SUM(H19:H24)) | J25: =IF(COUNT(F25,H25)<2,"",IF(F25<=0,"",H25/F25))
A27: 3. 今月のまとめ（月報の結論の下書き）

Sheet 営業日報
A1: 営業日報（1か月の記録） | M1: 年 月
A3: 氏名 | F3: 所属 | L3: 対象月
A4: 担当
A6: 日付 | B6: 曜日 | C6: 訪問 | D6: 新規の 商談 | E6: 電話・ メール | F6: 見積り （件） | G6: 見積り （万円） | H6: 受注 （件） | I6: 受注 （万円） | J6: 主な訪問先と結果 | N6: 明日の予定・相談
A7: =IF($N$3="","",DATE(YEAR($N$3),MONTH($N$3),1)) | B7: =IF(A7="","",MID("日月火水木金土",WEEKDAY(A7),1))
A8: =IF(A7="","",IF(DAY(A7+1)=1,"",A7+1)) | B8: =IF(A8="","",MID("日月火水木金土",WEEKDAY(A8),1))
A9: =IF(A8="","",IF(DAY(A8+1)=1,"",A8+1)) | B9: =IF(A9="","",MID("日月火水木金土",WEEKDAY(A9),1))
A10: =IF(A9="","",IF(DAY(A9+1)=1,"",A9+1)) | B10: =IF(A10="","",MID("日月火水木金土",WEEKDAY(A10),1))
A11: =IF(A10="","",IF(DAY(A10+1)=1,"",A10+1)) | B11: =IF(A11="","",MID("日月火水木金土",WEEKDAY(A11),1))
A12: =IF(A11="","",IF(DAY(A11+1)=1,"",A11+1)) | B12: =IF(A12="","",MID("日月火水木金土",WEEKDAY(A12),1))
A13: =IF(A12="","",IF(DAY(A12+1)=1,"",A12+1)) | B13: =IF(A13="","",MID("日月火水木金土",WEEKDAY(A13),1))
A14: =IF(A13="","",IF(DAY(A13+1)=1,"",A13+1)) | B14: =IF(A14="","",MID("日月火水木金土",WEEKDAY(A14),1))
A15: =IF(A14="","",IF(DAY(A14+1)=1,"",A14+1)) | B15: =IF(A15="","",MID("日月火水木金土",WEEKDAY(A15),1))
A16: =IF(A15="","",IF(DAY(A15+1)=1,"",A15+1)) | B16: =IF(A16="","",MID("日月火水木金土",WEEKDAY(A16),1))
A17: =IF(A16="","",IF(DAY(A16+1)=1,"",A16+1)) | B17: =IF(A17="","",MID("日月火水木金土",WEEKDAY(A17),1))
A18: =IF(A17="","",IF(DAY(A17+1)=1,"",A17+1)) | B18: =IF(A18="","",MID("日月火水木金土",WEEKDAY(A18),1))
A19: =IF(A18="","",IF(DAY(A18+1)=1,"",A18+1)) | B19: =IF(A19="","",MID("日月火水木金土",WEEKDAY(A19),1))
... A37: =IF(A36="","",IF(DAY(A36+1)=1,"",A36+1)) | B37: =IF(A37="","",MID("日月火水木金土",WEEKDAY(A37),1))
A38: 合計 | C38: =IF(COUNT(C7:C37)=0,"",SUM(C7:C37)) | D38: =IF(COUNT(D7:D37)=0,"",SUM(D7:D37)) | E38: =IF(COUNT(E7:E37)=0,"",SUM(E7:E37)) | F38: =IF(COUNT(F7:F37)=0,"",SUM(F7:F37)) | G38: =IF(COUNT(G7:G37)=0,"",SUM(G7:G37)) | H38: =IF(COUNT(H7:H37)=0,"",SUM(H7:H37)) | I38: =IF(COUNT(I7:I37)=0,"",SUM(I7:I37))
A39: 対象月に月の1日（例：2026/10/1）を入れると、日付と曜日が入ります（月末で止まります）。数字の欄には数字だけを入れ、0の日は0と入れます。
A40: 新規の商談＝初めてのお客様との商談（訪問・オンライン）。見積り・受注の金額は万円で入れます。色の付いた欄は数式で計算します。
A41: 月の合計・目標との比較・週ごとの数字は「営業日報の集計」のシートに出ます。

Sheet 営業日報の集計
A1: 営業日報の集計（月）
A3: 氏名 | C3: =IF('営業日報'!$C$3="","",'営業日報'!$C$3) | G3: 対象月 | I3: =IF('営業日報'!$N$3="","",'営業日報'!$N$3)
A4: 期間 | C4: =IF(I3="","",DATE(YEAR(I3),MONTH(I3),1)) | E4: =IF(C4="","",DATE(YEAR(C4),MONTH(C4)+1,1)-1) | G4: 週は月曜はじまり。第1週は月の1日から数えます
A6: 1. 主な数字（今月・目標・前月）
A7: 指標 | D7: 今月 | F7: 目標 | H7: 達成率 | I7: 前月 | K7: 前月比
A8: 日報を書いた日（日） | D8: =IF(COUNT('営業日報'!$C$7:$C$37)=0,"",COUNT('営業日報'!$C$7:$C$37)) | H8: =IF(COUNT(D8,F8)<2,"",IF(F8<=0,"",D8/F8)) | K8: =IF(COUNT(D8,I8)<2,"",IF(I8<=0,"",D8/I8-1))
A9: 訪問（件） | D9: =IF(COUNT('営業日報'!$C$7:$C$37)=0,"",SUM('営業日報'!$C$7:$C$37)) | H9: =IF(COUNT(D9,F9)<2,"",IF(F9<=0,"",D9/F9)) | K9: =IF(COUNT(D9,I9)<2,"",IF(I9<=0,"",D9/I9-1))
A10: 新規の商談（件） | D10: =IF(COUNT('営業日報'!$D$7:$D$37)=0,"",SUM('営業日報'!$D$7:$D$37)) | H10: =IF(COUNT(D10,F10)<2,"",IF(F10<=0,"",D10/F10)) | K10: =IF(COUNT(D10,I10)<2,"",IF(I10<=0,"",D10/I10-1))
A11: 電話・メール（件） | D11: =IF(COUNT('営業日報'!$E$7:$E$37)=0,"",SUM('営業日報'!$E$7:$E$37)) | H11: =IF(COUNT(D11,F11)<2,"",IF(F11<=0,"",D11/F11)) | K11: =IF(COUNT(D11,I11)<2,"",IF(I11<=0,"",D11/I11-1))
A12: 見積りの提出（件） | D12: =IF(COUNT('営業日報'!$F$7:$F$37)=0,"",SUM('営業日報'!$F$7:$F$37)) | H12: =IF(COUNT(D12,F12)<2,"",IF(F12<=0,"",D12/F12)) | K12: =IF(COUNT(D12,I12)<2,"",IF(I12<=0,"",D12/I12-1))
A13: 見積りの金額（万円） | D13: =IF(COUNT('営業日報'!$G$7:$G$37)=0,"",SUM('営業日報'!$G$7:$G$37)) | H13: =IF(COUNT(D13,F13)<2,"",IF(F13<=0,"",D13/F13)) | K13: =IF(COUNT(D13,I13)<2,"",IF(I13<=0,"",D13/I13-1))
A14: 受注（件） | D14: =IF(COUNT('営業日報'!$H$7:$H$37)=0,"",SUM('営業日報'!$H$7:$H$37)) | H14: =IF(COUNT(D14,F14)<2,"",IF(F14<=0,"",D14/F14)) | K14: =IF(COUNT(D14,I14)<2,"",IF(I14<=0,"",D14/I14-1))
A15: 受注の金額（万円） | D15: =IF(COUNT('営業日報'!$I$7:$I$37)=0,"",SUM('営業日報'!$I$7:$I$37)) | H15: =IF(COUNT(D15,F15)<2,"",IF(F15<=0,"",D15/F15)) | K15: =IF(COUNT(D15,I15)<2,"",IF(I15<=0,"",D15/I15-1))
A16: 1日あたりの訪問（件） | D16: =IF(COUNT(D8,D9)<2,"",IF(D8<=0,"",D9/D8)) | H16: =IF(COUNT(D16,F16)<2,"",IF(F16<=0,"",D16/F16)) | K16: =IF(COUNT(D16,I16)<2,"",IF(I16<=0,"",D16/I16-1))
A17: 目標は、目標のある指標だけ入れます。達成率＝今月÷目標。前月比＝今月÷前月−1。前月の欄には、先月のファイルの「今月」を写します。
A19: 2. 週ごとの記録
A20: 週 | B20: 初日 | C20: 最終日 | D20: 訪問 | F20: 新規の商談 | H20: 見積り（件） | J20: 受注（万円）
A21: 第1週 | B21: =IF($C$4="","",$C$4) | C21: =IF(B21="","",MIN($E$4,($C$4-MOD(WEEKDAY($C$4)+5,7))+6)) | D21: =IF(B21="","",SUMIFS('営業日報'!$C$7:$C$37,'営業日報'!$A$7:$A$37,">="&B21,'営業日報'!$A$7:$A$37,"<="&C21)) | F21: =IF(B21="","",SUMIFS('営業日報'!$D$7:$D$37,'営業日報'!$A$7:$A$37,">="&B21,'営業日報'!$A$7:$A$37,"<="&C21)) | H21: =IF(B21="","",SUMIFS('営業日報'!$F$7:$F$37,'営業日報'!$A$7:$A$37,">="&B21,'営業日報'!$A$7:$A$37,"<="&C21)) | J21: =IF(B21="","",SUMIFS('営業日報'!$I$7:$I$37,'営業日報'!$A$7:$A$37,">="&B21,'営業日報'!$A$7:$A$37,"<="&C21))
A22: 第2週 | B22: =IF($C$4="","",IF(($C$4-MOD(WEEKDAY($C$4)+5,7))+7>$E$4,"",($C$4-MOD(WEEKDAY($C$4)+5,7))+7)) | C22: =IF(B22="","",MIN($E$4,($C$4-MOD(WEEKDAY($C$4)+5,7))+13)) | D22: =IF(B22="","",SUMIFS('営業日報'!$C$7:$C$37,'営業日報'!$A$7:$A$37,">="&B22,'営業日報'!$A$7:$A$37,"<="&C22)) | F22: =IF(B22="","",SUMIFS('営業日報'!$D$7:$D$37,'営業日報'!$A$7:$A$37,">="&B22,'営業日報'!$A$7:$A$37,"<="&C22)) | H22: =IF(B22="","",SUMIFS('営業日報'!$F$7:$F$37,'営業日報'!$A$7:$A$37,">="&B22,'営業日報'!$A$7:$A$37,"<="&C22)) | J22: =IF(B22="","",SUMIFS('営業日報'!$I$7:$I$37,'営業日報'!$A$7:$A$37,">="&B22,'営業日報'!$A$7:$A$37,"<="&C22))
A23: 第3週 | B23: =IF($C$4="","",IF(($C$4-MOD(WEEKDAY($C$4)+5,7))+14>$E$4,"",($C$4-MOD(WEEKDAY($C$4)+5,7))+14)) | C23: =IF(B23="","",MIN($E$4,($C$4-MOD(WEEKDAY($C$4)+5,7))+20)) | D23: =IF(B23="","",SUMIFS('営業日報'!$C$7:$C$37,'営業日報'!$A$7:$A$37,">="&B23,'営業日報'!$A$7:$A$37,"<="&C23)) | F23: =IF(B23="","",SUMIFS('営業日報'!$D$7:$D$37,'営業日報'!$A$7:$A$37,">="&B23,'営業日報'!$A$7:$A$37,"<="&C23)) | H23: =IF(B23="","",SUMIFS('営業日報'!$F$7:$F$37,'営業日報'!$A$7:$A$37,">="&B23,'営業日報'!$A$7:$A$37,"<="&C23)) | J23: =IF(B23="","",SUMIFS('営業日報'!$I$7:$I$37,'営業日報'!$A$7:$A$37,">="&B23,'営業日報'!$A$7:$A$37,"<="&C23))
A24: 第4週 | B24: =IF($C$4="","",IF(($C$4-MOD(WEEKDAY($C$4)+5,7))+21>$E$4,"",($C$4-MOD(WEEKDAY($C$4)+5,7))+21)) | C24: =IF(B24="","",MIN($E$4,($C$4-MOD(WEEKDAY($C$4)+5,7))+27)) | D24: =IF(B24="","",SUMIFS('営業日報'!$C$7:$C$37,'営業日報'!$A$7:$A$37,">="&B24,'営業日報'!$A$7:$A$37,"<="&C24)) | F24: =IF(B24="","",SUMIFS('営業日報'!$D$7:$D$37,'営業日報'!$A$7:$A$37,">="&B24,'営業日報'!$A$7:$A$37,"<="&C24)) | H24: =IF(B24="","",SUMIFS('営業日報'!$F$7:$F$37,'営業日報'!$A$7:$A$37,">="&B24,'営業日報'!$A$7:$A$37,"<="&C24)) | J24: =IF(B24="","",SUMIFS('営業日報'!$I$7:$I$37,'営業日報'!$A$7:$A$37,">="&B24,'営業日報'!$A$7:$A$37,"<="&C24))
A25: 第5週 | B25: =IF($C$4="","",IF(($C$4-MOD(WEEKDAY($C$4)+5,7))+28>$E$4,"",($C$4-MOD(WEEKDAY($C$4)+5,7))+28)) | C25: =IF(B25="","",MIN($E$4,($C$4-MOD(WEEKDAY($C$4)+5,7))+34)) | D25: =IF(B25="","",SUMIFS('営業日報'!$C$7:$C$37,'営業日報'!$A$7:$A$37,">="&B25,'営業日報'!$A$7:$A$37,"<="&C25)) | F25: =IF(B25="","",SUMIFS('営業日報'!$D$7:$D$37,'営業日報'!$A$7:$A$37,">="&B25,'営業日報'!$A$7:$A$37,"<="&C25)) | H25: =IF(B25="","",SUMIFS('営業日報'!$F$7:$F$37,'営業日報'!$A$7:$A$37,">="&B25,'営業日報'!$A$7:$A$37,"<="&C25)) | J25: =IF(B25="","",SUMIFS('営業日報'!$I$7:$I$37,'営業日報'!$A$7:$A$37,">="&B25,'営業日報'!$A$7:$A$37,"<="&C25))
A26: 第6週 | B26: =IF($C$4="","",IF(($C$4-MOD(WEEKDAY($C$4)+5,7))+35>$E$4,"",($C$4-MOD(WEEKDAY($C$4)+5,7))+35)) | C26: =IF(B26="","",MIN($E$4,($C$4-MOD(WEEKDAY($C$4)+5,7))+41)) | D26: =IF(B26="","",SUMIFS('営業日報'!$C$7:$C$37,'営業日報'!$A$7:$A$37,">="&B26,'営業日報'!$A$7:$A$37,"<="&C26)) | F26: =IF(B26="","",SUMIFS('営業日報'!$D$7:$D$37,'営業日報'!$A$7:$A$37,">="&B26,'営業日報'!$A$7:$A$37,"<="&C26)) | H26: =IF(B26="","",SUMIFS('営業日報'!$F$7:$F$37,'営業日報'!$A$7:$A$37,">="&B26,'営業日報'!$A$7:$A$37,"<="&C26)) | J26: =IF(B26="","",SUMIFS('営業日報'!$I$7:$I$37,'営業日報'!$A$7:$A$37,">="&B26,'営業日報'!$A$7:$A$37,"<="&C26))
A27: 合計 | D27: =IF(COUNT(D21:D26)=0,"",SUM(D21:D26)) | F27: =IF(COUNT(F21:F26)=0,"",SUM(F21:F26)) | H27: =IF(COUNT(H21:H26)=0,"",SUM(H21:H26)) | J27: =IF(COUNT(J21:J26)=0,"",SUM(J21:J26))
A29: 3. 今月のまとめ（月報の結論の下書き）

Sheet 作業日報
A1: 作業日報（1か月の記録） | R1: 年 月
A3: 氏名 | G3: 所属 | O3: 対象月
A5: 日付 | B5: 曜日 | C5: 現場 | F5: 作業の内容 | K5: 区分 | L5: 開始 | M5: 終了 | N5: 休憩 | O5: 時間 | P5: 人数 | Q5: 延べ 時間 | R5: 状況 | S5: メモ
B6: =IF(A6="","",MID("日月火水木金土",WEEKDAY(A6),1)) | O6: =IF(COUNT(L6,M6)<2,"",ROUND((MOD(M6-L6,1)-SUM(N6))*24,2)) | Q6: =IF(COUNT(O6,P6)<2,"",O6*P6)
B7: =IF(A7="","",MID("日月火水木金土",WEEKDAY(A7),1)) | O7: =IF(COUNT(L7,M7)<2,"",ROUND((MOD(M7-L7,1)-SUM(N7))*24,2)) | Q7: =IF(COUNT(O7,P7)<2,"",O7*P7)
B8: =IF(A8="","",MID("日月火水木金土",WEEKDAY(A8),1)) | O8: =IF(COUNT(L8,M8)<2,"",ROUND((MOD(M8-L8,1)-SUM(N8))*24,2)) | Q8: =IF(COUNT(O8,P8)<2,"",O8*P8)
B9: =IF(A9="","",MID("日月火水木金土",WEEKDAY(A9),1)) | O9: =IF(COUNT(L9,M9)<2,"",ROUND((MOD(M9-L9,1)-SUM(N9))*24,2)) | Q9: =IF(COUNT(O9,P9)<2,"",O9*P9)
B10: =IF(A10="","",MID("日月火水木金土",WEEKDAY(A10),1)) | O10: =IF(COUNT(L10,M10)<2,"",ROUND((MOD(M10-L10,1)-SUM(N10))*24,2)) | Q10: =IF(COUNT(O10,P10)<2,"",O10*P10)
B11: =IF(A11="","",MID("日月火水木金土",WEEKDAY(A11),1)) | O11: =IF(COUNT(L11,M11)<2,"",ROUND((MOD(M11-L11,1)-SUM(N11))*24,2)) | Q11: =IF(COUNT(O11,P11)<2,"",O11*P11)
B12: =IF(A12="","",MID("日月火水木金土",WEEKDAY(A12),1)) | O12: =IF(COUNT(L12,M12)<2,"",ROUND((MOD(M12-L12,1)-SUM(N12))*24,2)) | Q12: =IF(COUNT(O12,P12)<2,"",O12*P12)
B13: =IF(A13="","",MID("日月火水木金土",WEEKDAY(A13),1)) | O13: =IF(COUNT(L13,M13)<2,"",ROUND((MOD(M13-L13,1)-SUM(N13))*24,2)) | Q13: =IF(COUNT(O13,P13)<2,"",O13*P13)
B14: =IF(A14="","",MID("日月火水木金土",WEEKDAY(A14),1)) | O14: =IF(COUNT(L14,M14)<2,"",ROUND((MOD(M14-L14,1)-SUM(N14))*24,2)) | Q14: =IF(COUNT(O14,P14)<2,"",O14*P14)
B15: =IF(A15="","",MID("日月火水木金土",WEEKDAY(A15),1)) | O15: =IF(COUNT(L15,M15)<2,"",ROUND((MOD(M15-L15,1)-SUM(N15))*24,2)) | Q15: =IF(COUNT(O15,P15)<2,"",O15*P15)
B16: =IF(A16="","",MID("日月火水木金土",WEEKDAY(A16),1)) | O16: =IF(COUNT(L16,M16)<2,"",ROUND((MOD(M16-L16,1)-SUM(N16))*24,2)) | Q16: =IF(COUNT(O16,P16)<2,"",O16*P16)
B17: =IF(A17="","",MID("日月火水木金土",WEEKDAY(A17),1)) | O17: =IF(COUNT(L17,M17)<2,"",ROUND((MOD(M17-L17,1)-SUM(N17))*24,2)) | Q17: =IF(COUNT(O17,P17)<2,"",O17*P17)
... B55: =IF(A55="","",MID("日月火水木金土",WEEKDAY(A55),1)) | O55: =IF(COUNT(L55,M55)<2,"",ROUND((MOD(M55-L55,1)-SUM(N55))*24,2)) | Q55: =IF(COUNT(O55,P55)<2,"",O55*P55)
A56: 合計 | O56: =IF(COUNT(O6:O55)=0,"",SUM(O6:O55)) | Q56: =IF(COUNT(Q6:Q55)=0,"",SUM(Q6:Q55))
A57: 1件の作業を1行に書きます（1日に3件なら3行）。日付は「10/22」の形で入れます。開始・終了・休憩は「9:00」「1:00」の形で入れます。
A58: 時間＝終了−開始−休憩、延べ時間＝時間×人数。区分は一覧（点検・修理・交換・清掃・保守・その他）、状況は一覧（完了・未完了）から選べます。
A59: 色の付いた欄は数式で計算します。行が足りないときは、表の途中の行を選んで「挿入」で足すと、集計の範囲も広がります。集計は「作業日報の集計」のシートに出ます。

Sheet 作業日報の集計
A1: 作業日報の集計（月）
A3: 氏名 | C3: =IF('作業日報'!$C$3="","",'作業日報'!$C$3) | G3: 対象月 | I3: =IF('作業日報'!$Q$3="","",'作業日報'!$Q$3)
A4: 期間 | C4: =IF(I3="","",DATE(YEAR(I3),MONTH(I3),1)) | E4: =IF(C4="","",DATE(YEAR(C4),MONTH(C4)+1,1)-1) | G4: 週は月曜はじまり。第1週は月の1日から数えます
A6: 1. 主な数字（今月・前月）
A7: 指標 | E7: 今月 | G7: 前月 | I7: 前月比 | K7: メモ
A8: 作業の件数（件） | E8: =IF($C$4="","",COUNTIFS('作業日報'!$A$6:$A$55,">="&$C$4,'作業日報'!$A$6:$A$55,"<="&$E$4)) | I8: =IF(COUNT(E8,G8)<2,"",IF(G8<=0,"",E8/G8-1))
A9: 作業時間の合計（時間） | E9: =IF($C$4="","",SUMIFS('作業日報'!$O$6:$O$55,'作業日報'!$A$6:$A$55,">="&$C$4,'作業日報'!$A$6:$A$55,"<="&$E$4)) | I9: =IF(COUNT(E9,G9)<2,"",IF(G9<=0,"",E9/G9-1))
A10: 延べ時間の合計（時間） | E10: =IF($C$4="","",SUMIFS('作業日報'!$Q$6:$Q$55,'作業日報'!$A$6:$A$55,">="&$C$4,'作業日報'!$A$6:$A$55,"<="&$E$4)) | I10: =IF(COUNT(E10,G10)<2,"",IF(G10<=0,"",E10/G10-1))
A11: 1件あたりの作業時間（時間） | E11: =IF(COUNT(E8,E9)<2,"",IF(E8<=0,"",E9/E8)) | I11: =IF(COUNT(E11,G11)<2,"",IF(G11<=0,"",E11/G11-1))
A12: 未完了の作業（件） | E12: =IF($C$4="","",COUNTIFS('作業日報'!$R$6:$R$55,"未完了",'作業日報'!$A$6:$A$55,">="&$C$4,'作業日報'!$A$6:$A$55,"<="&$E$4)) | I12: =IF(COUNT(E12,G12)<2,"",IF(G12<=0,"",E12/G12-1))
A13: 延べ時間＝時間×人数（2人で3時間なら6時間）。前月の欄には、先月のファイルの「今月」を写します。前月比＝今月÷前月−1。
A15: 2. 区分ごと
A16: 区分 | D16: 件数 | F16: 作業時間 | H16: 延べ時間 | J16: 延べ時間の割合
A17: 点検 | D17: =IF(OR(A17="",$C$4=""),"",COUNTIFS('作業日報'!$K$6:$K$55,A17&"",'作業日報'!$A$6:$A$55,">="&$C$4,'作業日報'!$A$6:$A$55,"<="&$E$4)) | F17: =IF(OR(A17="",$C$4=""),"",SUMIFS('作業日報'!$O$6:$O$55,'作業日報'!$K$6:$K$55,A17&"",'作業日報'!$A$6:$A$55,">="&$C$4,'作業日報'!$A$6:$A$55,"<="&$E$4)) | H17: =IF(OR(A17="",$C$4=""),"",SUMIFS('作業日報'!$Q$6:$Q$55,'作業日報'!$K$6:$K$55,A17&"",'作業日報'!$A$6:$A$55,">="&$C$4,'作業日報'!$A$6:$A$55,"<="&$E$4)) | J17: =IF(COUNT(H17,E10)<2,"",IF(E10<=0,"",H17/E10))
A18: 修理 | D18: =IF(OR(A18="",$C$4=""),"",COUNTIFS('作業日報'!$K$6:$K$55,A18&"",'作業日報'!$A$6:$A$55,">="&$C$4,'作業日報'!$A$6:$A$55,"<="&$E$4)) | F18: =IF(OR(A18="",$C$4=""),"",SUMIFS('作業日報'!$O$6:$O$55,'作業日報'!$K$6:$K$55,A18&"",'作業日報'!$A$6:$A$55,">="&$C$4,'作業日報'!$A$6:$A$55,"<="&$E$4)) | H18: =IF(OR(A18="",$C$4=""),"",SUMIFS('作業日報'!$Q$6:$Q$55,'作業日報'!$K$6:$K$55,A18&"",'作業日報'!$A$6:$A$55,">="&$C$4,'作業日報'!$A$6:$A$55,"<="&$E$4)) | J18: =IF(COUNT(H18,E10)<2,"",IF(E10<=0,"",H18/E10))
A19: 交換 | D19: =IF(OR(A19="",$C$4=""),"",COUNTIFS('作業日報'!$K$6:$K$55,A19&"",'作業日報'!$A$6:$A$55,">="&$C$4,'作業日報'!$A$6:$A$55,"<="&$E$4)) | F19: =IF(OR(A19="",$C$4=""),"",SUMIFS('作業日報'!$O$6:$O$55,'作業日報'!$K$6:$K$55,A19&"",'作業日報'!$A$6:$A$55,">="&$C$4,'作業日報'!$A$6:$A$55,"<="&$E$4)) | H19: =IF(OR(A19="",$C$4=""),"",SUMIFS('作業日報'!$Q$6:$Q$55,'作業日報'!$K$6:$K$55,A19&"",'作業日報'!$A$6:$A$55,">="&$C$4,'作業日報'!$A$6:$A$55,"<="&$E$4)) | J19: =IF(COUNT(H19,E10)<2,"",IF(E10<=0,"",H19/E10))
A20: 清掃 | D20: =IF(OR(A20="",$C$4=""),"",COUNTIFS('作業日報'!$K$6:$K$55,A20&"",'作業日報'!$A$6:$A$55,">="&$C$4,'作業日報'!$A$6:$A$55,"<="&$E$4)) | F20: =IF(OR(A20="",$C$4=""),"",SUMIFS('作業日報'!$O$6:$O$55,'作業日報'!$K$6:$K$55,A20&"",'作業日報'!$A$6:$A$55,">="&$C$4,'作業日報'!$A$6:$A$55,"<="&$E$4)) | H20: =IF(OR(A20="",$C$4=""),"",SUMIFS('作業日報'!$Q$6:$Q$55,'作業日報'!$K$6:$K$55,A20&"",'作業日報'!$A$6:$A$55,">="&$C$4,'作業日報'!$A$6:$A$55,"<="&$E$4)) | J20: =IF(COUNT(H20,E10)<2,"",IF(E10<=0,"",H20/E10))
A21: 保守 | D21: =IF(OR(A21="",$C$4=""),"",COUNTIFS('作業日報'!$K$6:$K$55,A21&"",'作業日報'!$A$6:$A$55,">="&$C$4,'作業日報'!$A$6:$A$55,"<="&$E$4)) | F21: =IF(OR(A21="",$C$4=""),"",SUMIFS('作業日報'!$O$6:$O$55,'作業日報'!$K$6:$K$55,A21&"",'作業日報'!$A$6:$A$55,">="&$C$4,'作業日報'!$A$6:$A$55,"<="&$E$4)) | H21: =IF(OR(A21="",$C$4=""),"",SUMIFS('作業日報'!$Q$6:$Q$55,'作業日報'!$K$6:$K$55,A21&"",'作業日報'!$A$6:$A$55,">="&$C$4,'作業日報'!$A$6:$A$55,"<="&$E$4)) | J21: =IF(COUNT(H21,E10)<2,"",IF(E10<=0,"",H21/E10))
A22: その他 | D22: =IF(OR(A22="",$C$4=""),"",COUNTIFS('作業日報'!$K$6:$K$55,A22&"",'作業日報'!$A$6:$A$55,">="&$C$4,'作業日報'!$A$6:$A$55,"<="&$E$4)) | F22: =IF(OR(A22="",$C$4=""),"",SUMIFS('作業日報'!$O$6:$O$55,'作業日報'!$K$6:$K$55,A22&"",'作業日報'!$A$6:$A$55,">="&$C$4,'作業日報'!$A$6:$A$55,"<="&$E$4)) | H22: =IF(OR(A22="",$C$4=""),"",SUMIFS('作業日報'!$Q$6:$Q$55,'作業日報'!$K$6:$K$55,A22&"",'作業日報'!$A$6:$A$55,">="&$C$4,'作業日報'!$A$6:$A$55,"<="&$E$4)) | J22: =IF(COUNT(H22,E10)<2,"",IF(E10<=0,"",H22/E10))
A24: 3. 現場ごと
A25: 現場 | D25: 件数 | F25: 作業時間 | H25: 延べ時間 | J25: 延べ時間の割合
D26: =IF(OR(A26="",$C$4=""),"",COUNTIFS('作業日報'!$C$6:$C$55,A26&"",'作業日報'!$A$6:$A$55,">="&$C$4,'作業日報'!$A$6:$A$55,"<="&$E$4)) | F26: =IF(OR(A26="",$C$4=""),"",SUMIFS('作業日報'!$O$6:$O$55,'作業日報'!$C$6:$C$55,A26&"",'作業日報'!$A$6:$A$55,">="&$C$4,'作業日報'!$A$6:$A$55,"<="&$E$4)) | H26: =IF(OR(A26="",$C$4=""),"",SUMIFS('作業日報'!$Q$6:$Q$55,'作業日報'!$C$6:$C$55,A26&"",'作業日報'!$A$6:$A$55,">="&$C$4,'作業日報'!$A$6:$A$55,"<="&$E$4)) | J26: =IF(COUNT(H26,E10)<2,"",IF(E10<=0,"",H26/E10))
D27: =IF(OR(A27="",$C$4=""),"",COUNTIFS('作業日報'!$C$6:$C$55,A27&"",'作業日報'!$A$6:$A$55,">="&$C$4,'作業日報'!$A$6:$A$55,"<="&$E$4)) | F27: =IF(OR(A27="",$C$4=""),"",SUMIFS('作業日報'!$O$6:$O$55,'作業日報'!$C$6:$C$55,A27&"",'作業日報'!$A$6:$A$55,">="&$C$4,'作業日報'!$A$6:$A$55,"<="&$E$4)) | H27: =IF(OR(A27="",$C$4=""),"",SUMIFS('作業日報'!$Q$6:$Q$55,'作業日報'!$C$6:$C$55,A27&"",'作業日報'!$A$6:$A$55,">="&$C$4,'作業日報'!$A$6:$A$55,"<="&$E$4)) | J27: =IF(COUNT(H27,E10)<2,"",IF(E10<=0,"",H27/E10))
D28: =IF(OR(A28="",$C$4=""),"",COUNTIFS('作業日報'!$C$6:$C$55,A28&"",'作業日報'!$A$6:$A$55,">="&$C$4,'作業日報'!$A$6:$A$55,"<="&$E$4)) | F28: =IF(OR(A28="",$C$4=""),"",SUMIFS('作業日報'!$O$6:$O$55,'作業日報'!$C$6:$C$55,A28&"",'作業日報'!$A$6:$A$55,">="&$C$4,'作業日報'!$A$6:$A$55,"<="&$E$4)) | H28: =IF(OR(A28="",$C$4=""),"",SUMIFS('作業日報'!$Q$6:$Q$55,'作業日報'!$C$6:$C$55,A28&"",'作業日報'!$A$6:$A$55,">="&$C$4,'作業日報'!$A$6:$A$55,"<="&$E$4)) | J28: =IF(COUNT(H28,E10)<2,"",IF(E10<=0,"",H28/E10))
D29: =IF(OR(A29="",$C$4=""),"",COUNTIFS('作業日報'!$C$6:$C$55,A29&"",'作業日報'!$A$6:$A$55,">="&$C$4,'作業日報'!$A$6:$A$55,"<="&$E$4)) | F29: =IF(OR(A29="",$C$4=""),"",SUMIFS('作業日報'!$O$6:$O$55,'作業日報'!$C$6:$C$55,A29&"",'作業日報'!$A$6:$A$55,">="&$C$4,'作業日報'!$A$6:$A$55,"<="&$E$4)) | H29: =IF(OR(A29="",$C$4=""),"",SUMIFS('作業日報'!$Q$6:$Q$55,'作業日報'!$C$6:$C$55,A29&"",'作業日報'!$A$6:$A$55,">="&$C$4,'作業日報'!$A$6:$A$55,"<="&$E$4)) | J29: =IF(COUNT(H29,E10)<2,"",IF(E10<=0,"",H29/E10))
D30: =IF(OR(A30="",$C$4=""),"",COUNTIFS('作業日報'!$C$6:$C$55,A30&"",'作業日報'!$A$6:$A$55,">="&$C$4,'作業日報'!$A$6:$A$55,"<="&$E$4)) | F30: =IF(OR(A30="",$C$4=""),"",SUMIFS('作業日報'!$O$6:$O$55,'作業日報'!$C$6:$C$55,A30&"",'作業日報'!$A$6:$A$55,">="&$C$4,'作業日報'!$A$6:$A$55,"<="&$E$4)) | H30: =IF(OR(A30="",$C$4=""),"",SUMIFS('作業日報'!$Q$6:$Q$55,'作業日報'!$C$6:$C$55,A30&"",'作業日報'!$A$6:$A$55,">="&$C$4,'作業日報'!$A$6:$A$55,"<="&$E$4)) | J30: =IF(COUNT(H30,E10)<2,"",IF(E10<=0,"",H30/E10))
D31: =IF(OR(A31="",$C$4=""),"",COUNTIFS('作業日報'!$C$6:$C$55,A31&"",'作業日報'!$A$6:$A$55,">="&$C$4,'作業日報'!$A$6:$A$55,"<="&$E$4)) | F31: =IF(OR(A31="",$C$4=""),"",SUMIFS('作業日報'!$O$6:$O$55,'作業日報'!$C$6:$C$55,A31&"",'作業日報'!$A$6:$A$55,">="&$C$4,'作業日報'!$A$6:$A$55,"<="&$E$4)) | H31: =IF(OR(A31="",$C$4=""),"",SUMIFS('作業日報'!$Q$6:$Q$55,'作業日報'!$C$6:$C$55,A31&"",'作業日報'!$A$6:$A$55,">="&$C$4,'作業日報'!$A$6:$A$55,"<="&$E$4)) | J31: =IF(COUNT(H31,E10)<2,"",IF(E10<=0,"",H31/E10))
A32: 現場の名前は、作業日報の「現場」の欄と同じ書き方で入れます（1字でも違うと数えません）。区分の名前は一覧と同じです。
A34: 4. 週ごとの記録
A35: 週 | B35: 初日 | C35: 最終日 | D35: 件数 | G35: 作業時間 | J35: 延べ時間
A36: 第1週 | B36: =IF($C$4="","",$C$4) | C36: =IF(B36="","",MIN($E$4,($C$4-MOD(WEEKDAY($C$4)+5,7))+6)) | D36: =IF(B36="","",COUNTIFS('作業日報'!$A$6:$A$55,">="&B36,'作業日報'!$A$6:$A$55,"<="&C36)) | G36: =IF(B36="","",SUMIFS('作業日報'!$O$6:$O$55,'作業日報'!$A$6:$A$55,">="&B36,'作業日報'!$A$6:$A$55,"<="&C36)) | J36: =IF(B36="","",SUMIFS('作業日報'!$Q$6:$Q$55,'作業日報'!$A$6:$A$55,">="&B36,'作業日報'!$A$6:$A$55,"<="&C36))
A37: 第2週 | B37: =IF($C$4="","",IF(($C$4-MOD(WEEKDAY($C$4)+5,7))+7>$E$4,"",($C$4-MOD(WEEKDAY($C$4)+5,7))+7)) | C37: =IF(B37="","",MIN($E$4,($C$4-MOD(WEEKDAY($C$4)+5,7))+13)) | D37: =IF(B37="","",COUNTIFS('作業日報'!$A$6:$A$55,">="&B37,'作業日報'!$A$6:$A$55,"<="&C37)) | G37: =IF(B37="","",SUMIFS('作業日報'!$O$6:$O$55,'作業日報'!$A$6:$A$55,">="&B37,'作業日報'!$A$6:$A$55,"<="&C37)) | J37: =IF(B37="","",SUMIFS('作業日報'!$Q$6:$Q$55,'作業日報'!$A$6:$A$55,">="&B37,'作業日報'!$A$6:$A$55,"<="&C37))
A38: 第3週 | B38: =IF($C$4="","",IF(($C$4-MOD(WEEKDAY($C$4)+5,7))+14>$E$4,"",($C$4-MOD(WEEKDAY($C$4)+5,7))+14)) | C38: =IF(B38="","",MIN($E$4,($C$4-MOD(WEEKDAY($C$4)+5,7))+20)) | D38: =IF(B38="","",COUNTIFS('作業日報'!$A$6:$A$55,">="&B38,'作業日報'!$A$6:$A$55,"<="&C38)) | G38: =IF(B38="","",SUMIFS('作業日報'!$O$6:$O$55,'作業日報'!$A$6:$A$55,">="&B38,'作業日報'!$A$6:$A$55,"<="&C38)) | J38: =IF(B38="","",SUMIFS('作業日報'!$Q$6:$Q$55,'作業日報'!$A$6:$A$55,">="&B38,'作業日報'!$A$6:$A$55,"<="&C38))
A39: 第4週 | B39: =IF($C$4="","",IF(($C$4-MOD(WEEKDAY($C$4)+5,7))+21>$E$4,"",($C$4-MOD(WEEKDAY($C$4)+5,7))+21)) | C39: =IF(B39="","",MIN($E$4,($C$4-MOD(WEEKDAY($C$4)+5,7))+27)) | D39: =IF(B39="","",COUNTIFS('作業日報'!$A$6:$A$55,">="&B39,'作業日報'!$A$6:$A$55,"<="&C39)) | G39: =IF(B39="","",SUMIFS('作業日報'!$O$6:$O$55,'作業日報'!$A$6:$A$55,">="&B39,'作業日報'!$A$6:$A$55,"<="&C39)) | J39: =IF(B39="","",SUMIFS('作業日報'!$Q$6:$Q$55,'作業日報'!$A$6:$A$55,">="&B39,'作業日報'!$A$6:$A$55,"<="&C39))
A40: 第5週 | B40: =IF($C$4="","",IF(($C$4-MOD(WEEKDAY($C$4)+5,7))+28>$E$4,"",($C$4-MOD(WEEKDAY($C$4)+5,7))+28)) | C40: =IF(B40="","",MIN($E$4,($C$4-MOD(WEEKDAY($C$4)+5,7))+34)) | D40: =IF(B40="","",COUNTIFS('作業日報'!$A$6:$A$55,">="&B40,'作業日報'!$A$6:$A$55,"<="&C40)) | G40: =IF(B40="","",SUMIFS('作業日報'!$O$6:$O$55,'作業日報'!$A$6:$A$55,">="&B40,'作業日報'!$A$6:$A$55,"<="&C40)) | J40: =IF(B40="","",SUMIFS('作業日報'!$Q$6:$Q$55,'作業日報'!$A$6:$A$55,">="&B40,'作業日報'!$A$6:$A$55,"<="&C40))
A41: 第6週 | B41: =IF($C$4="","",IF(($C$4-MOD(WEEKDAY($C$4)+5,7))+35>$E$4,"",($C$4-MOD(WEEKDAY($C$4)+5,7))+35)) | C41: =IF(B41="","",MIN($E$4,($C$4-MOD(WEEKDAY($C$4)+5,7))+41)) | D41: =IF(B41="","",COUNTIFS('作業日報'!$A$6:$A$55,">="&B41,'作業日報'!$A$6:$A$55,"<="&C41)) | G41: =IF(B41="","",SUMIFS('作業日報'!$O$6:$O$55,'作業日報'!$A$6:$A$55,">="&B41,'作業日報'!$A$6:$A$55,"<="&C41)) | J41: =IF(B41="","",SUMIFS('作業日報'!$Q$6:$Q$55,'作業日報'!$A$6:$A$55,">="&B41,'作業日報'!$A$6:$A$55,"<="&C41))
A42: 合計 | D42: =IF(COUNT(D36:D41)=0,"",SUM(D36:D41)) | G42: =IF(COUNT(G36:G41)=0,"",SUM(G36:G41)) | J42: =IF(COUNT(J36:J41)=0,"",SUM(J36:J41))
A44: 5. 今月のまとめ（月報の結論の下書き）
