Workbook

Sheet サマリー
A1: 広告運用レポート（サマリー） | K1: 年 月度
A3: クライアント | H3: 対象月
A4: 作成 | H4: 数字を取った日
A5: 媒体 | H5: CVの数え方
A7: 指標 | D7: 今月 | E7: 前月 | F7: 前月比 | G7: 目標 | H7: 目標の 向き | I7: 達成率 | J7: メモ（数字が動いた理由）
A8: 広告費 | D8: =IF('媒体別'!D17="","",'媒体別'!D17) | F8: =IF(COUNT(D8,E8)<2,"",IF(E8<=0,"",D8/E8-1)) | H8: 予算 | I8: =IF(COUNT(D8,G8)<2,"",IF(H8="以下",IF(D8<=0,"",G8/D8),IF(G8<=0,"",D8/G8)))
A9: 表示回数 | D9: =IF('媒体別'!E17="","",'媒体別'!E17) | F9: =IF(COUNT(D9,E9)<2,"",IF(E9<=0,"",D9/E9-1)) | I9: =IF(COUNT(D9,G9)<2,"",IF(H9="以下",IF(D9<=0,"",G9/D9),IF(G9<=0,"",D9/G9)))
A10: クリック数 | D10: =IF('媒体別'!F17="","",'媒体別'!F17) | F10: =IF(COUNT(D10,E10)<2,"",IF(E10<=0,"",D10/E10-1)) | I10: =IF(COUNT(D10,G10)<2,"",IF(H10="以下",IF(D10<=0,"",G10/D10),IF(G10<=0,"",D10/G10)))
A11: CTR（クリック数÷表示回数） | D11: =IF(COUNT(D10,D9)<2,"",IF(D9<=0,"",D10/D9)) | E11: =IF(COUNT(E10,E9)<2,"",IF(E9<=0,"",E10/E9)) | F11: =IF(COUNT(D11,E11)<2,"",ROUND(D11*100,2)-ROUND(E11*100,2)) | I11: =IF(COUNT(D11,G11)<2,"",IF(H11="以下",IF(D11<=0,"",G11/D11),IF(G11<=0,"",D11/G11)))
A12: CPC（広告費÷クリック数） | D12: =IF(COUNT(D8,D10)<2,"",IF(D10<=0,"",D8/D10)) | E12: =IF(COUNT(E8,E10)<2,"",IF(E10<=0,"",E8/E10)) | F12: =IF(COUNT(D12,E12)<2,"",IF(E12<=0,"",D12/E12-1)) | I12: =IF(COUNT(D12,G12)<2,"",IF(H12="以下",IF(D12<=0,"",G12/D12),IF(G12<=0,"",D12/G12)))
A13: CV数 | D13: =IF('媒体別'!I17="","",'媒体別'!I17) | F13: =IF(COUNT(D13,E13)<2,"",IF(E13<=0,"",D13/E13-1)) | H13: 以上 | I13: =IF(COUNT(D13,G13)<2,"",IF(H13="以下",IF(D13<=0,"",G13/D13),IF(G13<=0,"",D13/G13)))
A14: CVR（CV数÷クリック数） | D14: =IF(COUNT(D13,D10)<2,"",IF(D10<=0,"",D13/D10)) | E14: =IF(COUNT(E13,E10)<2,"",IF(E10<=0,"",E13/E10)) | F14: =IF(COUNT(D14,E14)<2,"",ROUND(D14*100,2)-ROUND(E14*100,2)) | I14: =IF(COUNT(D14,G14)<2,"",IF(H14="以下",IF(D14<=0,"",G14/D14),IF(G14<=0,"",D14/G14)))
A15: CPA（広告費÷CV数） | D15: =IF(COUNT(D8,D13)<2,"",IF(D13<=0,"",D8/D13)) | E15: =IF(COUNT(E8,E13)<2,"",IF(E13<=0,"",E8/E13)) | F15: =IF(COUNT(D15,E15)<2,"",IF(E15<=0,"",D15/E15-1)) | H15: 以下 | I15: =IF(COUNT(D15,G15)<2,"",IF(H15="以下",IF(D15<=0,"",G15/D15),IF(G15<=0,"",D15/G15)))
A16: 今月の広告費・表示回数・クリック数・CV数は、媒体別のシートの合計が入ります（数式）。媒体別のシートを使わないときは、数字で上書きします。
A17: 前月比＝今月÷前月−1（CTR・CVRの行は差をpt）。達成率＝今月÷目標。目標の向きが「以下」の行は目標÷今月、「予算」の行は予算消化率（今月÷予算）です。
A18: 色の付いた欄は数式で計算します。CV数は、どの列の数字か（Google 広告の[コンバージョン]列か[すべてのコンバージョン]列か）を上の「CVの数え方」に書き、毎月そろえます。
A20: 今月のまとめ（結論を3つ）

Sheet 月別の推移
A1: 月別の推移
A3: クライアント | I3: 単位 | K3: 円・回・件
A5: 月 | C5: 広告費 | D5: 表示回数 | E5: クリック数 | F5: CTR | G5: CPC | H5: CV数 | I5: CVR | J5: CPA | K5: CVの 前月比 | L5: メモ
F6: =IF(COUNT(E6,D6)<2,"",IF(D6<=0,"",E6/D6)) | G6: =IF(COUNT(C6,E6)<2,"",IF(E6<=0,"",C6/E6)) | I6: =IF(COUNT(H6,E6)<2,"",IF(E6<=0,"",H6/E6)) | J6: =IF(COUNT(C6,H6)<2,"",IF(H6<=0,"",C6/H6))
F7: =IF(COUNT(E7,D7)<2,"",IF(D7<=0,"",E7/D7)) | G7: =IF(COUNT(C7,E7)<2,"",IF(E7<=0,"",C7/E7)) | I7: =IF(COUNT(H7,E7)<2,"",IF(E7<=0,"",H7/E7)) | J7: =IF(COUNT(C7,H7)<2,"",IF(H7<=0,"",C7/H7)) | K7: =IF(COUNT(H7,H6)<2,"",IF(H6<=0,"",H7/H6-1))
F8: =IF(COUNT(E8,D8)<2,"",IF(D8<=0,"",E8/D8)) | G8: =IF(COUNT(C8,E8)<2,"",IF(E8<=0,"",C8/E8)) | I8: =IF(COUNT(H8,E8)<2,"",IF(E8<=0,"",H8/E8)) | J8: =IF(COUNT(C8,H8)<2,"",IF(H8<=0,"",C8/H8)) | K8: =IF(COUNT(H8,H7)<2,"",IF(H7<=0,"",H8/H7-1))
F9: =IF(COUNT(E9,D9)<2,"",IF(D9<=0,"",E9/D9)) | G9: =IF(COUNT(C9,E9)<2,"",IF(E9<=0,"",C9/E9)) | I9: =IF(COUNT(H9,E9)<2,"",IF(E9<=0,"",H9/E9)) | J9: =IF(COUNT(C9,H9)<2,"",IF(H9<=0,"",C9/H9)) | K9: =IF(COUNT(H9,H8)<2,"",IF(H8<=0,"",H9/H8-1))
F10: =IF(COUNT(E10,D10)<2,"",IF(D10<=0,"",E10/D10)) | G10: =IF(COUNT(C10,E10)<2,"",IF(E10<=0,"",C10/E10)) | I10: =IF(COUNT(H10,E10)<2,"",IF(E10<=0,"",H10/E10)) | J10: =IF(COUNT(C10,H10)<2,"",IF(H10<=0,"",C10/H10)) | K10: =IF(COUNT(H10,H9)<2,"",IF(H9<=0,"",H10/H9-1))
F11: =IF(COUNT(E11,D11)<2,"",IF(D11<=0,"",E11/D11)) | G11: =IF(COUNT(C11,E11)<2,"",IF(E11<=0,"",C11/E11)) | I11: =IF(COUNT(H11,E11)<2,"",IF(E11<=0,"",H11/E11)) | J11: =IF(COUNT(C11,H11)<2,"",IF(H11<=0,"",C11/H11)) | K11: =IF(COUNT(H11,H10)<2,"",IF(H10<=0,"",H11/H10-1))
F12: =IF(COUNT(E12,D12)<2,"",IF(D12<=0,"",E12/D12)) | G12: =IF(COUNT(C12,E12)<2,"",IF(E12<=0,"",C12/E12)) | I12: =IF(COUNT(H12,E12)<2,"",IF(E12<=0,"",H12/E12)) | J12: =IF(COUNT(C12,H12)<2,"",IF(H12<=0,"",C12/H12)) | K12: =IF(COUNT(H12,H11)<2,"",IF(H11<=0,"",H12/H11-1))
F13: =IF(COUNT(E13,D13)<2,"",IF(D13<=0,"",E13/D13)) | G13: =IF(COUNT(C13,E13)<2,"",IF(E13<=0,"",C13/E13)) | I13: =IF(COUNT(H13,E13)<2,"",IF(E13<=0,"",H13/E13)) | J13: =IF(COUNT(C13,H13)<2,"",IF(H13<=0,"",C13/H13)) | K13: =IF(COUNT(H13,H12)<2,"",IF(H12<=0,"",H13/H12-1))
F14: =IF(COUNT(E14,D14)<2,"",IF(D14<=0,"",E14/D14)) | G14: =IF(COUNT(C14,E14)<2,"",IF(E14<=0,"",C14/E14)) | I14: =IF(COUNT(H14,E14)<2,"",IF(E14<=0,"",H14/E14)) | J14: =IF(COUNT(C14,H14)<2,"",IF(H14<=0,"",C14/H14)) | K14: =IF(COUNT(H14,H13)<2,"",IF(H13<=0,"",H14/H13-1))
F15: =IF(COUNT(E15,D15)<2,"",IF(D15<=0,"",E15/D15)) | G15: =IF(COUNT(C15,E15)<2,"",IF(E15<=0,"",C15/E15)) | I15: =IF(COUNT(H15,E15)<2,"",IF(E15<=0,"",H15/E15)) | J15: =IF(COUNT(C15,H15)<2,"",IF(H15<=0,"",C15/H15)) | K15: =IF(COUNT(H15,H14)<2,"",IF(H14<=0,"",H15/H14-1))
F16: =IF(COUNT(E16,D16)<2,"",IF(D16<=0,"",E16/D16)) | G16: =IF(COUNT(C16,E16)<2,"",IF(E16<=0,"",C16/E16)) | I16: =IF(COUNT(H16,E16)<2,"",IF(E16<=0,"",H16/E16)) | J16: =IF(COUNT(C16,H16)<2,"",IF(H16<=0,"",C16/H16)) | K16: =IF(COUNT(H16,H15)<2,"",IF(H15<=0,"",H16/H15-1))
F17: =IF(COUNT(E17,D17)<2,"",IF(D17<=0,"",E17/D17)) | G17: =IF(COUNT(C17,E17)<2,"",IF(E17<=0,"",C17/E17)) | I17: =IF(COUNT(H17,E17)<2,"",IF(E17<=0,"",H17/E17)) | J17: =IF(COUNT(C17,H17)<2,"",IF(H17<=0,"",C17/H17)) | K17: =IF(COUNT(H17,H16)<2,"",IF(H16<=0,"",H17/H16-1))
F18: =IF(COUNT(E18,D18)<2,"",IF(D18<=0,"",E18/D18)) | G18: =IF(COUNT(C18,E18)<2,"",IF(E18<=0,"",C18/E18)) | I18: =IF(COUNT(H18,E18)<2,"",IF(E18<=0,"",H18/E18)) | J18: =IF(COUNT(C18,H18)<2,"",IF(H18<=0,"",C18/H18)) | K18: =IF(COUNT(H18,H17)<2,"",IF(H17<=0,"",H18/H17-1))
... F29: =IF(COUNT(E29,D29)<2,"",IF(D29<=0,"",E29/D29)) | G29: =IF(COUNT(C29,E29)<2,"",IF(E29<=0,"",C29/E29)) | I29: =IF(COUNT(H29,E29)<2,"",IF(E29<=0,"",H29/E29)) | J29: =IF(COUNT(C29,H29)<2,"",IF(H29<=0,"",C29/H29)) | K29: =IF(COUNT(H29,H28)<2,"",IF(H28<=0,"",H29/H28-1))
A30: 毎月、いちばん下の空いた行に1か月分を書き足します（上から順に、あいだをあけずに）。行が足りなくなったら、表の途中に行を挿入します。
A31: CTR・CPC・CVR・CPAは、その月の数字から計算します。CVの前月比＝その月のCV数÷1行上の月のCV数−1。色の付いた欄は数式で計算します。
A32: Google 広告の[コンバージョン]列は広告がクリックされた日で数えるため、前の月のCV数があとから増えることがあります。直したときはメモに書いておきます。
A34: 今月と前年同月
A35: 入力した月の数 | C35: =COUNTA($A$6:$A$29) | D35: ← 月の欄に入れた行の数。いちばん下に入れた月を今月、その12行上の月を前年同月として比べます（13か月分から）。
C36: 広告費 | D36: 表示回数 | E36: クリック数 | F36: CTR | G36: CPC | H36: CV数 | I36: CVR | J36: CPA | K36: 月
A37: 今月 | C37: =IF($C$35<1,"",IF(INDEX($C$6:$C$29,$C$35)="","",INDEX($C$6:$C$29,$C$35))) | D37: =IF($C$35<1,"",IF(INDEX($D$6:$D$29,$C$35)="","",INDEX($D$6:$D$29,$C$35))) | E37: =IF($C$35<1,"",IF(INDEX($E$6:$E$29,$C$35)="","",INDEX($E$6:$E$29,$C$35))) | F37: =IF(COUNT(E37,D37)<2,"",IF(D37<=0,"",E37/D37)) | G37: =IF(COUNT(C37,E37)<2,"",IF(E37<=0,"",C37/E37)) | H37: =IF($C$35<1,"",IF(INDEX($H$6:$H$29,$C$35)="","",INDEX($H$6:$H$29,$C$35))) | I37: =IF(COUNT(H37,E37)<2,"",IF(E37<=0,"",H37/E37)) | J37: =IF(COUNT(C37,H37)<2,"",IF(H37<=0,"",C37/H37)) | K37: =IF($C$35<1,"",INDEX($A$6:$A$29,$C$35))
A38: 前年同月 | C38: =IF($C$35<13,"",IF(INDEX($C$6:$C$29,$C$35-12)="","",INDEX($C$6:$C$29,$C$35-12))) | D38: =IF($C$35<13,"",IF(INDEX($D$6:$D$29,$C$35-12)="","",INDEX($D$6:$D$29,$C$35-12))) | E38: =IF($C$35<13,"",IF(INDEX($E$6:$E$29,$C$35-12)="","",INDEX($E$6:$E$29,$C$35-12))) | F38: =IF(COUNT(E38,D38)<2,"",IF(D38<=0,"",E38/D38)) | G38: =IF(COUNT(C38,E38)<2,"",IF(E38<=0,"",C38/E38)) | H38: =IF($C$35<13,"",IF(INDEX($H$6:$H$29,$C$35-12)="","",INDEX($H$6:$H$29,$C$35-12))) | I38: =IF(COUNT(H38,E38)<2,"",IF(E38<=0,"",H38/E38)) | J38: =IF(COUNT(C38,H38)<2,"",IF(H38<=0,"",C38/H38)) | K38: =IF($C$35<13,"",INDEX($A$6:$A$29,$C$35-12))
A39: 前年同月比 | C39: =IF(COUNT(C37,C38)<2,"",IF(C38<=0,"",C37/C38-1)) | D39: =IF(COUNT(D37,D38)<2,"",IF(D38<=0,"",D37/D38-1)) | E39: =IF(COUNT(E37,E38)<2,"",IF(E38<=0,"",E37/E38-1)) | F39: =IF(COUNT(F37,F38)<2,"",ROUND(F37*100,2)-ROUND(F38*100,2)) | G39: =IF(COUNT(G37,G38)<2,"",IF(G38<=0,"",G37/G38-1)) | H39: =IF(COUNT(H37,H38)<2,"",IF(H38<=0,"",H37/H38-1)) | I39: =IF(COUNT(I37,I38)<2,"",ROUND(I37*100,2)-ROUND(I38*100,2)) | J39: =IF(COUNT(J37,J38)<2,"",IF(J38<=0,"",J37/J38-1))
A40: 前年同月比＝今月÷前年同月−1（CTR・CVRは差をpt）。月が13か月分そろうと出ます。

Sheet 媒体別
A1: 媒体別の実績・CVの内訳 | O1: 年 月
A3: クライアント | J3: 対象月
A4: 数字を取った日 | J4: 単位 | M4: 円・回・件
A6: 媒体 | D6: 広告費 | E6: 表示回数 | F6: クリック数 | G6: CTR | H6: CPC | I6: CV数 | J6: CVR | K6: CPA | L6: 前月の CV数 | M6: CVの 前月比 | N6: 広告費の 構成比 | O6: CVの 構成比 | P6: メモ
G7: =IF(COUNT(F7,E7)<2,"",IF(E7<=0,"",F7/E7)) | H7: =IF(COUNT(D7,F7)<2,"",IF(F7<=0,"",D7/F7)) | J7: =IF(COUNT(I7,F7)<2,"",IF(F7<=0,"",I7/F7)) | K7: =IF(COUNT(D7,I7)<2,"",IF(I7<=0,"",D7/I7)) | M7: =IF(COUNT(I7,L7)<2,"",IF(L7<=0,"",I7/L7-1)) | N7: =IF(COUNT(D7,D$17)<2,"",IF(D$17<=0,"",D7/D$17)) | O7: =IF(COUNT(I7,I$17)<2,"",IF(I$17<=0,"",I7/I$17))
G8: =IF(COUNT(F8,E8)<2,"",IF(E8<=0,"",F8/E8)) | H8: =IF(COUNT(D8,F8)<2,"",IF(F8<=0,"",D8/F8)) | J8: =IF(COUNT(I8,F8)<2,"",IF(F8<=0,"",I8/F8)) | K8: =IF(COUNT(D8,I8)<2,"",IF(I8<=0,"",D8/I8)) | M8: =IF(COUNT(I8,L8)<2,"",IF(L8<=0,"",I8/L8-1)) | N8: =IF(COUNT(D8,D$17)<2,"",IF(D$17<=0,"",D8/D$17)) | O8: =IF(COUNT(I8,I$17)<2,"",IF(I$17<=0,"",I8/I$17))
G9: =IF(COUNT(F9,E9)<2,"",IF(E9<=0,"",F9/E9)) | H9: =IF(COUNT(D9,F9)<2,"",IF(F9<=0,"",D9/F9)) | J9: =IF(COUNT(I9,F9)<2,"",IF(F9<=0,"",I9/F9)) | K9: =IF(COUNT(D9,I9)<2,"",IF(I9<=0,"",D9/I9)) | M9: =IF(COUNT(I9,L9)<2,"",IF(L9<=0,"",I9/L9-1)) | N9: =IF(COUNT(D9,D$17)<2,"",IF(D$17<=0,"",D9/D$17)) | O9: =IF(COUNT(I9,I$17)<2,"",IF(I$17<=0,"",I9/I$17))
G10: =IF(COUNT(F10,E10)<2,"",IF(E10<=0,"",F10/E10)) | H10: =IF(COUNT(D10,F10)<2,"",IF(F10<=0,"",D10/F10)) | J10: =IF(COUNT(I10,F10)<2,"",IF(F10<=0,"",I10/F10)) | K10: =IF(COUNT(D10,I10)<2,"",IF(I10<=0,"",D10/I10)) | M10: =IF(COUNT(I10,L10)<2,"",IF(L10<=0,"",I10/L10-1)) | N10: =IF(COUNT(D10,D$17)<2,"",IF(D$17<=0,"",D10/D$17)) | O10: =IF(COUNT(I10,I$17)<2,"",IF(I$17<=0,"",I10/I$17))
G11: =IF(COUNT(F11,E11)<2,"",IF(E11<=0,"",F11/E11)) | H11: =IF(COUNT(D11,F11)<2,"",IF(F11<=0,"",D11/F11)) | J11: =IF(COUNT(I11,F11)<2,"",IF(F11<=0,"",I11/F11)) | K11: =IF(COUNT(D11,I11)<2,"",IF(I11<=0,"",D11/I11)) | M11: =IF(COUNT(I11,L11)<2,"",IF(L11<=0,"",I11/L11-1)) | N11: =IF(COUNT(D11,D$17)<2,"",IF(D$17<=0,"",D11/D$17)) | O11: =IF(COUNT(I11,I$17)<2,"",IF(I$17<=0,"",I11/I$17))
G12: =IF(COUNT(F12,E12)<2,"",IF(E12<=0,"",F12/E12)) | H12: =IF(COUNT(D12,F12)<2,"",IF(F12<=0,"",D12/F12)) | J12: =IF(COUNT(I12,F12)<2,"",IF(F12<=0,"",I12/F12)) | K12: =IF(COUNT(D12,I12)<2,"",IF(I12<=0,"",D12/I12)) | M12: =IF(COUNT(I12,L12)<2,"",IF(L12<=0,"",I12/L12-1)) | N12: =IF(COUNT(D12,D$17)<2,"",IF(D$17<=0,"",D12/D$17)) | O12: =IF(COUNT(I12,I$17)<2,"",IF(I$17<=0,"",I12/I$17))
G13: =IF(COUNT(F13,E13)<2,"",IF(E13<=0,"",F13/E13)) | H13: =IF(COUNT(D13,F13)<2,"",IF(F13<=0,"",D13/F13)) | J13: =IF(COUNT(I13,F13)<2,"",IF(F13<=0,"",I13/F13)) | K13: =IF(COUNT(D13,I13)<2,"",IF(I13<=0,"",D13/I13)) | M13: =IF(COUNT(I13,L13)<2,"",IF(L13<=0,"",I13/L13-1)) | N13: =IF(COUNT(D13,D$17)<2,"",IF(D$17<=0,"",D13/D$17)) | O13: =IF(COUNT(I13,I$17)<2,"",IF(I$17<=0,"",I13/I$17))
G14: =IF(COUNT(F14,E14)<2,"",IF(E14<=0,"",F14/E14)) | H14: =IF(COUNT(D14,F14)<2,"",IF(F14<=0,"",D14/F14)) | J14: =IF(COUNT(I14,F14)<2,"",IF(F14<=0,"",I14/F14)) | K14: =IF(COUNT(D14,I14)<2,"",IF(I14<=0,"",D14/I14)) | M14: =IF(COUNT(I14,L14)<2,"",IF(L14<=0,"",I14/L14-1)) | N14: =IF(COUNT(D14,D$17)<2,"",IF(D$17<=0,"",D14/D$17)) | O14: =IF(COUNT(I14,I$17)<2,"",IF(I$17<=0,"",I14/I$17))
G15: =IF(COUNT(F15,E15)<2,"",IF(E15<=0,"",F15/E15)) | H15: =IF(COUNT(D15,F15)<2,"",IF(F15<=0,"",D15/F15)) | J15: =IF(COUNT(I15,F15)<2,"",IF(F15<=0,"",I15/F15)) | K15: =IF(COUNT(D15,I15)<2,"",IF(I15<=0,"",D15/I15)) | M15: =IF(COUNT(I15,L15)<2,"",IF(L15<=0,"",I15/L15-1)) | N15: =IF(COUNT(D15,D$17)<2,"",IF(D$17<=0,"",D15/D$17)) | O15: =IF(COUNT(I15,I$17)<2,"",IF(I$17<=0,"",I15/I$17))
G16: =IF(COUNT(F16,E16)<2,"",IF(E16<=0,"",F16/E16)) | H16: =IF(COUNT(D16,F16)<2,"",IF(F16<=0,"",D16/F16)) | J16: =IF(COUNT(I16,F16)<2,"",IF(F16<=0,"",I16/F16)) | K16: =IF(COUNT(D16,I16)<2,"",IF(I16<=0,"",D16/I16)) | M16: =IF(COUNT(I16,L16)<2,"",IF(L16<=0,"",I16/L16-1)) | N16: =IF(COUNT(D16,D$17)<2,"",IF(D$17<=0,"",D16/D$17)) | O16: =IF(COUNT(I16,I$17)<2,"",IF(I$17<=0,"",I16/I$17))
A17: 合計 | D17: =IF(COUNT(D7:D16)=0,"",SUM(D7:D16)) | E17: =IF(COUNT(E7:E16)=0,"",SUM(E7:E16)) | F17: =IF(COUNT(F7:F16)=0,"",SUM(F7:F16)) | G17: =IF(COUNT(F17,E17)<2,"",IF(E17<=0,"",F17/E17)) | H17: =IF(COUNT(D17,F17)<2,"",IF(F17<=0,"",D17/F17)) | I17: =IF(COUNT(I7:I16)=0,"",SUM(I7:I16)) | J17: =IF(COUNT(I17,F17)<2,"",IF(F17<=0,"",I17/F17)) | K17: =IF(COUNT(D17,I17)<2,"",IF(I17<=0,"",D17/I17)) | L17: =IF(COUNT(L7:L16)=0,"",SUM(L7:L16)) | M17: =IF(COUNT(I17,L17)<2,"",IF(L17<=0,"",I17/L17-1)) | N17: =IF(COUNT(D17,D17)<2,"",IF(D17<=0,"",D17/D17)) | O17: =IF(COUNT(I17,I17)<2,"",IF(I17<=0,"",I17/I17))
A18: CTR＝クリック数÷表示回数、CPC＝広告費÷クリック数、CVR＝CV数÷クリック数、CPA＝広告費÷CV数、構成比＝その媒体の数÷合計。色の付いた欄は数式で計算します。
A19: 合計の行のCTR・CPC・CVR・CPAは、合計の数字から計算します。媒体の率を平均すると、表示回数やCV数の少ない媒体も同じ重さで数えられ、実際とずれます。
A20: 媒体によって、指標の名前と数え方が違います。CV数にどの列の数字を入れたか（Google 広告の[コンバージョン]列など）を、メモか欄外に書いておきます。
A22: デバイス別のCV
A23: デバイス | D23: クリック数 | E23: CV数 | F23: CVR | G23: CVの 構成比 | H23: メモ
A24: スマートフォン | F24: =IF(COUNT(E24,D24)<2,"",IF(D24<=0,"",E24/D24)) | G24: =IF(COUNT(E24,E$28)<2,"",IF(E$28<=0,"",E24/E$28))
A25: パソコン | F25: =IF(COUNT(E25,D25)<2,"",IF(D25<=0,"",E25/D25)) | G25: =IF(COUNT(E25,E$28)<2,"",IF(E$28<=0,"",E25/E$28))
A26: タブレット | F26: =IF(COUNT(E26,D26)<2,"",IF(D26<=0,"",E26/D26)) | G26: =IF(COUNT(E26,E$28)<2,"",IF(E$28<=0,"",E26/E$28))
F27: =IF(COUNT(E27,D27)<2,"",IF(D27<=0,"",E27/D27)) | G27: =IF(COUNT(E27,E$28)<2,"",IF(E$28<=0,"",E27/E$28))
A28: 合計 | D28: =IF(COUNT(D24:D27)=0,"",SUM(D24:D27)) | E28: =IF(COUNT(E24:E27)=0,"",SUM(E24:E27)) | F28: =IF(COUNT(E28,D28)<2,"",IF(D28<=0,"",E28/D28)) | G28: =IF(COUNT(E28,E28)<2,"",IF(E28<=0,"",E28/E28))
A29: CVR＝CV数÷クリック数、構成比＝そのデバイスのCV数÷合計。デバイス別の合計は、上の表の合計と同じになるはずです（違うときは、数字を取った日や列を確かめます）。

Sheet キャンペーン別
A1: キャンペーン別の実績 | M1: 年 月
A3: クライアント | I3: 対象月
A4: 数字を取った日 | I4: 並べ方
A6: 目標CPA（サマリーの目標） | D6: =IF('サマリー'!G15="","",'サマリー'!G15) | E6: 見直しの目安のCPA | I6: ← CPAがこの金額を超えたキャンペーンは、判定が「見直し」になります。
A8: キャンペーン | E8: 媒体 | G8: 広告費 | H8: CV数 | I8: CPA | J8: 目標CPA との差 | K8: 判定 | L8: 広告費の 構成比 | M8: CVの 構成比 | N8: メモ
I9: =IF(COUNT(G9,H9)<2,"",IF(H9<=0,"",G9/H9)) | J9: =IF(OR(I9="",$D$6=""),"",I9-$D$6) | K9: =IF(OR(I9="",$D$6=""),"",IF(I9<=$D$6,"目標以下",IF(AND($H$6<>"",I9>$H$6),"見直し","目標超え"))) | L9: =IF(COUNT(G9,G$29)<2,"",IF(G$29<=0,"",G9/G$29)) | M9: =IF(COUNT(H9,H$29)<2,"",IF(H$29<=0,"",H9/H$29))
I10: =IF(COUNT(G10,H10)<2,"",IF(H10<=0,"",G10/H10)) | J10: =IF(OR(I10="",$D$6=""),"",I10-$D$6) | K10: =IF(OR(I10="",$D$6=""),"",IF(I10<=$D$6,"目標以下",IF(AND($H$6<>"",I10>$H$6),"見直し","目標超え"))) | L10: =IF(COUNT(G10,G$29)<2,"",IF(G$29<=0,"",G10/G$29)) | M10: =IF(COUNT(H10,H$29)<2,"",IF(H$29<=0,"",H10/H$29))
I11: =IF(COUNT(G11,H11)<2,"",IF(H11<=0,"",G11/H11)) | J11: =IF(OR(I11="",$D$6=""),"",I11-$D$6) | K11: =IF(OR(I11="",$D$6=""),"",IF(I11<=$D$6,"目標以下",IF(AND($H$6<>"",I11>$H$6),"見直し","目標超え"))) | L11: =IF(COUNT(G11,G$29)<2,"",IF(G$29<=0,"",G11/G$29)) | M11: =IF(COUNT(H11,H$29)<2,"",IF(H$29<=0,"",H11/H$29))
I12: =IF(COUNT(G12,H12)<2,"",IF(H12<=0,"",G12/H12)) | J12: =IF(OR(I12="",$D$6=""),"",I12-$D$6) | K12: =IF(OR(I12="",$D$6=""),"",IF(I12<=$D$6,"目標以下",IF(AND($H$6<>"",I12>$H$6),"見直し","目標超え"))) | L12: =IF(COUNT(G12,G$29)<2,"",IF(G$29<=0,"",G12/G$29)) | M12: =IF(COUNT(H12,H$29)<2,"",IF(H$29<=0,"",H12/H$29))
I13: =IF(COUNT(G13,H13)<2,"",IF(H13<=0,"",G13/H13)) | J13: =IF(OR(I13="",$D$6=""),"",I13-$D$6) | K13: =IF(OR(I13="",$D$6=""),"",IF(I13<=$D$6,"目標以下",IF(AND($H$6<>"",I13>$H$6),"見直し","目標超え"))) | L13: =IF(COUNT(G13,G$29)<2,"",IF(G$29<=0,"",G13/G$29)) | M13: =IF(COUNT(H13,H$29)<2,"",IF(H$29<=0,"",H13/H$29))
I14: =IF(COUNT(G14,H14)<2,"",IF(H14<=0,"",G14/H14)) | J14: =IF(OR(I14="",$D$6=""),"",I14-$D$6) | K14: =IF(OR(I14="",$D$6=""),"",IF(I14<=$D$6,"目標以下",IF(AND($H$6<>"",I14>$H$6),"見直し","目標超え"))) | L14: =IF(COUNT(G14,G$29)<2,"",IF(G$29<=0,"",G14/G$29)) | M14: =IF(COUNT(H14,H$29)<2,"",IF(H$29<=0,"",H14/H$29))
I15: =IF(COUNT(G15,H15)<2,"",IF(H15<=0,"",G15/H15)) | J15: =IF(OR(I15="",$D$6=""),"",I15-$D$6) | K15: =IF(OR(I15="",$D$6=""),"",IF(I15<=$D$6,"目標以下",IF(AND($H$6<>"",I15>$H$6),"見直し","目標超え"))) | L15: =IF(COUNT(G15,G$29)<2,"",IF(G$29<=0,"",G15/G$29)) | M15: =IF(COUNT(H15,H$29)<2,"",IF(H$29<=0,"",H15/H$29))
I16: =IF(COUNT(G16,H16)<2,"",IF(H16<=0,"",G16/H16)) | J16: =IF(OR(I16="",$D$6=""),"",I16-$D$6) | K16: =IF(OR(I16="",$D$6=""),"",IF(I16<=$D$6,"目標以下",IF(AND($H$6<>"",I16>$H$6),"見直し","目標超え"))) | L16: =IF(COUNT(G16,G$29)<2,"",IF(G$29<=0,"",G16/G$29)) | M16: =IF(COUNT(H16,H$29)<2,"",IF(H$29<=0,"",H16/H$29))
I17: =IF(COUNT(G17,H17)<2,"",IF(H17<=0,"",G17/H17)) | J17: =IF(OR(I17="",$D$6=""),"",I17-$D$6) | K17: =IF(OR(I17="",$D$6=""),"",IF(I17<=$D$6,"目標以下",IF(AND($H$6<>"",I17>$H$6),"見直し","目標超え"))) | L17: =IF(COUNT(G17,G$29)<2,"",IF(G$29<=0,"",G17/G$29)) | M17: =IF(COUNT(H17,H$29)<2,"",IF(H$29<=0,"",H17/H$29))
I18: =IF(COUNT(G18,H18)<2,"",IF(H18<=0,"",G18/H18)) | J18: =IF(OR(I18="",$D$6=""),"",I18-$D$6) | K18: =IF(OR(I18="",$D$6=""),"",IF(I18<=$D$6,"目標以下",IF(AND($H$6<>"",I18>$H$6),"見直し","目標超え"))) | L18: =IF(COUNT(G18,G$29)<2,"",IF(G$29<=0,"",G18/G$29)) | M18: =IF(COUNT(H18,H$29)<2,"",IF(H$29<=0,"",H18/H$29))
I19: =IF(COUNT(G19,H19)<2,"",IF(H19<=0,"",G19/H19)) | J19: =IF(OR(I19="",$D$6=""),"",I19-$D$6) | K19: =IF(OR(I19="",$D$6=""),"",IF(I19<=$D$6,"目標以下",IF(AND($H$6<>"",I19>$H$6),"見直し","目標超え"))) | L19: =IF(COUNT(G19,G$29)<2,"",IF(G$29<=0,"",G19/G$29)) | M19: =IF(COUNT(H19,H$29)<2,"",IF(H$29<=0,"",H19/H$29))
I20: =IF(COUNT(G20,H20)<2,"",IF(H20<=0,"",G20/H20)) | J20: =IF(OR(I20="",$D$6=""),"",I20-$D$6) | K20: =IF(OR(I20="",$D$6=""),"",IF(I20<=$D$6,"目標以下",IF(AND($H$6<>"",I20>$H$6),"見直し","目標超え"))) | L20: =IF(COUNT(G20,G$29)<2,"",IF(G$29<=0,"",G20/G$29)) | M20: =IF(COUNT(H20,H$29)<2,"",IF(H$29<=0,"",H20/H$29))
... I28: =IF(COUNT(G28,H28)<2,"",IF(H28<=0,"",G28/H28)) | J28: =IF(OR(I28="",$D$6=""),"",I28-$D$6) | K28: =IF(OR(I28="",$D$6=""),"",IF(I28<=$D$6,"目標以下",IF(AND($H$6<>"",I28>$H$6),"見直し","目標超え"))) | L28: =IF(COUNT(G28,G$29)<2,"",IF(G$29<=0,"",G28/G$29)) | M28: =IF(COUNT(H28,H$29)<2,"",IF(H$29<=0,"",H28/H$29))
A29: 合計 | G29: =IF(COUNT(G9:G28)=0,"",SUM(G9:G28)) | H29: =IF(COUNT(H9:H28)=0,"",SUM(H9:H28)) | I29: =IF(COUNT(G29,H29)<2,"",IF(H29<=0,"",G29/H29)) | J29: =IF(OR(I29="",$D$6=""),"",I29-$D$6) | K29: =IF(OR(I29="",$D$6=""),"",IF(I29<=$D$6,"目標以下",IF(AND($H$6<>"",I29>$H$6),"見直し","目標超え"))) | L29: =IF(COUNT(G29,G29)<2,"",IF(G29<=0,"",G29/G29)) | M29: =IF(COUNT(H29,H29)<2,"",IF(H29<=0,"",H29/H29))
A30: 媒体別のシートの合計との差（0なら一致） | G30: =IF(COUNT(G29,'媒体別'!D17)<2,"",G29-'媒体別'!D17) | H30: =IF(COUNT(H29,'媒体別'!I17)<2,"",H29-'媒体別'!I17)
A31: CPA＝広告費÷CV数、目標CPAとの差＝CPA−目標CPA、構成比＝そのキャンペーンの数÷合計。色の付いた欄は数式で計算します。
A32: 判定：CPAが目標CPA以下なら「目標以下」、見直しの目安を超えたら「見直し」、そのあいだは「目標超え」。目標CPAには、サマリーのシートのCPAの目標が入ります。
A33: キャンペーンの合計は、媒体別のシートの合計と同じになるはずです。差が0でないときは、抜けているキャンペーンや、数字を取った日の違いを確かめます。

Sheet 所見と来月の打ち手
A1: 所見と来月の打ち手 | I1: 年 月度
A3: 今月やったことと結果（前月の打ち手）
A4: 実施日 | B4: やったこと | G4: 見る数字 | I4: 前 | J4: 後 | K4: 変化
A9: 前は打ち手の前の月、後は今月の数字。CV数・CPA・CVR・CTRのうち、その打ち手で動かしたい数字を1つ選びます。
A11: 所見（数字の変化と、その理由）
A18: 来月の打ち手
A19: 施策 | F19: ねらい（動かしたい数字） | I19: 期限 | K19: 担当
A26: 来月の目標
A27: 広告費 | E27: CV数 | I27: CPA
A29: クライアントに確認したいこと
A35: 備考
